{"text_format":"2","workbook":"xlsx","n_sheets":5,"sheets":["성과지표","2024","학술행사","정치행사","Sheet1"],"not_rendered":{"charts":0,"images":0,"macros":0,"external_links":0,"defined_names":7,"comments":0,"pivot_tables":0},"unopened":[],"bounds":{"document_bytes":16777216,"sheet_cells":100000,"run_cost":"one","rows_first":2000,"rows_last":500,"rows_between":2000,"halvings":0,"cell_chars":16384,"cell_head_chars":4096},"cells_cut":0,"cells_raw":0,"read":"whole","date_system":"1900"}

{"sheet":"성과지표","index":0,"n_rows":15,"n_cols":12,"rows_kept":15,"cut":false,"hidden":true,"merged":[[14,0,14,3],[9,0,11,0],[9,1,11,1],[9,6,9,10],[12,0,13,0],[12,1,13,1],[1,0,2,0],[1,1,2,1],[1,2,2,2],[1,6,1,10],[4,0,8,0],[4,1,8,1],[4,6,4,10],[5,6,5,10],[1,11,2,11],[6,6,6,10],[1,3,2,3],[1,4,2,4],[1,5,2,5],[3,6,3,10]]}
[]
["관점","전략과제","핵심성과지표","평가\n구분","가중치","목표","평가구간",{"$nulls":4},"비고"]
[{"$nulls":6},0,0.25,0.5,0.75,1]
["재무","수익 강화","회의실 임대수입 목표 달성","계량",50,"1,090백만원","목표대실적평가",{"$nulls":4},"전년 실적(964백만원)의 110%\n목표액 1,059백만원에서 조정"]
["내부\n업무","컨벤션 \n활성화","국제회의 개최건수(외국인참가자수10명이상)","계량",5,"25건","목표대실적평가"]
[null,null,"대형 학술행사 개최건수","계량",5,"30건","목표대실적평가"]
[null,null,"기타 기업회의 개최건수","계량",2,"850건","목표대실적평가",{"$nulls":4},"805건"]
[null,null,"13년 국제회의 및 대형학술행사 사전유치","계량",5,"70%초과","40%이하","40%초과\n~50%이하","50%초과\n~60%이하","60%초과\n~70%이하","70%초과","13년 국제회의/대형학술행사 \n65건 유치목표"]
[null,null,"신규(잠재)고객 DB 구축","계량",3,"10% 이상","4%미만","4%이상~\n6%미만","6%이상~\n8%미만","8% 이상~10%미만","10% 이상"]
["고객","고객만족 \n극대화","야외무대 문화프로그램 개최건수","계량",2,"18회","목표대실적평가",{"$nulls":4},"18회"]
[null,null,"고객만족도조사 실시 추세분석 및 제도 개선","계량",3,"실시,5건","미실시","실시/개선\n1건이하","실시/개선\n2건~3건","실시/개선\n4건~5건","실시/개선\n5건 초과"]
[null,null,"행안부 고객만족도 조사결과(임대사업)","계량",5,"90점이상","80점미만","80점이상~84점미만","84점이상~87점미만","87점이상~90점미만","90점이상"]
["학습과\n 성장","조직운영 \n효율성 제고","팀내 업무협조","비계량",10]
[null,null,"회사추진정책기여도","비계량",10]
["합       계"]

{"sheet":"2024","index":1,"n_rows":1338,"n_cols":6,"rows_kept":1338,"cut":false,"hidden":false,"merged":[[0,1,0,5]]}
[null,"2024년 회의실 대장"]
[]
["연번","행사명","주최","행사시작일","행사종료일","장  소"]
[1,"광주상공회의소 신년인사회","광주상공회의소","2023-01-02","2024-01-03","컨벤션2~3홀"]
[2,"광주광역시관광공사 시무식","운영지원실","2023-01-02","2023-01-02","212~213"]
[3,"최지성지역 한미약품","한미약품","2023-01-02","2023-01-02",202]
[4,"김상호지역 한미약품 ","한미약품","2023-01-02","2023-01-02",204]
[5,"광주 원데이 세미나 ","시너지이글스 그룹","2024-01-02","2024-01-02","209~210"]
[6,"군 소음 보상접수","서구청 군소음보상팀","2024-01-03","2024-02-29",204]
[7,"2024년 15기 한국국학진흥원 이야기할머니 사업단 전라권 사전교육","한국국학진흥원 ","2024-01-04","2024-01-05",208214]
[8,"신년인사회","국민의힘","2024-01-04","2024-01-04","211~213"]
[9,"소두성 교육","메리츠화재해상보험주식회사","2024-01-05","2024-01-05","컨벤션1홀"]
[10,"영웅시대 북구 댄스팀","영웅시대","2024-01-05","2024-01-07",207]
[11,"AI TECH+ 관련 화상회의","MICE 운영팀","2024-01-05","2024-01-05","소회의실1"]
[12,"출판기념회 조인철 문화경제부시장님 ","개인","2024-01-06","2024-01-07","다목적1홀"]
[13,"김광진 문화경제부시장님 출판기념회","주식회사미도","2024-01-06","2024-01-07","컨벤션1~3홀"]
[14,"영웅시대 우리들","개인","2024-01-06","2024-01-07",202]
[15,"송갑석의원 의정보고회","개인","2024-01-06","2024-01-07","301~306"]
[16,"나주 이화유치원 다목적 강당 및 급식실 증축공사 설계공모 제안서평가","(재)한국산업정책연구원","2024-01-08","2024-01-08",206]
[17,"주간업무보고","기획조정실","2024-01-08","2024-01-08",307]
[18,"광주지구 JC 지구회장 취임식","사단법인 한국청년회의소","2024-01-09","2024-01-09","컨벤션2~3홀"]
[19,"한샘 리하우스 교육팀 유로부엌 기본교육 ","(주)한샘","2024-01-09","2024-01-09",206]
[20,"제이온 원데이 세미나","주식회사 에이치알바이오","2024-01-09","2024-01-09",208]
[21,"광주 원데이 세미나 ","시너지이글스 그룹","2024-01-09","2024-01-09","209~210"]
[22,"레이저코리아 동계워크샵 2024 ","한국광기술원","2024-01-09","2024-01-09","컨벤션1~3홀"]
[23,"김충현 출판기념회","(주)우송경영종합컨설팅","2024-01-10","2024-01-10","다목적1홀"]
[24,"문해와수리 런칭 사업설명회","아이스크림 에듀","2024-01-10","2024-01-10",202]
[25,"에이드영어사업설명회","광주교육문화","2024-01-10","2024-01-10",206]
[26,"한화생명 광주지역단 JOB 세미나","한화생명","2024-01-10","2024-01-10","211~213"]
[27,"스타어스 홀딩스 세미나","스타어스홀딩스","2024-01-10","2024-01-10","301~306"]
[28,"양동1지구지역주택조합","양동1지구지역주택조합","2024-01-10","2024-01-14","206~207"]
[29,"GMW비전세미나","굿모닝월드","2024-01-11","2024-01-11","208~210"]
[30,"올포원 지점도약(광주TC지점)","현대해상","2024-01-11","2024-01-11",211]
[31,"'수업혁신 기반 조성 및 수업나눔 활성화를 위한 수업•평가 혁신 현장지원단 양성' 연수 ","한국교원댠체총연합회","2024-01-12","2024-01-12","204,208~214"]
[32,"LX샷시설명회","조은창호","2024-01-13","2024-01-13",202]
[33,"메타바다 세미나","주식회사글로벌유니트에이","2024-01-13","2024-01-13",208]
[34," 화정중흥 S 클래스","CMD 산업개발","2024-01-13","2024-01-13","211~213, 2센터2층로비"]
[35,"주식챔피언 증권 강연회","(주)에스씨엔터테인먼트","2024-01-13","2024-01-13",211]
[36,"양동1지구지역주택조합 임시총회","양동1지구지역주택조합","2024-01-14","2024-01-14",208]
[37,"케이씨에이","케이씨에이","2024-01-15","2024-01-15",206]
[38,"주간업무보고","기획조정실","2024-01-15","2024-01-15",307]
[39,"메리츠 프라이드 나는리더이다!","메리츠화재해상보험주식회사","2024-01-16","2024-01-16","컨벤션2~3홀"]
[40,"한샘교육","(주)한샘","2024-01-16","2024-01-16",208]
[41,"광주 원데이 세미나 ","시너지이글스 그룹","2024-01-16","2024-01-16","209~210"]
[42,"코즈볼","주식회사 보러스","2024-01-16","2024-01-16","211~213"]
[43,"파일업 사업설명회","파일업","2024-01-16","2024-01-16",214]
[44," DK EYEWEARGROUP","디케이","2024-01-16","2024-01-17","301~306"]
[45,"PM인터내셔널","(주)더플러스커뮤니케이션즈","2024-01-18","2024-01-18","로비-A구역, 컨벤션1~3홀"]
[46,"국토부 하자심사분쟁조정위원회 제4차 조정 소 위원회","국토안전관리원","2024-01-17","2024-01-17",202]
[47,"IR 데모데이","광주과학기술원","2024-01-17","2024-01-17",206]
[48,"한화생명 지에이코리아 테마과정","한화생명","2024-01-17","2024-01-17","208~210"]
[49,"엘알헬스앤뷰티","엘알헬스앤뷰티","2024-01-18","2024-01-18","206~207"]
[50,"미래차 특별법 광주 설명회","한국자동차연구원","2024-01-18","2024-01-18","209~210"]
[51,"SG집중교육과정","전남대학교 전기공학과","2024-01-18","2024-01-18","211, 214"]
[52,"(사)아시아문화중심도시조성지원포럼 정기총회","(사)아시아문화중심도시조성지원포럼","2024-01-18","2024-01-18","212~213"]
[53,"해양수산 R&D 투자방향 설명회","해양수산과학기술진흥원","2024-01-18","2024-01-18","301~303"]
[54,"사업장일반폐기물 현장정보 전송제도 광주권 설명회","한국환경공단","2024-01-18","2024-01-18","304~306"]
[55,"지방대학교 활성화 사업 광주지역대학 성과 포럼","(주)라인플래너스","2024-01-19","2024-01-19","212~214. 컨벤션2~3홀"]
[56,"트루헬스 마스터 챌린지 시즌18","매나테크코리아","2024-01-19","2024-01-20",207]
[57,"광주광역시도시공사 신입직원 채용 인적성검사","사람인","2024-01-19","2024-01-19","209~210"]
[58,"LX샷시설명회","조은창호","2024-01-20","2024-01-20",202]
[59,"삼성영어 셀레나 성공학원 관리과정","(주)삼성출판사","2024-01-20","2024-01-20",214]
[60,"방재실 공사","안전시설사업팀","2024-01-22","2024-01-24","다목적1~2홀"]
[61,"한국정보통신공사협회 정기총회","한국정보통신공사협회","2024-01-22","2024-01-22","컨벤션2~3홀"]
[62,"주간업무보고","기획조정실","2024-01-15","2024-01-15",307]
[63,"생체이식형의료기기 분야 글로벌 연구개발 허브도약을 위한 \n세부과제 기획연구 전문가 자문 회의","한국화학융합시험연구원","2024-01-23","2024-01-23",202]
[64,"일본여행사 후카이도 설명회","메이드인훗카이도","2024-01-23","2024-01-23","206~207"]
[65,"광주 원데이 세미나 ","시너지이글스 그룹","2024-01-23","2024-01-23","209~210"]
[66,"세상을 바꾸는 여자들","세상을 바꾸는 여자들","2024-01-23","2024-01-23","212~213, 214"]
[67,"광주광역시도시공사 신입직원 채용 면접전형","사람인","2024-01-23","2024-01-24","301,304~306"]
[68,"광주광역시관광공사 (주)마이스허브 업무협약식","정보화신사업팀","2024-01-23","2024-01-23",307]
[69,"KPI 재설계 관련 직원 대상 교육","광주광역시 관광공사","2024-01-23","2024-01-23",307]
[70,"오호지구 배수개선사업 설계VE 워크숍","남문멤버스㈜","2024-01-24","2024-02-06",206]
[71,"광주광역시관광공사노동조합 정기총회","MICE운영팀","2024-01-24","2024-01-24",211]
[72,"프리마인 신화창조그룹 원데이 세미나","프리마인","2024-01-24","2024-01-24","212~213"]
[73,"학생맞춤통합지원 체험 연수","서울대학교 교육 행정 연수원","2024-01-24","2024-01-30","308~310"]
[74,"광주관광공사 제1회 임원추천 위원회","기획조정실","2024-01-25","2024-01-25",307]
[75,"2024년 제1차 연구개발기획과제 주관기관 선정평가","전남테크노파크","2024-01-26","2024-01-26",208209210]
[76,"시관광도시과-관광공사 제1차 월례회 개최","기획조정실","2024-01-26","2024-01-26",307]
[77,"새로운 미래 창당대회","새로운미래 창당 준비위원회","2024-01-27","2024-01-27","301~306,3층 VIP실,다 2홀 VIP실"]
[78,"유니시티 세미나","유니시티","2024-01-27","2024-01-27","컨벤션2홀~컨벤션3홀"]
[79,"2024 SM GLOBAL","(주)에스엠엔터테인먼트","2024-01-27","2024-01-27",211213214]
[80,"신가동 조합임원(조합장, 이사 및 감사) 해임을 위한 임시총회","신가동조합","2024-01-28","2024-01-28","4층 VIP실,컨벤션2홀~컨벤션3홀"]
[81,"월드패밀리 클럽쇼","비즈플랜","2024-01-28","2024-01-28","212~213"]
[82,"2024년도 광주광역시관광공사 더민주 노동조합 총회","더민주노동조합","2024-01-29","2024-01-29",301]
[83,"광주 원데이 세미나 ","시너지이글스 그룹","2024-01-29","2024-01-29","209~210"]
[84,"주간업무보고","기획조정실","2024-01-29","2024-01-29",307]
[85,"명사특강","해피라이프","2024-01-30","2024-01-30","211~213"]
[86,"2024년도 119구급장비 품평회","광주소방안전본부 구조구급과","2024-01-30","2024-01-30",304305306]
[87,"학생맞춤통합지원 체험 연수","서울대학교 교육 행정 연수원","2024-01-29","2024-01-30","308~310"]
[88,"국민 멘토 김미경(마음을 흔드는 수업)","문화금융서비스 ","2024-01-31","2024-01-31","컨벤션2홀~컨벤션3홀"]
[89,"광주인력개발원 연찬회","광주인력개발원","2024-01-31","2024-01-31",206]
[90,"2024년 신년 특별강연회","민주평화통일자문회의 광주지역회의","2024-01-31","2024-01-31","208~210"]
[91,"한국노총 광주지역본부 2024년도 정기대의원대회","한국노총","2024-01-31","2024-01-31","211~213"]
[92,"기술교육","한국식품연구원","2024-01-31","2024-01-31","308~310"]
[93,"한미약품","한미약품","2024-02-01","2024-02-01",202]
[94,"2025 대장항문학회 현장실사","광주광역시 관광공사","2024-02-01","2024-02-01",205]
[95,"방재실공사","안전시설사업팀","2024-02-01","2024-02-01",207]
[96,"광주광역시 공사·공단 정보보안협의회","정보화신사업팀","2024-02-01","2024-02-01",307]
[97,"개인사업자 법인 전환 실무","매경경영지원본부","2024-02-02","2024-02-02",206]
[98,"2024년도 2월 공시설명회","공정거래위원회","2024-02-02","2024-02-02","209~210"]
[99,"소두성 교육","메리츠화재해상보험주식회사","2024-02-02","2024-02-02","301~306"]
[100,"수납식의자 안전작업","안전시설사업팀","2024-02-05","2024-02-05","다목적2홀"]
[101,"더불어민주당 콘서트 - 사람과 미래","더불어민주당광주광역시당","2024-02-05","2024-02-05","212~213,다목적홀1"]
[102,"광주관광공사 1분기 기간제근로자 채용 서류심사 및 면접","기획조정실","2024-02-05","2024-02-07","211~213"]
[103,"광주지구 JC 총회","사단법인 한국청년회의소","2024-02-05","2024-02-05","209~210"]
[104,"주간업무보고","기획조정실","2024-02-05","2024-02-05",307]
[105,"달빛철도 특별법 국회통과 축하행사","광주광역시청 광역교통과","2024-02-06","2024-02-07","컨벤션1~3홀, 214"]
[106,"새로운미래광주현장책임위원회","새로운미래 ","2024-02-07","2024-02-07",301]
[107,"KPI회의","기획조정실","2024-02-06","2024-02-06",205]
[108,"제이온 원데이 세미나","주식회사 에이치알바이오","2024-02-06","2024-02-06",208]
[109,"광주 원데이 세미나","시너지이글스 그룹","2024-02-06","2024-02-06","209~210"]
[110,"한화생명 광주지역단 JOB 세미나","한화생명","2024-02-07","2024-02-07","208~210"]
[111,"광주관광공사 1분기 기간제근로자 채용 서류심사 및 면접","기획조정실","2024-02-07","2024-02-07","205,211~213"]
[112,"AED 전직원자동심장충격기 실습교육","안전시설사업실","2024-02-07","2024-02-07","302~303"]
[113,"대구TP-광주TP\"달빛산업동행\"업무협약","광주테크노파크","2024-02-07","2024-02-07",307]
[114,"카페트작업","MICE운영팀","2024-02-08","2024-02-08","컨벤션홀1,컨벤션홀2,컨벤션홀3"]
[115,"수납통합 및 신제품 교육","(주)한샘","2024-02-13","2024-02-13",214]
[116,"광주 원데이 세미나","시너지이글스 그룹","2024-02-13","2024-02-13","209~210"]
[117,"KB손해보험 광주지역단 명사 초청강연","KB손해보험 ","2024-02-13","2024-02-13","211~213"]
[118,"광주광역시관광공사 1분기 기간제근로자 OT","기획조정실","2024-02-13","2024-02-13",205]
[119,"주간업무보고","기획조정실","2024-02-13","2024-02-13",307]
[120,"2024년 소공인 클린제조 환경조성 사업 설명회","한국표준협회","2024-02-14","2024-02-15",207]
[121,"전라권 지역관광협의체 킥오프회의","지역관광팀","2024-02-14","2024-02-14",208]
[122,"명사특강","해피라이프","2024-02-14","2024-02-14","211~213,214"]
[123,"2024 환자안전전담인력 보수교육 1차 교육","대한병원협회","2024-02-15","2024-02-15","컨벤션1홀,301~306"]
[124,"포켓몬카드게임 스태프 교육","인터라인플러스","2024-02-15","2024-02-15",202]
[125,"K-CON 컨퍼런스","호남대학교","2024-02-15","2024-02-15","208~210"]
[126,"퓨리나 DLR D day","카길애그리퓨리나","2024-02-15","2024-02-15",211]
[127,"플레이팩토리창업성공세미나","광주교육문화","2024-02-15","2024-02-15",214]
[128,"포켓몬카드게임 코리안 리그","포켓몬코리아","2024-02-16","2024-02-18","컨벤션홀1~컨벤션홀3,로비-C구역"]
[129,"2024년도 광주관광공사 우수전시회 지원사업 종합심사","MICE운영팀","2024-02-16","2024-02-16",205207]
[130,"디지털 교육 현장 컨설팅","플래듀교육연구소","2024-02-16","2024-02-16","208,209,211~212"]
[131,"광주광역시관광공사 홈페이지 재구축 용역 제안서 평가위원회","정보화신사업팀","2024-02-16","2024-02-16","301~302"]
[132,"양동1지구지역주택조합","양동1지구지역주택조합","2024-02-18","2024-02-18",214]
[133,"결의대회 ","중소기업중앙회광주전남지역본부","2024-02-18","2024-02-19","다목적1홀"]
[134,"신용동힐스테이트비상대책위원회 ","신용동힐스테이트비상대책위원회 ","2024-02-19","2024-02-19","컨벤션홀1~컨벤션홀3,"]
[135,"한국철도공사 광주본부 & 광주광역시관광공사 관광산업 활성화 업무 협약식","관광진흥팀","2024-02-19","2024-02-19",205]
[136,"2023년도(4차년도) 단위과제 최종평가(발표)","광주전남지역혁신플랫폼","2024-02-19","2024-02-20","303~307"]
[137,"주간업무보고","기획조정실","2024-02-19","2024-02-19",307]
[138,"광주광역시관광공사 제2회 임원추천위원회","기획조정실","2024-02-19","2024-02-19",307]
[139,"법인세 신고실무 직원 희망 교육","한국세무사회","2024-02-20","2024-02-21","다 1홀 VIP실,다목적홀1"]
[140,"2024년 이차사 대표자세미나","현대차기아 구매협력사","2024-02-20","2024-02-20","컨벤션홀2~컨벤션홀3"]
[141,"미내랑더치커피 세미나","미내랑더치커피","2024-02-20","2024-02-20",202]
[142,"보건관리자 간이건강검진 ","안전시설사업실","2024-02-20","2024-02-20",205]
[143,"한국발명진흥원 직무발명제도 전문인력양성 교육","한국발명진흥회","2024-02-20","2024-02-20",206]
[144,"2024년 투자전략 설명회","대신증권","2024-02-20","2024-02-20",208]
[145,"광주 원데이 세미나","시너지이글스 그룹","2024-02-20","2024-02-20","209~210"]
[146,"손경이 강사님 성교육 강연","세상을바꾸는여자들","2024-02-20","2024-02-20","212~214"]
[147,"2024년 경험형 스마트마켓 지원사업 현장설명회","주식회사 제이랩앤컴퍼니","2024-02-20","2024-02-20",301]
[148,"프리마인 신화창조그룹 원데이 세미나","프리마인","2024-02-20","2024-02-20","302~303"]
[149,"사단법인 한국JC 특우회 정기총회 및 취임식","사단법인 한국JC 특우회","2024-02-21","2024-02-21","컨벤션1~3홀"]
[150,"경영 TF회의","기획조정실","2024-02-21","2024-02-21",202]
[151,"시설관리업무효율화 사내공모전 심사위원회 ","안전시설사업실","2024-02-21","2024-02-21",205]
[152,"삼성생명 VIP 세미나 ","삼성생명","2024-02-21","2024-02-21",206]
[153,"2024년 건설 사업관리 실무교육","(주)도화엔지니어링","2024-02-21","2024-02-21","208~210"]
[154,"켐틱종합기술원","웰비아이","2024-02-21","2024-02-21","211~213"]
[155,"사슬매니아","주식회사 케이블록","2024-02-21","2024-02-21","301~303"]
[156,"엠스퀘어 글로벌 사업설명회","엠스퀘어글로벌","2024-02-21","2024-02-21","308~310"]
[157,"2024년 2월 회원 보수교육","광주지방세무사회","2024-02-22","2024-02-22","컨벤션1~3홀"]
[158,"엘알헬스앤뷰티 ","엘알헬스앤뷰티 ","2024-02-22","2024-02-22","206~207"]
[159,"휠체어 사용 아동 이동권 향상 프로젝트","토도웍스주식회사","2024-02-22","2024-02-22",208]
[160,"체코 관광청 세미나","체코 관광청","2024-02-22","2024-02-22",209]
[161,"2024 영호남내분비대사학회 학술대회","영호남내분비대사학회","2024-02-22","2024-02-24","211~214,2센터2층로비"]
[162,"미이용 산림바이오매스 증명업무 지침 실무 교육","산림청 ","2024-02-22","2024-02-22",214]
[163,"원데이테마과정 교육","프라임에셋","2024-02-22","2024-02-22","302~303"]
[164,"신용동 현대지역주택조합 2024년 조합원 정기총회","신용동 현대지역주택조합","2024-02-23","2024-02-23","다목적1홀"]
[165,"리플하바유치원 졸업식","리플유치원","2024-02-23","2024-02-23","컨벤션3홀"]
[166,"2024 미래에셋 국내장학생 장학증서 수여식","미래에셋 희망재단","2024-02-23","2024-02-23",208]
[167,"2024년도 전문대재학생단계 학습기업-예비학습근로자 매칭 및 근로계약 체결식","전남도립대학교","2024-02-23","2024-02-23",209]
[168,"광주데일리뉴스 창단 10주년 기념 비전 선포식","광주데일리뉴스","2024-02-23","2024-02-23","302~303"]
[169,"유케이 창업설명회","유케이","2024-02-23","2024-02-23","304~306"]
[170,"스마트인재개발원 직원 워크숍","스마트인재개발원","2024-02-24","2024-02-24","209~210"]
[171,"전남대학교 기술지주 제1회 파트너십 매칭데이","전남대학교 기술지주","2024-02-26","2024-02-26","301~306"]
[172,"주간업무보고","경영기획실","2024-02-26","2024-02-26",307]
[173,"메리츠화재 나는리더다","메리츠화재해상보험주식회사","2024-02-27","2024-02-27","컨벤션1홀\t"]
[174,"FILTRIO 신제품 발표회","(주)대흥커뮤니케이션즈","2024-02-27","2024-02-28","로비-D구역,컨벤션3홀\t"]
[175,"국토부 3차년도 킥오프 미팅","한국에너지기술연구원","2024-02-27","2024-02-27",206]
[176,"복권기금 야간보호교사 기초교육","케이티피씨에스","2024-02-27","2024-02-27",208]
[177,"광주 원데이 세미나","시너지이글스 그룹","2024-02-27","2024-02-27","209~210"]
[178,"2024년 이주배경학생 교육 지원 강사 역량 강화 워크숍","국가평생교육진흥원","2024-02-27","2024-02-27",211]
[179,"제6차 광주권 LINC3.0사업단 실무자 협의회","광주대학교링크사업단","2024-02-27","2024-02-27",213]
[180,"간호간병통합서비스 사업설명회","국민건강보험","2024-02-27","2024-02-27","301~303"]
[181,"인사위원회","국립호남권생물자원관","2024-02-27","2024-02-27",307]
[182,"영광 하사 배수개선사업 설계VE 워크숍","남문멤버스","2024-02-27","2024-02-27",308310]
[183,"문화해설사 설명회 ","관광진흥팀","2024-02-28","2024-02-28",307]
[184,"2024년 국민체력 100 거점워크숍","국민체육진흥공단","2024-02-28","2024-02-28","212~213"]
[185,"2024년 어린이 활동공간 환경 안전관리제도 설명회","한국환경보전원","2024-02-29","2024-02-29","209~210"]
[186,"2024 (사)한국치과교정연구회 학술대회 ","(사)한국치과교정연구회 ","2024-02-28","2024-02-29","2센터2층로비,211~214"]
[187,"3세대통합플랫폼 에이치비지에이 권혁법 의장 특별세미나 ","에이치비지에이","2024-02-28","2024-02-28",214]
[188,"2024년도 제2회 이사회 개최 ","기획조정실","2024-02-28","2024-02-28",307]
[189,"트루헬스 마스터 챌린지 시즌18","매나테크코리아","2024-03-01","2024-03-02",207]
[190,"한국문화예술위원회 신규채용 필기시험","한국문화예술위원회 ","2024-03-03","2024-03-03","컨벤션1홀\t"]
[191,"광주광역시관광공사 1분기 기간제근로자 OT","기획조정실","2024-03-04","2024-03-04",205]
[192,"소두성 교육","메리츠화재해상보험주식회사","2024-03-04","2024-03-04","컨벤션2~3홀\t"]
[193,"남도외식카네기클럽  ","주식회사남도외식문화개발","2024-03-04","2024-03-25",208]
[194,"광주광역시관광공사 월례조회","기획조정실","2024-03-04","2024-03-04","209~210"]
[195,"삼성화재 3월 매니저 세션","삼성화재","2024-03-04","2024-03-04",208]
[196,"한미약품","한미약품","2024-03-05","2024-03-05",202]
[197,"일심승가회이취임식","개인(정호진)","2024-03-05","2024-03-05",204]
[198,"환경강사교육","영산강유역환경청","2024-03-05","2024-03-05","211~213"]
[199,"소상공인이 있어 광주가 있다\" 2024년 소상공인 성장 지원 정책 공유회","(재)광주광역시 경제진흥상생일자리재단","2024-03-05","2024-03-05","302~303"]
[200,"광주청년일경험드림+ 15기  Dream School 온보딩 교육","전남대학교산학협력단(광주청년일경험드림플러스 통합지원기관)","2024-03-06","2024-03-06","컨벤션1홀,컨벤션2홀,컨벤션3홀, 208~210호"]
[201,"셀리버리 주주간담회","셀리버리","2024-03-06","2024-03-06",204]
[202,"제2회 광주정책연구회 정책포럼","광주연구원","2024-03-06","2024-03-06","212~213"]
[203,"[2024 관광두레 신규PD(12기) 역량강화 아카데미] ","한국관광공사","2024-03-06","2024-03-08",301]
[204,"골든블루 지점장회의","주식회사 골든블루","2024-03-06","2024-03-07","305~306"]
[205,"신용동 현대지역주택조합 2024년 조합원 정기총회","신용동 현대지역주택조합","2024-03-07","2024-03-07","다목적1홀"]
[206,"2024년 15기 청년드림 참여자 OT","기획조정실","2024-03-07","2024-03-07",205]
[207,"2024 학교 예술강사 지원사업 NOW ART.ZIp","광주광역시서구문화원","2024-03-07","2024-03-07","208~210"]
[208,"한화생명 광주지역단 JOB 세미나","한화생명","2024-03-07","2024-03-07","211~213"]
[209,"GC녹십자 국내 영업부문 호남지역 직원 대표이사 간담회","녹십자","2024-03-07","2024-03-07",303]
[210,"여수 항만공사 채용 설명회","인쿠르트 주식회사","2024-03-08","2024-03-08","컨벤션1홀"]
[211,"2024년 스포츠 특화 관광상품 개발 및 운영 여행사 공모전 심사위원회","관광진흥팀","2024-03-08","2024-03-08",205]
[212,"광주 원데이 세미나","시너지이글스 그룹","2024-03-09","2024-03-09","209~210"]
[213,"원데이 세미나","유니시티 코리아","2024-03-09","2024-03-09","211~213"]
[214,"주식챔피언증권강연회","(주)에스씨엔터테인먼트","2024-03-09","2024-03-09",301]
[215,"새로운미래 전진대회","새로운미래","2024-03-10","2024-03-10","다목적1홀"]
[216,"2023년 경영실적보고서 중간 강평회","기획조정실","2024-03-11","2024-03-11",201]
[217,"2024년도 정책 보험팀 워크샵","에이플러스 손해사정","2024-03-11","2024-03-11",206]
[218,"남도외식카네기클럽  ","주식회사남도외식문화개발","2024-03-11","2024-03-25",208]
[219,"2024년 희망 리턴 패키지 사업정리 컨설턴트 직무교육","주식회사 팀플기획","2024-03-11","2024-03-11","209~210"]
[220,"드림라이프를 위한 레벨업 교육(DB손해보험)","DB손해보험","2024-03-11","2024-03-11","211~213"]
[221,"신인 LP 정착 향상 과정","롯데손해보험","2024-03-11","2024-03-12","302~303"]
[222,"주간업무보고","기획조정실","2024-03-11","2024-03-11",307]
[223,"제25회 한중일 지방정부 교류회의 실무자 회의","광주광역시","2024-03-12","2024-03-12","로비-A~D구역, 컨벤션1~3홀2센터2층로비,211~214,308~310"]
[224,"일자리 목표 공시제 고용통계 실무 컨설팅","광주상공회의소","2024-03-12","2024-03-12",204]
[225,"의료 웰니스 관광상품 개발 간담회","광주의료관광지원센터","2024-03-12","2024-03-12",205]
[226,"호남권 고객세미나","김정문알로에","2024-03-12","2024-03-12",208]
[227,"해남 고천암3지구 배수개선사업 설계VE 이행회의","남문멤버스(주)","2024-03-12","2024-03-12",301]
[228,"루멘 세미나","루멘","2024-03-12","2024-03-12","304~306"]
[229,"광주청년일경험드림+ 15기  Dream School 온보딩 교육","전남대학교산학협력단(광주청년일경험드림플러스 통합지원기관)","2024-03-13","2024-03-14","201~204"]
[230,"일본대사관 영사 출장 서비스","일본대사관 ","2024-03-13","2024-03-13",208]
[231,"2024년 경영개선 및 재창업사업화 지원사업 멘토 역량강화 교육","주식회사 팀플기획","2024-03-13","2024-03-13",214]
[232,"가수 김정민의 Live show","세상을바꾸는여자들","2024-03-13","2024-03-13","2센터3층로비, 301~306"]
[233,"생활정원 하나미 직체교육","lG생활건강","2024-03-14","2024-03-14","201~204"]
[234,"2024.교육지원청 진로교육 업무담당자 워크숍","전라남도교육청","2024-03-14","2024-03-14",208]
[235,"굿모닝월드 비전세미나","굿모닝월드","2024-03-14","2024-03-14","209~210"]
[236,"삼성생명 메디컬 특강","삼성생명 ","2024-03-14","2024-03-14","211~213"]
[237,"교육부 진로체험 설명회","대한상공회의소","2024-03-14","2024-03-14",214]
[238,"2024 학교예술강사지원사업 '학교 예술교육 관계자 만남","광주서구문화원","2024-03-14","2024-03-14","301~306"]
[239,"GA세일즈 마스터 과정","삼성생명","2024-03-14","2024-03-14","308~310"]
[240,"24년 대한간학회 학술대회","대한간학회","2024-03-15","2024-03-15","로비-A~D구역, 컨벤션1홀"]
[241,"교회건축세미나","프라미스","2024-03-15","2024-03-15",204]
[242,"지역센터 직무 역량강화 교육","재단법인 식생활안전관리원","2024-03-15","2024-03-15","209~210"]
[243,"2024 광주 인터내셔널 스파인 심포지엄(GISS 2024)","광주기독병원 정형외과","2024-03-15","2024-03-16","211~213"]
[244,"KPI 최종보고회","광주광역시 관광공사","2024-03-15","2024-03-15",214]
[245,"에스유투자자문 증권세미나","에스유투자자문","2024-03-17","2024-03-17","컨벤션3홀"]
[246,"남도외식카네기클럽  ","주식회사남도외식문화개발","2024-03-18","2024-03-25",208]
[247,"현대차 협력사 LCA 교육","솔루티스","2024-03-18","2024-03-18","211~213"]
[248,"동신대학교 교수학습센터 학습캠프","동신대학교","2024-03-18","2024-03-20","304~306"]
[249,"주간업무보고","기획조정실","2024-03-18","2024-03-18",307]
[250,"2023년 경영실적보고서 최종 강평회","기획조정실","2024-03-18","2024-03-18",307]
[251,"제53회hy대회","(주)에치와이","2024-03-19","2024-03-21","1층로비-D~E구역다목적홀1,다목적홀2"]
[252,"메타리치 하반기 합동 행사","메타리치","2024-03-19","2024-03-19","컨벤션2~3홀"]
[253,"「2024 광주관광 SNS 채널 운영 용역」 제안서 평가위원회","관광진흥팀","2024-03-19","2024-03-19","208~209"]
[254,"해양수산 연구개발 사업 교육 프로그램 KIMST EDU","해양수산과학기술진흥원","2024-03-19","2024-03-19","212~213"]
[255,"1984 발대식","lG생활건강","2024-03-19","2024-03-19",214]
[256,"지티비코리아 원데이세미나","지티비코리아 주식회사","2024-03-19","2024-03-19","301~303"]
[257,"의료기기 규제동향 및 해외수출지원방안","한국화학융합시험연구원","2024-03-20","2024-03-20","201~202"]
[258,"국토부 하자심사 분쟁 조정 위원회 제12차 조정 소위원회 ","국토안전관리원","2024-03-20","2024-03-20",204]
[259,"삼성생명 VIP 세미나 ","삼성생명","2024-03-20","2024-03-20",208]
[260,"삼성전자서비스 홀가분 힐링캠프","주식회사 다인","2024-03-20","2024-03-20",210]
[261,"서울우유협동조합","서울우유협동조합","2024-03-20","2024-03-20","212~213"]
[262,"신규식품영업자법정위생교육","한국식품산업협회","2024-03-20","2024-03-22","301~303"]
[263,"엠스퀘어 글로벌 사업설명회","엠스퀘어글로벌","2024-03-20","2024-03-20","308~310"]
[264,"NHN클라우드 기자간담회","NHN","2024-03-21","2024-03-21","컨벤션3홀"]
[265,"엘알헬스앤뷰티 ","엘알헬스앤뷰티 ","2024-03-21","2024-03-21","201~202,204"]
[266,"기간제근로자 채용 서류심사","기획조정실","2024-03-21","2024-04-01","205~206,212~213"]
[267,"아름","아름","2024-03-21","2024-03-21",206]
[268,"제16기 이야기할머니 신규선발 면접전형","한국국학진흥원 ","2024-03-21","2024-03-22","208~214"]
[269,"2024학년도 진로 멘토링 캠프","기독간호대학교 산학협력단","2024-03-21","2024-03-21","304~306"]
[270,"광주광역시관광공사-조선대학교글로컬사업단 업무협약 ","기획조정실","2024-03-21","2024-03-21",307]
[271,"중앙당 선대위 회의","더불어민주당광주광역시당","2024-03-21","2024-03-21","308~309"]
[272,"LX샷시설명회","조은창호","2024-03-22","2024-03-23",204]
[273,"NCS 기업활용컨설팅 사업 관계자 간담회","광주상공회의소","2024-03-22","2024-03-22",206]
[274,"캣츠아이 전시회","캣츠아이","2024-03-22","2024-03-22",304]
[275,"유니시티 세미나","유니시티","2024-03-23","2024-03-23","컨벤션2홀~컨벤션3홀"]
[276,"오프라인 맘","매나테크코리아","2024-03-23","2024-03-23","208~210"]
[277,"광주 원데이 세미나","시너지이글스 그룹","2024-03-23","2024-03-23","212~213"]
[278,"신북초등학교 45회 동창회","해병대전우회 ","2024-03-23","2024-03-23",214]
[279,"주의만찬","여호와의 증인의 광주 쌍촌 북부 회중","2024-03-24","2024-03-24","209~210"]
[280,"주의만찬기념식(수어)","광주수어회중","2024-03-24","2024-03-24","212~213"]
[281,"줄기세포 재생의학 강연회 ","바이오스타 줄기세포 연구원","2024-03-25","2024-03-25","컨벤션2홀~컨벤션3홀"]
[282,"남도외식카네기클럽  ","주식회사남도외식문화개발","2024-03-25","2024-03-25",208]
[283,"소비자감시원 직무교육","한국계량측정협회","2024-03-25","2024-03-25",214]
[284,"남도관광센터 아트마켓 공모전 ","관광진흥팀","2024-03-25","2024-03-26",214]
[285,"주간업무보고","기획조정실","2024-03-25","2024-03-25",307]
[286,"프리마인 신화창조그룹 원데이 세미나","프리마인","2024-03-26","2024-03-26","201~202"]
[287,"광주 미래산업 엑스포 실무 추진위원회","MICE운영팀","2024-03-26","2024-03-26",206]
[288,"농작물손해보험 ","주식에스에이에스손해사정","2024-03-26","2024-03-26",208]
[289,"남부경제권구축전략 Big Horizon 2050 정책토론회","광주전남연구원","2024-03-26","2024-03-26","209~210"]
[290,"광주관광공사 화순군 문화관광재단 업무협약식","지역관광팀","2024-03-26","2024-03-26",211]
[291,"삼성화재서비스 CEO성장플러스 ","삼성화재서비스","2024-03-26","2024-03-26",307]
[292,"중앙공원 롯데캐슬 부동산 간담회","현대엔지니어링, 주식회사 스웨이브","2024-03-27","2024-03-27","다목적1~2홀"]
[293,"광주관광 거버런스 라운드테이블","지역관광팀","2024-03-27","2024-03-27","206~207"]
[294,"HAPs 비산배출 집체교육(1:1교육) 기술지원","한국환경공단","2024-03-27","2024-03-27",208]
[295,"퓨리나 DLR D day","카길애그리퓨리나","2024-03-27","2024-03-27",210]
[296,"온실가스 감축 및 생산성 향상 세미나","한스텍이엔에스(주)","2024-03-27","2024-03-27","2센터2층로비,211~213"]
[297,"광주전남 테러대책협의회","광주전남테러대책협의회","2024-03-27","2024-03-27",307]
[298,"그린파크뷰","그린파크뷰","2024-03-27","2024-03-27","308~309"]
[299,"힐스테이트 신용 더 리버 조합원 간담회","힐스테이트 신용 더 리버 조합원 비상대책위원회","2024-03-28","2024-03-28","다목적1홀"]
[300,"2024 대한이식학회 춘계학술대회","대한이식학회 ","2024-03-28","2024-03-30","로비-A~D구역, 컨벤션1~3홀, 208~209, 211~214"]
[301,"성교육 일타강사 배정원 <우리 아이가 성(性)장해요>","문화금융서비스","2024-03-28","2024-03-28","201~202,204"]
[302,"한국씨이에스 이사회 및 주주총회","한국씨이에스(주)","2024-03-28","2024-03-28",205]
[303,"(사)아시아문화중심도시조성지원포럼 제1차 임시총회","(사)아시아문화중심도시조성지원포럼","2024-03-28","2024-03-28","206~207"]
[304,"쿠폰라이프 세미나","쿠폰라이프","2024-03-28","2024-03-28",211]
[305,"공공기관 현장대화","기획조정실","2024-03-27","2024-03-28",214]
[306,"영섬유역본부 외부청렴도 향상교육","한국수자원공사","2024-03-29","2024-03-29","201~202"]
[307,"산업기능요원 지정업체 복무관리 담당자 교육","광주전남지방병무청 사회복무과","2024-03-29","2024-03-29","301~303"]
[308,"깜지단 발대식","광주감염병관리지원단","2024-03-30","2024-03-30",204]
[309,"2024년 상반기 YBM잉글루 지역별 원장단 모임","YBM잉글루","2024-03-30","2024-03-30",206]
[310,"한국수력원자력 임직원을 위한 육아지원 프로그램","주식회사 다인","2024-03-30","2024-03-30","302~303,305~306"]
[311,"종근당 대한이식학회 ","종근당","2024-03-30","2024-03-30",207]
[312,"힐스테이트 신용 더 리버 조합원 간담회","신용동 현대지역주택조합","2024-03-31","2024-03-31","다목적1홀"]
[313,"2025학년도 성균관대학교 전형계획 입시설명회","성균관대학교 입학처","2024-03-31","2024-03-31","컨벤션2~3홀"]
[314,"남도외식카네기클럽  ","주식회사남도외식문화개발","2024-04-01","2024-04-29",208]
[315,"광주광역시관광공사 월례조회","기획조정실","2024-04-01","2024-04-01","209~210"]
[316,"소두성 교육","메리츠화재해상보험주식회사","2024-04-02","2024-04-02","컨벤션2홀,컨벤션3홀"]
[317,"한미약품 지역교육","한미약품","2024-04-02","2024-04-02",202]
[318,"YBM 2024 전국 총판장 회의 [전라-제주]","주식회사 와이비엠","2024-04-02","2024-04-02",206]
[319,"정기 세미나","초이스캐시","2024-04-02","2024-04-02","209~210"]
[320,"광주 원데이 세미나","시너지이글스 그룹","2024-04-02","2024-04-02","212~213"]
[321,"세계해부학회 학술대회 조직위원회 회의","MICE운영팀","2024-04-02","2024-04-02",307]
[322,"2024년 심사평가 설명회","직업능력심사평가원","2024-04-03","2024-04-03","다목적1홀"]
[323,"광주 사회 초년생을 위한 금융 전문가 아카데미","케이비라이프 파트너스","2024-04-03","2024-04-03",201]
[324,"장흥교육지원청 연립관사(사동 )증축 설계공모 제안서 평가","주식회사 에스랩","2024-04-03","2024-04-03",204206]
[325,"임단협 기업 지원 설명회","광주경영자총협회","2024-04-03","2024-04-03",208]
[326,"광주광역시 전담여행사 선정위원회","관광진흥팀","2024-04-03","2024-04-03",209]
[327,"광주정책연구회 제3회 정책포럼 개최","광주연구원","2024-04-03","2024-04-03","211~213"]
[328,"2024 ACE Fair 추진위원회 자문회의","MICE운영팀","2024-04-03","2024-04-03",307]
[329,"2024 대한재활의학회 춘계학술대회","대한재활의학회","2024-04-03","2024-04-05","다목적홀1홀,로비-A~D구역, 컨벤션1~3홀, 208~209, 211~214"]
[330,"미내랑더치커피 세미나","개인","2024-04-04","2024-04-04",202]
[331,"도이치아우토 ","주식회사 도이치아우토","2024-04-04","2024-04-04",205]
[332,"호남권 고객세미나","김정문알로에","2024-04-04","2024-04-04","206~207"]
[333,"MICE 조사연구 용역 최종보고회","MICE운영팀","2024-04-04","2024-04-04",209]
[334,"한화생명 광주지역단 JOB 세미나","한화생명","2024-04-04","2024-04-04","211~213"]
[335,"ESG경영위원회  ","지역관광팀","2024-04-04","2024-04-04",307]
[336,"호남 MDRT워크샵","한국MDRT 협회","2024-04-05","2024-04-05","208~210"]
[337,"LX샷시설명회","조은창호","2024-04-05","2024-04-05",204]
[338,"광주문화관광해설사회 임원진 간담회","관광진흥팀","2024-04-05","2024-04-05",205]
[339,"제4차 소아 뇌성마비 코호트 전체 연구자 워크샵","연세대학교의료원 산학협력단","2024-04-05","2024-04-05",308]
[340,"공부의 신 강성태 공부비법 특강","주식회사 에스지컴퍼니","2024-04-06","2024-04-06","다목적홀1"]
[341,"광주전남 내과의사회 정기총회 및 춘계학술대회","한미약품","2024-04-06","2024-04-06","로비-A~D구역,컨벤션1~3홀"]
[342,"디스코 사업설명회","디스코주식회사","2024-04-06","2024-04-06","209~210"]
[343,"학부모 설명회","(주)종로아카데미","2024-04-06","2024-04-06","211~213"]
[344,"원불교 원기109년 광주동.서부지구 정식법강항마위 승급식","(재)원불교 광주전남교구","2024-04-07","2024-04-07","컨벤션2~3홀"]
[345,"뷰티그룹아반","뷰티그룹아반","2024-04-07","2024-04-07",211]
[346,"2024년 농촌 재능나눔 활동지원사업 설명회","한국농어촌공사 농어촌 자원 개발원","2024-04-08","2024-04-08",204]
[347,"남도외식카네기클럽  ","주식회사남도외식문화개발","2024-04-08","2024-04-29",208]
[348,"HSP 워크샵","녹십자","2024-04-08","2024-04-08",211214]
[349,"광주 심장중재술 심포지움 GICS (리허설)","광주 심장중재술 심포지움","2024-04-08","2024-04-09","컨벤션2~3홀"]
[350,"광주관광공사-전남관광재단 관광 활성화 업무협약식","관광진흥팀","2024-04-08","2024-04-09",307]
[351,"예술여행 홍보 콘텐트 기획 및 제작 용역 제안서 평가 위원회","관광진흥팀","2024-04-08","2024-04-09","208~210"]
[352,"바이오 인터 페이싱 사업 킥오프","전남대학교 산학협력단","2024-04-09","2024-04-09",214]
[353,"호남지역 교육세미나","앤텔레콤 호남지역운영위원회","2024-04-10","2024-04-10",206]
[354,"한국기계가공학회","한국기계가공학회","2024-04-10","2024-04-12","2센터2층로비,208,211~214"]
[355,"양곡·독천지구 배수개선사업 설계VE 리딩용역","(주)대한콘설탄트","2024-04-11","2024-04-11",201]
[356,"농식품 벤처육성기업 오리엔테이션","한국농업기술진흥원","2024-04-11","2024-04-11",204]
[357,"광주관광공사 2분기 기간제근로자 채용 서류심사 ","기획조정실","2024-04-11","2024-04-11",205]
[358,"2024년 유니크베뉴 서류 심사","MICE 운영팀","2024-04-13","2024-04-11",205]
[359,"2024년 상반기 하나은행 신입행원 채용 면접전형","인크루트","2024-04-11","2024-04-12","301~307"]
[360,"2024년 경영평가 본심사 사전테스트","기획조정실","2024-04-11","2024-04-11","소회의실1, 4"]
[361,"2024년 경영평가 집체영상평가","광주광역시도시공사","2024-04-12","2024-04-16",202204205209]
[362,"유니시티세미나","유니시티","2024-04-12","2024-04-12"]
[363,"2024년 G-유니콘 육성프로그램 발표평가","광주창조경제혁신센터","2024-04-12","2024-04-12","206~207"]
[364,"사슬매니아 광주 원데이 세미나 ","케이블록","2024-04-12","2024-04-12","308~310"]
[365,"대한약물영양의학회 ","대한약물영양의학회 ","2024-04-13","2024-04-14","2센터3층로비, 304~306"]
[366,"세상에 없던 AI 라이프 2024 삼성 가전 AI 신제품 체험회","제3채널","2024-04-13","2024-04-16","다목적홀1"]
[367,"2024 대한병원장협의회 춘계학술대회 ","대한병원협의회 사무국","2024-04-13","2024-04-14","컨벤션1~3홀"]
[368,"산림공작소 산림기사작업형 특강 ","산림공작소","2024-04-14","2024-04-14",206]
[369,"월드패밀리 클럽쇼","비즈플랜","2024-04-14","2024-04-14","212~213"]
[370,"천안전씨 시향공파 임시총회","(개인)","2024-04-14","2024-04-14",214]
[371,"제22대 국회의원 당선자 교례회","전남일보","2024-04-15","2024-04-15","로비-B구역,컨벤션2~3홀"]
[372,"‘따뜻한 이웃사촌’ 북한이탈주민 멘토 교육","민주평화통일자문회의 광주지역회의","2024-04-15","2024-04-15",206]
[373,"광주관광공사-키로스벤처투자 업무협약식  ","지역관광팀","2024-04-15","2024-04-15",211]
[374,"2024년도 IoT 측정기기 업무 지자체 담당자 교육","한국환경공단","2024-04-15","2024-04-15","212~213"]
[375,"드림라이프 교육","삼성화재","2024-04-15","2024-04-15","301~303"]
[376,"2024년 광주관광공사 일경험 프로그램 2기 참여자 OT","기획조정실","2024-04-15","2024-04-15",307]
[377,"2024년 광주관광공사 경영평가 본심사","기획조정실","2024-04-15","2024-04-17","308~312"]
[378,"지역특화 G-컨벤션 서류심사","MICE운영팀","2024-04-16","2024-04-16",206]
[379,"혁신 Road 1 컨퍼런스","(사)한국상용소프트웨어협회","2024-04-16","2024-04-16","2센터2층로비,212~213"]
[380,"LP정착 교육","프리드라이프","2024-04-16","2024-04-16",210]
[381,"-2024 광주창업페스티벌 사전행사- 제 4회 파트너십 매칭데이","MICE운영팀","2024-04-16","2024-04-16","309~310,컨벤션동3층로비"]
[382,"2024년도 광주관광공사 우수전시회 지원사업 종합심사","MICE운영팀","2024-04-17","2024-04-17",205207]
[383,"광주관광공사 2분기 기간제근로자 채용  면접심사","기획조정실","2024-04-17","2024-04-17","209~210"]
[384,"광주청년일경험드림+ 15기 드림스쿨 직무역량강화 교육","전남대학교산학협력단(광주청년일경험드림플러스 통합지원기관)","2024-04-17","2024-04-17","211~213"]
[385,"수돗물먹는 실태조사 조사원 교육","케이제이알광주리서치","2024-04-17","2024-04-17",214]
[386,"지코드 프로젝트 전국 세미나","지코드","2024-04-18","2024-04-18","컨벤션3홀"]
[387,"미내랑더치커피 세미나","미내랑더치커피","2024-04-18","2024-04-18",202]
[388,"전국 자동차 운전 전문학원 전남협회","천일자동차운전학원","2024-04-18","2024-04-18",204]
[389," 엘알헬스앤뷰티 비즈니스데이","엘알헬스앤뷰티 ","2024-04-18","2024-04-18","206~207"]
[390,"인카금융과정 서비스 법인 기본과정","인카금융서비스","2024-04-18","2024-04-19",208]
[391,"에티버스 Secure Network 세미나 in 광주","래온즈","2024-04-18","2024-04-18","209~210"]
[392,"클러스터 최종 보고회","(사)한국경영혁신중소기업협회","2024-04-18","2024-04-18",208]
[393,"제9기 광주고용전문가 아카데미","광주상공회의소","2024-04-18","2024-04-18","212~213"]
[394,"청탁금지법 설명회","국민권익위원회","2024-04-18","2024-04-18","301~303"]
[395,"카길애그리퓨리나 24지구 DAY","(주)카길애그리퓨리나 ","2024-04-18","2024-04-18",304]
[396,"영섬권역 찾아가는 구매 상담회","한국수자원공사","2024-04-18","2024-04-18","305~306"]
[397,"co-week 강사 프로필 촬영","유니크플랜 ","2024-04-19","2024-04-19",202]
[398,"퓨리나 13지구 특약점 D-day","(주)카길애그리퓨리나 ","2024-04-19","2024-04-19",204]
[399,"트루헬스 마스터 챌린지 시즌18","매나테크코리아","2024-04-19","2024-04-20",207]
[400,"2024 한남비뇨의학회 춘계 학술대회","한남비뇨기의과학회","2024-04-19","2024-04-20","2센터2층로비, 211~214"]
[401,"환경부 국립야생동물질병관리원 국가직 공무원 면접 전형","환경부 국립야생동물질병관리원","2024-04-19","2024-04-19","209,301~306"]
[402,"광산센트럴파크지역주택조합 긴급임시총회","광산센트럴파크지역주택조합","2024-04-20","2024-04-20","컨벤션1홀"]
[403,"김영편입전국투어 설명회","아이비김영","2024-04-20","2024-04-20","209~210"]
[404,"광주 원데이 세미나","시너지이글스 그룹","2024-04-20","2024-04-20","302~303"]
[405,"청년성장프로젝트 광주청년 스테이션을 여는 청년 UP+ 특강","전남대학교산학협력단(광주청년일자리스테이션)","2024-04-20","2024-04-20","301,304~306"]
[406,"사업설명회","엑스턴글로벌","2024-04-22","2024-04-22","209~210"]
[407,"당원과의 대화","조국혁신당 광주광역시당","2024-04-23","2024-04-23","다목적홀1"]
[408,"종합소득세 회원희망(보수)교육","광주지방세무사회","2024-04-23","2024-04-23","컨벤션1~3홀"]
[409,"광주 관광DRT 활성화 운영 용역 제안서 평가위원회","관광진흥팀","2024-04-23","2024-04-23",204205]
[410,"한국CSO협회 세미나","한국CSO협회","2024-04-23","2024-04-23",210]
[411,"복권기금 야간보호교사 기초교육","케이티피씨에스","2024-04-23","2024-04-23",208]
[412,"삼성생명 VIP 세미나 ","삼성생명","2024-04-23","2024-04-23",211]
[413,"이영덕소장의 입시강연","세상을 바꾸는 여자들","2024-04-23","2024-04-23","212~213, 214"]
[414,"대한신경외과학회","대한신경외과학회","2024-04-24","2024-04-27","컨벤션1홀~3홀,2센터2층로비, 로비-A~D구역, 201-214,304~307"]
[415,"남도외식카네기클럽  ","주식회사남도외식문화개발","2024-04-24","2024-04-29",208]
[416,"엠스퀘어 글로벌 사업설명회","엠스퀘어글로벌","2024-04-24","2024-04-24","302~303"]
[417,"예술 특화여행 상품 공모 심사","관광진흥팀","2024-04-24","2024-04-24","308~310"]
[418,"ACE Fair 서포터즈 면접","MICE운영팀","2024-04-24","2024-04-24","소회의실2, 4"]
[419,"제3차 직능별 정책회의","민주평화통일자문회의사무처","2024-04-25","2024-04-25","301~303"]
[420,"영관급 인권감수성 향상과정","국가인권위원회","2024-04-25","2024-04-26",308]
[421,"2024년 G-유니콘 육성프로그램 발표평가","광주창조경제혁신센터","2024-04-25","2024-04-25","309~310"]
[422,"2024 한국전시장운영자협회 정기총회","MICE운영팀","2024-04-26","2024-04-26","301~303"]
[423,"2024 광주미래산업엑스포 제2차 실무추진위원회","MICE운영팀","2024-04-26","2024-04-26","301~303"]
[424,"24년도 수질오염총량관리시스템 사용자 교육","주식회사 엔지스","2024-04-26","2024-04-26",310]
[425,"MICE 참가자 특화관광 프로그램 운영 용역 제안서 평가위원회","MICE운영팀","2024-04-26","2024-04-26",309311]
[426,"브랜드 학교","광주광역시청 ","2024-04-27","2024-04-27","301~303"]
[427,"돌아온 알까지","이비티에스 협동조합","2024-04-28","2024-04-28","컨벤션2~3홀"]
[428,"2024년 한전KDN(주) 신입사원 채용 면접전형","한전 KDN","2024-04-28","2024-04-30","201~214,301~305,307"]
[429,"소득세 신고실무 직원희망교육","한국세무사회","2024-04-29","2024-04-29","다목적1~2홀"]
[430,"남도외식카네기클럽  ","주식회사남도외식문화개발","2024-04-29","2024-04-29",208]
[431," 융합돌봄 권역별 사업 설명회","광주발달장애인지원센터","2024-04-30","2024-04-30","컨벤션2~3홀"]
[432,"2024년 광주전남 중소병원감염관리 담당자 교육 ","화순전남대학교병원","2024-04-30","2024-04-30","212~213"]
[433,"2024 오매광주 SNS 기자단 발대식","관광진흥팀","2024-04-30","2024-04-30",308]
[434,"메디헬스","메디헬스","2024-04-30","2024-04-30",310]
[435,"국제로타리 3710지구 24-25년 회장총무 협의회 출범식","다올엔터테인먼트","2024-05-01","2024-05-01","컨벤션2~3홀"]
[436,"2024 상반기 지자체 농지업무 담당자 교육","한국농어촌공사","2024-05-02","2024-05-02","컨벤션1~3홀"]
[437,"한미약품","한미약품","2024-05-02","2024-05-02",202]
[438,"님과함께 토크쇼","맘쏙(한국여성문화아카데미)","2024-05-02","2024-05-02","209~210"]
[439,"소.나.기.(소통하고 나누어 기쁜 시간)","기획조정실","2024-05-02","2024-05-02",214]
[440,"Xode.net & Xgame.co 컨퍼런스","XODE & XGAME","2024-05-02","2024-05-02","301~303"]
[441,"메리츠화재해상보험주식회사 ","소두성 교육","2024-05-03","2024-05-03","컨벤션2~3홀"]
[442,"2025 전남국제수묵비엔날레 제2차 권역별(광주권) 자문위원회","전남국제수묵비엔날레","2024-05-03","2024-05-03",205]
[443,"농성동 지역주택조합 임시총회","주식회시 홍익피엠씨","2024-05-03","2024-05-03","308~310"]
[444,"남도외식카네기클럽  ","주식회사남도외식문화개발","2024-05-06","2024-05-20",208]
[445,"조립파트장 직무 교육 ","기아자동차 광주공장","2024-05-07","2024-05-07",201]
[446,"이민주 소장의 실전육아 세미나 ","세상을 바꾸는 여자들","2024-05-07","2024-05-07","208~209"]
[447,"2024 한국콘크리트학회 춘계학술대회","한국콘크리트학회 ","2024-05-08","2024-05-10","201,202,203,204,205,206,207,208,209,210,211,212,213,214,2센터2층로비,VIP실,컨벤션1홀,컨벤션2홀,컨벤션3홀"]
[448,"PM인터내셔널","(주)더플러스커뮤니케이션즈","2024-05-08","2024-05-09","로비-A구역, 다목적홀1"]
[449,"2024년 광주문화관광해설사 5월 임원진 간담회","관광진흥팀","2024-05-08","2024-05-08",205]
[450,"원데이 클래스","해피라이프","2024-05-08","2024-05-08","207~210"]
[451,"2024년도 의료기관 회계기준 교육","한국보건산업진흥원","2024-05-08","2024-05-08","212~213"]
[452,"광주 관광DRT 활성화 운영 용역 제안서 평가위원회","관광진흥팀","2024-05-08","2024-05-08",211304]
[453,"방종임의 입시강연 ","세상을 바꾸는 여자들 ","2024-05-08","2024-05-08","301~303"]
[454,"2024년 간호 필요도교육","국민건강보험공단","2024-05-08","2024-05-08","305~306"]
[455,"한화생명 광주지역단 JOB 세미나","한화생명","2024-05-08","2024-05-08","308~310"]
[456,"연구개발 리딩랩 회의","주식회사 백건준설","2024-05-09","2024-05-09",301]
[457,"콘크리트학회 인증심사 회의","신세계건설","2024-05-09","2024-05-09",301]
[458,"굿모닝월드 비전세미나","굿모닝월드","2024-05-09","2024-05-09","302~303"]
[459,"CDP SP 집체교육","현대자동차(주)","2024-05-09","2024-05-09","304~306"]
[460,"MR 교육","JW중외제약","2024-05-09","2024-05-09",308]
[461,"2024년 2분기 광주운영위원회","민주평화통일자문회의 광주지역회의","2024-05-09","2024-05-09",309]
[462,"광주광역시 남구 우체국 건립사업 설계VE 워크숍","상아매니지먼트컨설팅","2024-05-09","2024-05-09",310]
[463,"2024 질문하는 학교 권역별 워크숍","이화여대산학협력단","2024-05-10","2024-05-10","302~303"]
[464,"CTP 세미나 ","주식회사 메타에프앤씨","2024-05-10","2024-05-10","308~309"]
[465,"개혁신당 전당대회(광주)","한국의희망중앙당","2024-05-11","2024-05-11","컨벤션3홀"]
[466,"광주 원데이 세미나","시너지이글스 그룹","2024-05-11","2024-05-11","212~213"]
[467,"김세웅원장 초청 세미나","퍼스트솔루션","2024-05-12","2024-05-12",208]
[468,"국가공인 옥외광고사 자격시험","한국옥외광고협회중앙회","2024-05-12","2024-05-12","301~303"]
[469,"MICE 참가자 특화관광 프로그램 운영 용역 제안서 평가위원회","MICE운영팀","2024-05-13","2024-05-13",204205]
[470,"서구청 직원교육","광주광역시 서구청","2024-05-13","2024-05-14",211]
[471,"남도외식카네기클럽  ","주식회사남도외식문화개발","2024-05-13","2024-05-20",208]
[472,"제10기 광주고용전문가 아카데미","광주상공회의소","2024-05-14","2024-05-14",214]
[473,"한국유치원 총연합회 광주지회 임시총회 및 스승의날 기념식","(사)한국유치원 총연합회 광주지회 ","2024-05-14","2024-05-14","301~303"]
[474,"창업기업제품 실증 지원사업 경진대회","광주테크노파크","2024-05-13","2024-05-14","2센터3층로비,304~306"]
[475,"2024년도 광주광역시관광공사 제3회 이사회 ","기획조정실","2024-05-14","2024-05-14",307]
[476,"조립파트장 직무 교육 ","기아자동차 광주공장","2024-05-14","2024-05-14",201]
[477,"한국부식방식학회","한국부식방식학회","2024-05-15","2024-05-17","2센터2층로비,205,208~214,304~306"]
[478,"드림라이프 특별교육","삼성생명","2024-05-16","2024-05-16","컨벤션3홀"]
[479,"조립파트장 직무 교육 ","기아자동차 광주공장","2024-05-16","2024-05-16",201]
[480,"미내랑더치커피 세미나","개인","2024-05-16","2024-05-16",204]
[481,"2024년도 광주관광공사 우수전시회 지원사업(3차) 종합심사","MICE운영팀","2024-05-16","2024-05-16","206~207"]
[482,"세지지구 배수개선사업 설계VE 워크숍","남문멤버스(주)","2024-05-16","2024-05-16",208]
[483,"농어촌공사","농어촌공사","2024-05-16","2024-05-16",301]
[484,"광주서구청 신규자교육(신규자희망두드림캠프)","광주광역시서구청","2024-05-16","2024-05-24",308]
[485,"남구덕림지역주택조합 정기총회","남구덕림지역주택조합","2024-05-17","2024-05-17","컨벤션2~3홀"]
[486,"프로캣","프로캣","2024-05-17","2024-05-17",204]
[487,"제이온 원데이 세미나","주식회사 에이치알바이오","2024-05-17","2024-05-17",206]
[488,"복권기금 야간보호교사 기초교육","케이티피씨에스","2024-05-17","2024-05-17",301]
[489,"이재명 당대표와 함께하는 컨퍼런스","더불어민주당 중앙당","2024-05-18","2024-05-18","컨벤션2~3홀"]
[490,"YB콘서트 스태프 대기실","인트로엔터","2024-05-18","2024-05-18",202]
[491,"조직위원장 간담회","국민의힘 ","2024-05-18","2024-05-18","컨벤션2~3홀"]
[492,"LX샷시설명회","조은창호","2024-05-19","2024-05-19",204]
[493,"광주전남지방법무사회 정기총회","광주전남지방법무사회","2024-05-20","2024-05-20","컨벤션2~3홀"]
[494,"시 집중안전점검 보건분야 합동접검","안전시설사업실","2024-05-20","2024-05-20",205]
[495,"남도외식카네기클럽  ","주식회사남도외식문화개발","2024-05-20","2024-05-20",208]
[496,"중국 광저우시 문화방송 관광국","관광진흥팀","2024-05-20","2024-05-20",307]
[497,"전라남도 소방본부 구급대원 역량강화교육","목포시의료원 공공보건의료사업실","2024-05-21","2024-05-21",201203]
[498,"국토교통부 하자심사분쟁조정위원회 제18차 조정 소위원회 개최","국토안전관리원","2024-05-21","2024-05-21",205]
[499,"외대HS어학원 전국사업설명회","주식회사 에듀클라우드","2024-05-21","2024-05-21",206]
[500,"개그우먼 김혜선 특강 \"나를 사랑하는 법\" ","기업특판사업단","2024-05-21","2024-05-21","208~210"]
[501,"광주광역시교육청-서울대학교 찾아가는 샤-본부(고교상담) ","광주광역시교육청","2024-05-21","2024-05-22","211~214"]
[502,"안전보건 소통회의","한국수자원공사","2024-05-21","2024-05-21","302~303"]
[503,"엠 베스트SE 사업설명회","메가스터디교육(주)","2024-05-21","2024-05-21",301]
[504,"삼성생명 VVIP 세미나","삼성생명","2024-05-21","2024-05-21",304]
[505,"대원제약 조직문화 개선 워크숍","대원제약","2024-05-21","2024-05-21",306]
[506,"광주청년일경험드림+ 15기  Dream School 온보딩 교육","전남대학교산학협력단(광주청년일경험드림플러스 통합지원기관)","2024-05-22","2024-05-22","컨벤션2~3홀"]
[507,"매일국어 설명회","27번가","2024-05-22","2024-05-22",204]
[508,"현대 기아차 유관기관 간담회 ","(주)호원","2024-05-22","2024-05-22",206]
[509,"대상정보기술 솔루션데이","홍커뮤니케이션","2024-05-22","2024-05-22","209~210"]
[510," 광주관광공사-광주정보문화산업진흥원 업무협약식","관광진흥팀","2024-05-22","2024-05-22",307]
[511,"광주광역시교육청-서울대학교 찾아가는 샤-본부(연수/설명회)","광주광역시교육청","2024-05-21","2024-05-23","컨벤션2홀,컨벤션3홀,301~306"]
[512,"전라남도 소방본부 구급대원 역량강화교육","목포시의료원 공공보건의료사업실","2024-05-23","2024-05-23","201~202"]
[513,"교회건축세미나","교회건축포럼","2024-05-23","2024-05-23",204]
[514,"2024 상반기 찾아가는 지역 컨설팅","주식회사 다이렉트 엔터테이먼트","2024-05-23","2024-05-24",206]
[515,"IMO 스케일업 정부과제 2차년도(2024) 착수회의","로우카본","2024-05-23","2024-05-23",208]
[516,"엘알헬스앤뷰티 비즈니스 데이","엘알헬스앤뷰티 ","2024-05-23","2024-05-23",209210]
[517,"환경표지인증제도 설명회","한국환경산업기술원","2024-05-23","2024-05-23",211214]
[518,"대고바이오","대고바이오","2024-05-23","2024-05-23",212213]
[519,"광주서구청 신규자교육(신규자희망두드림캠프)","광주광역시서구청","2024-05-23","2024-05-24",308]
[520,"2024 대한통증학회 학술대회 ","대한통증학회","2024-05-24","2024-05-26","208,209,210,211,212,213,214,2센터2층로비, 로비-A~D구역, 컨벤션1~3홀"]
[521,"GA세일즈 마스터 과정","삼성생명","2024-05-24","2024-05-24",201202]
[522,"코비코㈜ 사회집합교육 5차수","코비코(주)","2024-05-24","2024-05-24",204]
[523,"정신질환사업 종사자 역량강화교육","광주광역 정신건강 복지센터","2024-05-24","2024-05-24",302303]
[524,"LX샷시설명회","조은창호","2024-05-25","2024-05-25",202]
[525,"[민간 고용서비스종사자 보수교육]알기 쉬운 공문서 작성법(2기)","한국기술교육대학교 고용서비스교육팀","2024-05-25","2024-05-25",206]
[526,"2024년 협회 역량강화 회계관련 알아보기","(사)한국농어촌퍼실리테이터협회","2024-05-25","2024-05-25",301]
[527,"첨단프라임씨티 총회 및 입주설명회","주식회사 해피홈","2024-05-25","2024-05-25",302303]
[528,"광주 원데이 세미나","시너지이글스 그룹","2024-05-25","2024-05-25","308~309"]
[529,"광주전남지방법무사회 광주지부 정기총회","광주전남지방법무사회 광주지부","2024-05-27","2024-05-27","컨벤션2~3홀"]
[530,"정보통신 보안감사","정보화신사업팀","2024-05-27","2024-05-27",206]
[531,"환경정보 등록 교육","한국환경산업기술원","2024-05-27","2024-05-27",208]
[532,"2024 광주미래산업엑스포 전시부스 기획 및 운영 용역 제안서 평가","MICE운영팀","2024-05-27","2024-05-27",307]
[533,"도테라 코리아 광주 EOE 클래스","도테라 코리아","2024-05-28","2024-05-28","201~203"]
[534,"룩옵틱스 수주회","(주)룩옵틱스","2024-05-28","2024-05-28",206]
[535,"전라남도 장성군 산동초등학교 및 산동중학교 신축공사 VE워크숍","에스티이엔지","2024-05-28","2024-05-28",210]
[536,"2023년 리더변화 프로그램","BGF 리테일","2024-05-28","2024-05-28",211]
[537,"주제 자유특구 사업착수회","한국해양교통안전공단","2024-05-28","2024-05-28",212]
[538,"디지털 연계 흡수성소재 융복합의료산업 기반 구축사업 2차년도 킥오프 회의","전남대학교 산학협력단","2024-05-28","2024-05-28",214]
[539," 2024학년도 경희대학교 광주전남지역 학생학부모 입학설명회","경희대학교 국제캠퍼스","2024-05-29","2024-05-29","201.202.203.301.302.303.304.305.306"]
[540,"파트너코코리아 CONNECT","파트너코코리아","2024-05-29","2024-05-29",204]
[541,"명덕초 다목적강당 증축 설계공모 제안서 평가","주식회사 에스랩","2024-05-29","2024-05-29",205206]
[542,"광주/전남 파트너를 위한 (주)비아이엔솔루션 제품 세미나","비아이엔 솔루션","2024-05-29","2024-05-29",208]
[543,"5월 광주 창업포럼","광주창조경제혁신센터","2024-05-29","2024-05-29","209,308,309,310,컨벤션동VIP실"]
[544,"제3회 광주관광 라운드테이블","지역관광팀","2024-05-29","2024-05-29",210]
[545,"(사)아시아문화중심도시조성지원포럼 제2차 임시총회","(사)아시아문화중심도시조성지원포럼","2024-05-29","2024-05-29",211]
[546,"신입사원 채용 면접","(주)보령제약","2024-05-29","2024-05-29",212213]
[547,"2024 공공하수도 관리대행 워크숍","한국상하수도협회","2024-05-30","2024-05-31","컨벤션2~3홀"]
[548,"셀맥인터네셔날","주식회사 셀맥인터네셔날","2024-05-30","2024-05-30",202]
[549,"프렌즈 아카데미 창업설명회","카카오브이엑스","2024-05-30","2024-05-30",204]
[550,"2024 학교예술강사 지원사업  ⌜교육자문위원회의⌟","광주광역시서구문화원","2024-05-30","2024-05-30",205]
[551,"미내랑더치커피 세미나","미내랑더치커피","2024-05-30","2024-05-30",206]
[552,"SKY 학생부평가 변화와 고교학점제 대비전략","파머스 영어 광주 협의회","2024-05-30","2024-05-30",208]
[553," 세지지구 배수개선사업 설계VE 이행회의","남문멤버스(주)","2024-05-30","2024-05-30",210]
[554,"혼다모터사이클 HED 미팅","혼다코리아(주)","2024-05-30","2024-05-30",211]
[555,"대학초청 광주 맞춤형 진학지도 역량강화연수","광주광역시교육청","2024-05-30","2024-05-30","301.302.303.304.305.306"]
[556,"BIS컵 국제이미용기능경기대회","사단법인 한국뷰티산업개발","2024-05-31","2024-06-01","컨벤션1홀,컨벤션2홀,컨벤션3홀"]
[557,"2024년 16기 한국국학진흥원 이야기할머니 사업본부 월례교육","한국국학진흥원 ","2024-05-31","2024-05-31","201.204.206"]
[558,"트루헬스 마스터 챌린지 ","매나테크코리아","2024-05-31","2024-06-01",207]
[559,"학습자중심 교과교육 학회 춘계 학술대회","학습자 중심 교과교육 학회","2024-05-31","2024-05-31","208~210"]
[560,"시설공사 청렴소통 간담회","광주광역시교육청 ","2024-05-31","2024-05-31",214]
[561,"김성균음악교육 세미나","김성균음악교육연구소","2024-05-31","2024-05-31",308]
[562,"천재교육 교육과정 검토","천재교육(주)","2024-06-01","2024-06-01",201]
[563,"(240601)ITC영어 광주지점 회의실 위약금 ","ITC통역스쿨 광주제1브랜치","2024-06-01","2024-06-01","209~210"]
[564,"광주청년일경험드림+멘토링사업","전남대학교 산학협력단 (광주청년일경험드림+ 통합지원기관)","2024-06-01","2024-06-01",214]
[565,"메가월드 임채옥그룹 원데이세미나","유니시티 코리아","2024-06-01","2024-06-01","212~213"]
[566,"담양지역주택조합  임시총회","담양지역주택조합","2024-06-01","2024-06-01","308~310"]
[567,"유희왕 월드 챔피언쉽 2024","대원미디어 주식회사","2024-06-02","2024-06-02","컨벤션1홀"]
[568,"농어촌 우리동네 예술학교 강사기본소양교육","주식회사 아츠리퍼블릭","2024-06-02","2024-06-02",204]
[569,"AI 창업경진대회","에스마이스연구원","2024-06-03","2024-06-04","컨벤션1홀,컨벤션2홀,컨벤션3홀,4층VIP실"]
[570,"한미약품 지역교육","한미약품","2024-06-03","2024-06-03",204]
[571,"-광주미래산업엑스포- 2024 with 광주일자리박람회 2차 실무협의회","MICE운영팀","2024-06-03","2024-06-03",205]
[572,"소.나.기.(소통하고 나누어 기쁜 시간)","기획조정실","2024-06-03","2024-06-03",214]
[573,"마이다스아이티 세미나","마이다스아이티","2024-06-04","2024-06-04",204]
[574,"현대카드 2주년 행사","메리츠화재 현대카드센터","2024-06-04","2024-06-04",208]
[575,"소두성 교육 ","메리츠화재해상보험주식회사 ","2024-06-05","2024-06-05","다목적홀1,다 1홀 VIP실"]
[576,"2024 생태전환교육 포럼","광주교육시민협치진흥원설립추진단","2024-06-05","2024-06-05","컨벤션2홀,컨벤션3홀"]
[577," KT IT 서포터즈 신규강사 면접","케이티씨에스","2024-06-05","2024-06-05",202204]
[578,"조립파트장 직무 교육 ","기아자동차 광주공장","2024-06-05","2024-06-05",208]
[579,"보수혁신세미나","개인","2024-06-05","2024-06-05",211]
[580,"2024년 노인장기요양보험 지역토론회","국민건강보험공단","2024-06-05","2024-06-05","212~213"]
[581,"광주 심장중재술 심포지움 GICS 2024","전남대학교병원 심장센터 (대행사 BESTIZE)","2024-06-06","2024-06-08","2센터3층로비,301,302,303,304,305,306,307,3층 VIP실,4층 VIP실,로비-A구역,로비-B구역,로비-C구역,로비-D구역,컨벤션1홀,컨벤션2홀,컨벤션3홀"]
[582,"K-imaging 2024","심혈관바이오연구원","2024-06-06","2024-06-08","2센터2층로비, 211,212,213,214"]
[583,"2024 광주 MICE 얼라이언스 오리엔테이션","MICE 운영팀","2024-06-07","2024-06-07","308~310"]
[584,"YBM 교과서 검토 간담회","주식회사 와이비엠","2024-06-08","2024-06-08","201~203"]
[585,"사회복지 현장실습 교육","주식회사 티엔글로벌","2024-06-08","2024-06-08",204]
[586,"광주 원데이 세미나","시너지이글스 그룹","2024-06-08","2024-06-08","308~309"]
[587,"힐스테이트 신용 더 리버 조합원 간담회","힐스테이트 신용 더 리버 조합원","2024-06-09","2024-06-09","컨벤션2홀,컨벤션3홀"]
[588,"2024 제2차 환자안전전담인력 신규교육 ","대한병원협회","2024-06-10","2024-06-12","컨벤션1홀"]
[589,"고려라이온스회장 이취임식","라이온스","2024-06-10","2024-06-10","컨벤션2홀,컨벤션3홀"]
[590,"맘스피드 산모교실","비앤아이","2024-06-11","2024-06-11",204206]
[591," 호남사이버보안협의회 관련 회의","정보화신사업팀","2024-06-11","2024-06-11",205]
[592,"학생부종합전형 워크숍","한양대학교 입학처","2024-06-11","2024-06-11","208~210"]
[593,"공무원 노사관계 담당자 교육","인사혁신처","2024-06-11","2024-06-11",211]
[594,"광주관광공사 노동조함 현안 설명회","광주관광공사 노동조합","2024-06-11","2024-06-11",213]
[595,"중대재해 처벌법 안전보건관리체계 구축방안","사단법인 건설재해예방협회 광주본부","2024-06-11","2024-06-11",214]
[596,"2024 광주대표관광기념품 디자인 개발용역 평가위원회 개최 ","관광진흥팀","2024-06-11","2024-06-11",307]
[597,"한화생명 광주지역단 JOB 세미나","한화생명","2024-06-11","2024-06-11","308~310"]
[598,"건설기계 사고예방 세미나","안전보건공단","2024-06-12","2024-06-12","컨벤션3홀"]
[599,"모비언트 팀장 워크숍","모비언트주식회사","2024-06-12","2024-06-12",206]
[600,"2024년 공공데이터 제공 데이터기반행정 실무자교육","한국능률협회","2024-06-12","2024-06-12","208~213,2센터2층로비"]
[601,"신규 식품영업자 법정위생교육(한국식품산업협회)","한국식품산업협회","2024-06-12","2024-06-14","301~303"]
[602,"2024 광주창업페스티벌 사전행사 기관통합 IR",null,"2024-06-12","2024-06-12","309~310"]
[603,"에이치비지에이 특별세미나 한인수 강사","에이치비지에이","2024-06-12","2024-06-12",304]
[604,"제2회 지역중소기업 Value UP 아카데미 in 광주"," 디딤커뮤니케이션","2024-06-13","2024-06-13","201,203~4,206,다 1홀VIP실,다 2홀VIP실, 다목적홀1, 다목적홀2"]
[605,"2024년 보호보상·공공재정·취업제한 실무 통합교육","국민권익위원회","2024-06-13","2024-06-13","컨벤션2홀,컨벤션3홀"]
[606,"한국수중수상로봇기술연구회 춘계학술대회","한국수중수상로봇기술연구회 ","2024-06-13","2024-06-13","208~210"]
[607,"전남 지역기업 성장사다리 지원사업 1차 협약체결식","전남테크노파크","2024-06-13","2024-06-13","212~213"]
[608,"CDP SC 2차 집체교육","현대자동차(주)","2024-06-13","2024-06-13",214]
[609,"기아 광주조립3부 파트장 전문화 워크샵","기아자동차 광주공장","2024-06-13","2024-06-13",304]
[610,"제 58차 전국대회[광주]","한국국제기드온협회","2024-06-14","2024-06-15","208~210, 214, 다목적홀1"]
[611,"제50회 광주지방세무사회 정기총회 및 상생활동보고회","광주지방세무사회","2024-06-14","2024-06-14","4층 VIP실,로비-A구역,로비-B구역,로비-C구역,컨벤션1홀,컨벤션2홀,컨벤션3홀"]
[612,"댐관리 세부시행기획 지자체 설명회","한국수자원공사","2024-06-14","2024-06-14",201]
[613,"전남축협 구매 담당자 역량강화교육","(주)농협사료 전남지사","2024-06-14","2024-06-14",204]
[614,"광주여성세무사회 정기총회","광주여성세무사회","2024-06-14","2024-06-14",206]
[615,"2024년 상반기 6급 중견관리자 리더십 교육","광주광역시서구청","2024-06-10","2024-06-14",309]
[616,"청년 삶 실태조사","한국리서치","2024-06-14","2024-06-14",214]
[617,"유니시티 세미나","유니시티 ","2024-06-15","2024-06-15","컨벤션2홀,컨벤션3홀,"]
[618,"농림식품기술기획평가원 면접전형","(주)이디스앤","2024-06-15","2024-06-15","202,204,205,207, 211~212"]
[619,"대한골다공증학회 호남지회 연수강좌","대한골다공증학회","2024-06-15","2024-06-16","2센터2층로비,211~213"]
[620,"미래엔 명사초청 강연회","미래엔","2024-06-15","2024-06-15","301~306,3층 VIP실"]
[621,"남양휴튼 3차 입주 정상화 대책 위원회","개인","2024-06-15","2024-06-15","308~309"]
[622,"6지역 로타리클럽 합동 이.취임식","다올엔터테이먼트","2024-06-17","2024-06-17","컨벤션2홀,컨벤션3홀"]
[623,"광주관광공사 촉탁직 전환 및 재고용 면접심사","기획조정실","2024-06-04","2024-06-17","204~205,211"]
[624,"백서특위 회의","국민의힘 ","2024-06-17","2024-06-17","211~213"]
[625,"2024 광주진로진학박람회 운영협의회","MICE운영팀","2024-06-17","2024-06-17",307]
[626," 2024광주메디뷰티산업전 의료뷰티 공동관 참여기관 실무자 회의","MICE운영팀","2024-06-17","2024-06-17",307]
[627,"7급 실무역량 강화교육","광주광역시서구청","2024-06-17","2024-06-21",310]
[628,"미래산업엑스포","MICE운영팀","2024-06-17","2024-06-21","소회의실4"]
[629," 2024년 광주광역시 품질분임조 경진대회","한국표준협회","2024-06-18","2024-06-18","201~202"]
[630,"프로캡","프로캡","2024-06-18","2024-06-18",204]
[631,"광주미래산업엑스포  2024 with  일자리박람회 3차  실무협의회","MICE운영팀","2024-06-18","2024-06-18",205]
[632,"시그니아 IX론칭 지역세미나","시그니아 보청기","2024-06-18","2024-06-18",206]
[633,"중견·중소기업 오픈이노베이션 1차 밋업데이","광주테크노파크","2024-06-18","2024-06-19","208~210"]
[634,"2024 가공용쌀 매입대상자 교육","한국쌀가공식품협회","2024-06-18","2024-06-18","211~213"]
[635,"광주광역시관광공사 총인건비 설명회","기획조정실","2024-06-19","2024-06-19","201~203"]
[636,"미래에셋금융서비스","미래에셋금융서비스","2024-06-19","2024-06-19","212~213"]
[637," 2024년 기업탐방형 일경험프로그램","기획조정실","2024-06-19","2024-06-19",214]
[638,"전남 소재부품뿌리산업 연구개발 지원사업 선정평가","전남테크노파크","2024-06-18","2024-06-19","301~304"]
[639,"2024년 망막학회 하계 학술대회","한국망막학회","2024-06-20","2024-06-22","컨벤션1홀,컨벤션2홀,컨벤션3홀, 로비-A~D구역"]
[640,"변화와 혁신을 위한 끝장 토론회 ","기획조정실","2024-06-20","2024-06-20","201~205"]
[641,"광주광역시관광공사 기간제근로자 서류심사","기획조정실","2024-06-20","2024-06-20",205]
[642,"저상 좌석버스 표준모텔 R&D 기술교류회","한국교통안전공단","2024-06-20","2024-06-20",206]
[643," 광주관광공사 더민주 노동조합 임시총회","더민주노동조합","2024-06-20","2024-06-20",208]
[644," 2024년 해양수산 재난대응 역량강화 워크숍","해양수산부","2024-06-20","2024-06-20","212~213"]
[645,"FY25Q2 Dell Moment for Regional Partner Sales","포인트커뮤니케이선즈","2024-06-20","2024-06-20",301]
[646,"녹십자웰빙 만성피로 영양치료 기초 세미나 ","녹십자웰빙","2024-06-20","2024-06-20",301]
[647,"2024년 광주환경공단 기술본부 악취방지시설 기술교류 세미나","광주환경공단","2024-06-20","2024-06-20",303]
[648,"기아 광주조립3부 파트장 전문화 워크샵","기아자동차 광주공장","2024-06-20","2024-06-20",304]
[649,"주한 태국대사 방문","광주광역시관광공사","2024-06-20","2024-06-20",307]
[650,"한샘 리하우스 교육팀 부엌설계 실습교육","(주)한샘","2024-06-21","2024-06-21",206]
[651,"캣츠아이 전시회","캣츠아이","2024-06-21","2024-06-21",210]
[652,"전한길 선생님 명사특강","하나생명 금융서비스","2024-06-21","2024-06-21","211~214,2센터2층로비"]
[653,"7급 실무역량 강화교육","광주광역시서구청","2024-06-21","2024-06-21",310]
[654,"2024년 동국대학교 Dream Package(호남권 전형안내 및 모의면접)"," 동국대학교","2024-06-22","2024-06-22","201~207,212~213"]
[655,"광주광역시교육청 2024 AI디지털교과서 교원연수 강사 발대식","전남대학교 교육문제 연구소","2024-06-22","2024-06-22","208~211,301,304~306,308~310"]
[656,"광주 원데이 세미나","시너지이글스 그룹","2024-06-22","2024-06-22","302~303"]
[657,"양동시장1지구 지역주택조합 8차 임시총회","양동시장1지구 지역주택조합 8차 임시총회","2024-06-23","2024-06-23",308]
[658,"데이터 역량강화 교육","(주)케이브레인컴퍼니","2024-06-23","2024-06-25",208]
[659,"AC/DC 하이브리드 배전망 운영 성능평가 기술개발 착수회의","한국전기연구원","2024-06-24","2024-06-25","201~202"]
[660," 광주광역시관광공사 상반기 안전경영위원회","안전시설사업실","2024-06-24","2024-06-24",205]
[661,"문화해설사 위원장 간담회","관광진흥팀","2024-06-24","2024-06-24",205]
[662,"'2024 장애인거주시설 인권실태조사' 전문 조사원 양성 교육","(사)한국장애인단체총연맹","2024-06-24","2024-06-25","209~210,211"]
[663,"직무설명회","어센틱금융그룹","2024-06-24","2024-06-24","212~213"]
[664,"2024년 상반기 8,9급 실무역량 기본교육 ","광주광역시서구청","2024-06-24","2024-06-28",304]
[665,"주간업무보고","기획조정실","2024-06-24","2024-06-24",307]
[666,"중견·중소기업 오픈이노베이션 2차 밋업데이","광주테크노파크","2024-06-24","2024-06-24","308~310"]
[667,"2024년 16기 한국국학진흥원 이야기할머니 사업본부 월례교육","한국국학진흥원 ","2024-06-25","2024-06-25","201.204.206"]
[668,"호남권 관광 협의회","관광진흥팀","2024-06-25","2024-06-25",205]
[669,"광주관광공사 아시아문화전당재단 업무협약식","지역관광팀","2024-06-25","2024-06-25",211]
[670,"기간제근로자 면접심사","기획조정실","2024-06-25","2024-06-25","212~213"]
[671,"의료기기 품질 책임자 교육 매뉴얼 및 절차서","한국 의료기기 안전 정보원","2024-06-25","2024-06-25",214]
[672,"다비치 안경 체인 Χ 한국호야렌즈 마이오스마트 협력세미나","한국호야렌즈 주식회사","2024-06-25","2024-06-25",301]
[673,"팜스코 양돈 매스미팅","팜스코","2024-06-25","2024-06-26","302~303"]
[674,"2024년도 광주광역시 외국인환자 유치업체 간담회","광주의료관광지원센터","2024-06-25","2024-06-25",304]
[675,"입시설명회","청담인더북","2024-06-25","2024-06-25","2센터3층로비,305~306"]
[676,"토지 재테크","더힐링주식회사","2024-06-25","2024-06-25","308~309"]
[677," 2024년 지방공기업 경영평가 고객만족도 조사 워크숍","기획조정실","2024-06-25","2024-06-25","중회의실2"]
[678,"광주 미래 산업 엑스포","전시사업실","2024-06-26","2024-06-29","201~203,205,214,307"]
[679,"6월 근로자 보건관리(미화)","안전시설사업실","2024-06-26","2024-06-26",205]
[680,"Dooray 사용 설명회","정보화신사업팀","2024-06-26","2024-06-26",310]
[681,"루멘 비전 세미나","루멘","2024-06-26","2024-06-26","212~213"]
[682,"제2회 청산법인 협의체 회의(2024년도 상반기) ","한국사학진흥재단","2024-06-26","2024-06-26",307]
[683,"광주시민단체협의회 후원의밤","광주시민단체협의회","2024-06-27","2024-06-27","컨벤션2~3홀"]
[684,"IBK 창공 기업 PT 심사","전남대학교 기술지주","2024-06-27","2024-06-27",206]
[685,"24년 ETC-ATZ Nexium Call Effectiveness workshop(일동제약)","일동제약(주)","2024-06-27","2024-06-27",301]
[686,"삼성생명 썸머페스티벌 발대식","삼성생명","2024-06-27","2024-06-27","302~303"]
[687,"기아 광주조립3부 파트장 전문화 워크샵","기아자동차 광주공장","2024-06-27","2024-06-27",304]
[688,"환경교육 정책 협의회","한국환경보전원","2024-06-27","2024-06-27",305]
[689,"2024 사례공유 컨퍼런스","한국사회보장정보원","2024-06-28","2024-06-28","301~303"]
[690,"2024년 상반기 8,9급 실무역량 기본교육 ","광주광역시서구청","2024-06-28","2024-06-28",304]
[691,"2025 9급 공무원 대비 메가공무원 합격전략 설명회","메가스터디교육","2024-06-30","2024-06-30","4층 VIP실,컨벤션2홀,컨벤션3홀"]
[692,"LX샷시설명회","조은창호","2024-06-30","2024-06-30",202]
[693,"광주상무소 4.3희생자 추모행사","제주4.3 도민연대","2024-06-30","2024-06-30",204]
[694,"한미약품 지역교육","한미약품","2024-07-01","2024-07-01",204]
[695,"김경일 교수의 <0.1% 자녀교육의 비밀>","세상을 바꾸는 여자들 ","2024-07-01","2024-07-01","211~213"]
[696,"소.나.기.(소통하고 나누어 기쁜 시간)","기획조정실","2024-07-01","2024-07-01",214]
[697,"7월 권역별 매니저 세션","삼성화재해상보험","2024-07-01","2024-07-01","301~303"]
[698,"소두성 교육","메리츠화재해상보험주식회사 ","2024-07-02","2024-07-02","컨벤션2홀,컨벤션3홀"]
[699,"김현주작가의 강연회","주식회사 에스앤씨 헬스케어","2024-07-02","2024-07-02","208~210"]
[700,"카네기","퍼플컴퍼니","2024-07-02","2024-07-02","212~213"]
[701,"제1회 전국당대회 합동연설회","새로운미래당","2024-07-03","2024-07-03","컨벤션3홀"]
[702,"감정노동자 상담","기획조정실","2024-07-02","2024-12-31","컨벤션동 VIP실"]
[703," (2024(2023년 실적) 출자출연기관 기관장 경영평가(현장평가)","지역관광팀","2024-07-03","2024-07-03","209~210"]
[704,"위기임신 및 보호출산 지원사업 설명회","아동관리보장원","2024-07-03","2024-07-03","301~306"]
[705,"광주로타리 회장 취임식","광주로타리클럽","2024-07-03","2024-07-03","308~310"]
[706,"IBK 3대 클럽 통합 세미나","기업은행","2024-07-04","2024-07-05","컨벤션2홀,컨벤션3홀"]
[707,"광주관광기업지원센터 센터장 채용 ","기획조정실","2024-07-04","2024-07-11","205,213~214"]
[708,"한화생명 광주지역단 JOB 세미나","한화생명","2024-07-04","2024-07-04","208~210"]
[709,"곡성 석곡지구 다목적농촌용수개발사업 설계VE 워크숍","남문멤버스(주)","2024-07-04","2024-07-04",211]
[710,"친환경 비료 권역별 교육","농협경제지주 주식회사 자재사업부","2024-07-04","2024-07-04","212~213"]
[711,"매쓰홀릭 교육 설명회","27번가","2024-07-04","2024-07-04",214]
[712,"노랑우산","중소기업중앙회","2024-07-04","2024-07-04","304~306"]
[713,"광주관광 거버넌스 고정형분과위원 위촉식","지역관광팀","2024-07-04","2024-07-04","309~310"]
[714,"대한신경모니터링학회","대한신경모니터링학회","2024-07-05","2024-07-06","2센터3층로비,304~306"]
[715,"비상교육 유아지사 간담회","(주)비상교육 키즈","2024-07-05","2024-07-05",206]
[716,"2024 한복모델선발대회인코리아","JTV 전북방송","2024-07-06","2024-07-06","로비-D구역,컨벤션3홀"]
[717,"퇴직연금 등록 교육","사단법인보험연수원","2024-07-06","2024-07-06","201~203"]
[718,"장애인 스포츠 심판 아카데미","삼육대학교","2024-07-06","2024-07-06","206~207"]
[719,"2024 전남치과의사회 학술대회","전남치과의사회","2024-07-06","2024-07-07","2센터2층로비,208,211~214"]
[720,"교실혁명 선도교사 양성연수","사단법인 한국정보교육학회","2024-07-06","2024-07-06","301~303"]
[721,"프라임시티 정기총회","프라임시티 지역주택조합","2024-07-06","2024-07-06","308~310"]
[722,"국민의힘 제4차 전당대회 합동연설회","국민의힘 ","2024-07-07","2024-07-08","다목적홀2"]
[723,"교실혁명 선도교사 양성연수 ","사단법인 미래교실 네트워크","2024-07-07","2024-07-07","301~304,306"]
[724,"2024년 채용 연계형 인턴 인적성 검사 전형","해양에너지 ","2024-07-08","2024-07-08","컨벤션1홀,컨벤션2홀"]
[725,"원 써클 협의회","국민의힘","2024-07-08","2024-07-08",205]
[726,"공공데이터 품질관리 수준진단 컨설팅","정보화신사업팀","2024-07-08","2024-07-08","중회의실2"]
[727,"조립파트장 직무 교육 ","기아자동차 광주공장","2024-07-09","2024-07-09",201]
[728,"TOSEL Lab 광주지역 설명회","광주교육문화 ","2024-07-09","2024-07-09",204]
[729,"CRM줌회의 ","MICE운영팀","2024-07-09","2024-07-09",205]
[730,"청년 일경험 지원사업 기업탐방형 프로그램","기획조정실","2024-07-09","2024-07-09",206]
[731,"복권기금 야간보호교사 보수교육","케이티씨에스","2024-07-09","2024-07-09",208]
[732,"한화손해보험 원데이 테마과정","한화손해보험","2024-07-09","2024-07-09","209~210"]
[733,"전남기업지역성장사다리 지원사업 2차 현장평가","전남테크노파크","2024-07-09","2024-07-09",211]
[734,"프라임에셋 원데이 테마과정","프라임에셋","2024-07-09","2024-07-09","212~213"]
[735,"제4차 중소기업기술마켓 전문가 양성 컨설팅","한국도로공사","2024-07-09","2024-07-09",301]
[736,"정유진소장의 사회성 비밀 노트 ","맘쏙(한국여성문화아카데미)","2024-07-10","2024-07-10",201]
[737,"2024년 한국에너지공대 2차 직원 채용 면접 전형","한국에너지공과대학","2024-07-10","2024-07-10","204,206~207"]
[738,"산업안전보건의날 기념식","안전보건공단","2024-07-10","2024-07-10","209~210,212~214,2센터2츨로비"]
[739,"7월 광주창업포럼","광주창조경제혁신센터","2024-07-10","2024-07-10","301~306"]
[740,"광주전남지역대학 공동 입시설명회","유옘넷","2024-07-11","2024-07-11","컨벤션2홀,컨벤션3홀"]
[741,"미내랑더치커피 세미나","미내랑더치커피","2024-07-11","2024-07-11",204]
[742,"2025학년도 용북중학교 입학설명회","용북중학교","2024-07-11","2024-07-11","208~210"]
[743,"광주관광기업지원센터 센터장 채용 ","기획조정실","2024-07-11","2024-07-11","205,213~214"]
[744,"2024년 국제 3개국 심포지엄 및 비젼 선포식","엑스턴주주글로벌(주식회사)","2024-07-11","2024-07-11","302~303"]
[745,"국립호남권생물자원관 전문가 자문회의 개최","국립호남권생물자원관","2024-07-12","2024-07-12",204]
[746,"대한해부학회 제5차 상임이사 및 위원장 회의","대한해부학회","2024-07-12","2024-07-12",205]
[747,"14지구 D-day","(주)카길애그리퓨리나 ","2024-07-12","2024-07-12",208]
[748,"휴지통교육콘서트","(주)해오름커뮤니케이션즈","2024-07-12","2024-07-12","209~210"]
[749,"제7차 공직유관단체 채용실태 정기 전수조사 ","청렴감사팀","2024-07-12","2024-07-16","302~303"]
[750,"Expert-Talk Web Symposium","GC녹십자 ","2024-07-12","2024-07-12",311]
[751,"유니시티 세미나","유니시티","2024-07-13","2024-07-13","컨벤션2홀,컨벤션3홀"]
[752,"LX샷시설명회","조은창호","2024-07-13","2024-07-13",204]
[753,"광주 원데이 세미나","시너지이글스 그룹","2024-07-13","2024-07-13","212~213"]
[754,"2024년 제1회 마이데이터관리사 자격시험","신용정보협회","2024-07-14","2024-07-14",211]
[755,"제3회 여성기업 주간•광주지회 창립 제25주년 기념식","한국여성경제인협회 광주지회","2024-07-15","2024-07-15","컨벤션2홀,컨벤션3홀"]
[756,"크리스찬디올꾸뛰르코리아㈜ 신세계 광주 부티크 공개채용","크리스챤디올꾸뛰르코리아(주)","2024-07-15","2024-07-15",205]
[757,"최민준 소장의 육아강연","세상을바꾸는 여자들","2024-07-15","2024-07-15","209~213"]
[758,"lG생활건강 생활정원 직체교육","lG생활건강","2024-07-16","2024-07-16","컨벤션3홀"]
[759,"조립파트장 직무 교육 ","기아자동차 광주공장","2024-07-16","2024-07-16",201]
[760,"관광발전아이디어회의","기획조정실","2024-07-16","2024-07-16",205]
[761,"현대차기아 협력사 CDP SC 집체교육","에코앤파트너스","2024-07-16","2024-07-16",206]
[762,"한화생명 금융서비스 H-세미나","한화생명","2024-07-16","2024-07-16","209~210"]
[763,"직장보육지원센터 교사교육","사단법인 아이코리아","2024-07-16","2024-07-16","212~213"]
[764,"LX하우시스 고객초청행사","LX하우시스","2024-07-16","2024-07-16",214]
[765,"기관통합 IR","MICE운영팀","2024-07-16","2024-07-16","308~310"]
[766,"한국에너지공과대학교 2024년 3차 직원 채용 면접전형","잡앤피플연구소","2024-07-17","2024-07-17","201,203~207"]
[767,"마이시스 업무협의","정보화신사업팀","2024-07-17","2024-07-17",205]
[768,"전시장 정시모집 추첨","MICE운영팀","2024-07-17","2024-07-17",206]
[769,"일본대사관 영사 출장 서비스","일본대사관","2024-07-17","2024-07-17",208]
[770,"프로캡","프로캡","2024-07-17","2024-07-17",210]
[771,"2024 AI바우처 지원사업 매칭데이 및 상담회 ","한국정보통신진흥협회","2024-07-17","2024-07-17","211~214"]
[772,"진로진학박람회/고교학점제","MICE운영팀 ","2024-07-18","2024-07-20","201~204,206~207,2센터2층로비,208~214,302~303,컨벤션동3층로비,308~312"]
[773,"PM인터내셔널","(주)더플러스커뮤니케이션즈","2024-07-18","2024-07-18","로비-A구역,컨벤션1홀,컨벤션2홀,컨벤션3홀"]
[774,"조립파트장 직무 교육 ","기아자동차 광주공장","2024-07-18","2024-07-18",208]
[775,"비욘드잉글리쉬 광주강연 ","비욘드잉글리쉬","2024-07-18","2024-07-18","209~210"]
[776,"2024년 맞춤형 방문교육 (국립나주병원)","국림중앙의료원","2024-07-18","2024-07-18",301]
[777,"호남 제주권 분산 에너지 활성화 및 연계전략 마련을 위한 정책토론회 ","재단법인 광주연구원","2024-07-18","2024-07-18","302~303"]
[778,"광주지역 교원연수","캠퍼스멘토","2024-07-18","2024-07-18",304]
[779,"엘알헬스앤뷰티 비즈니스 데이","엘알헬스앤뷰티 ","2024-07-18","2024-07-18","305~306"]
[780,"트루헬스 마스터 챌린지 ","(주)더플러스커뮤니케이션즈","2024-07-19","2024-07-19",204]
[781,"LG이노텍 하반기 목표달성 워크샵","엘지이노텍광주공장","2024-07-19","2024-07-19",301]
[782,"유한회사 장강 직원 워크숍","유한회사 장강","2024-07-19","2024-07-19","305~306"]
[783,"광주 미래 2050 전략수립","재단법인 광주연구원","2024-07-20","2024-07-20",301]
[784,"월드패밀리 클럽쇼","비즈플랜","2024-07-21","2024-07-21","212~213"]
[785,"교실혁명 선도교사 양성연수 ","사단법인 미래교실 네트워크","2024-07-21","2024-07-21","301~304,306"]
[786,"재해경감우수기업인증 ","안전시설사업실","2024-07-22","2024-07-22",205]
[787,"세일즈 살롱","나이스비즈랩","2024-07-22","2024-07-22","211~213"]
[788,"2024 광주 ACE Fair 전시 대행 용역 제안서 평가위원회 ","MICE운영팀","2024-07-22","2024-07-22",307]
[789,"삼성생명 VIP 광주권 세미나 ","삼성생명","2024-07-23","2024-07-23",202]
[790,"국토안전관리원 하자실사 분쟁조정위원회제23차 조정 소위원회개최 ","국토안전관리원","2024-07-23","2024-07-23",204]
[791,"화순초 그린스마트 스쿨 개축공사 건축설계공모 제안서 평가","(유)현대산업정보연구원","2024-07-23","2024-07-23","205~206"]
[792,"곡성 석곡지구 다목적농촌용수개발사업 설계VE이행회의","남문멤버스(주)","2024-07-23","2024-07-23",208]
[793,"광주관광공사 3분기 기간제근로자 채용 면접심사","기획조정실","2024-07-23","2024-07-23","212~213"]
[794,"광주 원데이 세미나","시너지이글스 그룹","2024-07-23","2024-07-23","302~303"]
[795,"제1차 G-FESTA 실무협의회","MICE운영팀","2024-07-23","2024-07-23",307]
[796,"건설공제조합 공제상품설명회","건설공제조합","2024-07-24","2024-07-24",204]
[797,"IPP형 일학습병행 커뮤니티 ","동신대학교","2024-07-24","2024-07-24",208210]
[798,"2024 해양에너지 채용 면접 ","해양에너지 ","2024-07-24","2024-07-24","209,211~213"]
[799,"광주관광 거버런스 라운드테이블","지역관광팀","2024-07-24","2024-07-24",301]
[800,"2024년 16기 한국국학진흥원 이야기할머니 사업본부 월례교육","한국국학진흥원 ","2024-07-25","2024-07-25","201.204.206"]
[801,"어업현장 현안해결 지원사업 중간보고회의","주식회사 탑","2024-07-25","2024-07-25",205]
[802,"자동차산업 상생협약 네트워킹","광주상공회의소","2024-07-25","2024-07-25","212~213"]
[803,"세일즈 화법 메뉴얼 교육  - 윤강진 -","한샘","2024-07-25","2024-07-25",214]
[804,"2024 광주 MICE 조사 연구 용역 제안서 평가","MICE운영팀","2024-07-25","2024-07-25",307]
[805,"KDTEX2024 국제학술대회","광주광역시치과기공사회","2024-07-26","2024-07-28","다목적홀1~2,201~214"]
[806,"도심속 문화예술 축제 ","기획조정실","2024-07-26","2024-07-26","컨벤션3홀"]
[807,"LX샷시설명회 ","조은창호","2024-07-26","2024-07-26",204]
[808,"2024년 정보공개 종합평가 설명회","기획조정실","2024-07-26","2024-07-26",205]
[809,"대한치과기공소경영자회","대한치과기공소경영자회","2024-07-27","2024-07-27","다목적홀1~2,201~214"]
[810,"교실혁명 선도교사 양성연수","사단법인 한국정보교육학회","2024-07-27","2024-07-27","301~303"]
[811,"첨단3지구 단지내 상가 추첨","스웨이브","2024-07-28","2024-07-28","컨벤션2홀,컨벤션3홀"]
[812,"2024년 돌봄전문교육 제29차 한식미장 일반가정교육","한국문화유산돌봄협회","2024-07-29","2024-07-29",204]
[813,"유소식 디지털 양식 혁신 기술개발 사업표준화 위원회 개최","국립목포대학교산학협력단","2024-07-29","2024-07-29",206]
[814,"예비고1 설명회","메가스터디교육(주)","2024-07-30","2024-07-30","컨벤션2홀,컨벤션3홀,308,310"]
[815,"강진중 그린스마트 스쿨 개축공사 건축 설계 공모 제안서평가","(재)한국산업평가원","2024-07-30","2024-07-30",205206]
[816,"오룡고 신축공사 기본설계 VE 워크숍","남문멤버스(주)","2024-07-30","2024-07-30",211]
[817,"국가회계 전문교육","한국조세재정연구원","2024-07-30","2024-08-01",208]
[818,"광주전남세미나","제이디글로벌","2024-07-31","2024-07-31","301~306"]
[819,"광주관광공사 3분기 기간제근로자(일경험참여자) OT","기획조정실","2024-08-01","2024-08-05",205]
[820," 청년도전지원사업 기업탐방프로그램","기획조정실","2024-08-01","2024-08-01",206]
[821,"광주광역시관광공사 전직원 응급조치 이론 및 실습 교육","안전시설사업실","2024-08-01","2024-08-01","302~~303"]
[822,"시드몽 플랫폼","글로벌플러스","2024-08-03","2024-08-03",204]
[823,"광주 원데이 세미나","시너지이글스 그룹","2024-08-03","2024-08-03","212~213"]
[824,"더불어민주당 광주광역시당 합동연설회 ","더불어민주당광주광역시당","2024-08-03","2024-08-04","컨벤션1홀,컨벤션2홀,컨벤션3홀"]
[825,"소두성 교육","메리츠화재해상보험주식회사 ","2024-08-05","2024-08-05","컨벤션2홀,컨벤션3홀"]
[826,"전남대학교산학협력단 광주청년일경험드림플러스사업단  ","전남대학교산학협력단","2024-08-05","2024-08-05","다목적1,201,203~204,206"]
[827,"6th Momentum Tour(광주)","뉴유라이프코리아","2024-08-05","2024-08-05",208]
[828,"소.나.기.(소통하고 나누어 기쁜 시간)","기획조정실","2024-08-05","2024-08-05",214]
[829,"8월 권역별 매니저 세션","삼성화재해상보험","2024-08-05","2024-08-05","301~303"]
[830,"광주광역시도시공사 신입직원 채용 인적성검사","광주광역시도시공사","2024-08-06","2024-08-06","컨벤션1홀"]
[831,"OB맥주 화상회의","MICE운영팀","2024-08-06","2024-08-06",205]
[832,"광주관광 대표 디저트 공모전 심사","지역관광팀","2024-08-06","2024-08-06","208~210"]
[833,"2024년 지식센터 강사연수","전라남도교육청 미래교육과","2024-08-06","2024-08-06",214]
[834,"2025 수시 지원 전략 설명회","이투스247 광주남구학원","2024-08-06","2024-08-06","301~303"]
[835,"미래형자동차핵심기술전문인력양성사업 기술 세미나","광주산학융합원","2024-08-07","2024-08-07",202]
[836," 술속의밤 광주창업설명회","오리엔탈에프엔비(주)","2024-08-07","2024-08-07",204]
[837,"전남대학교산학협력단 광주청년일경험드림플러스사업단  ","전남대학교산학협력단","2024-08-07","2024-08-08","208~210"]
[838,"(주) 24년 하반기 건자재 신제품 교육","(주)한샘","2024-08-07","2024-08-07","212~213"]
[839,"두레이 사용자 교육(결재)","정보화신사업팀","2024-08-07","2024-08-07",214]
[840,"한화생명 광주지역단 JOB 세미나","한화생명","2024-08-07","2024-08-07","308~310"]
[841,"3s 클럽 찬스미팅","엑스인듀어런스코리아","2024-08-08","2024-08-08",204]
[842,"창업테스트베드 상점모집 서류심사 ","주식회사 디오","2024-08-08","2024-08-08","206~207"]
[843,"캣츠아이 전시회","캣츠아이","2024-08-08","2024-08-08",211]
[844,"가상자산 결제화폐 CTP","주식회사 메타에프앤씨","2024-08-08","2024-08-08","212~213"]
[845,"ESG 교육","(사)광주ESG창업진흥협회","2024-08-09","2024-08-09",214]
[846,"관광정책사업설명","관광진흥팀","2024-08-08","2024-08-08",304307]
[847,"2024 이야기할머니 하반기 심화교육","한국국학진흥원","2024-08-08","2024-08-08","301~306"]
[848,"공유오피스 사용(카페트공사)","기획조정실 ","2024-08-08","2024-08-16","308~312"]
[849,"2025학년도 성균관대학교 전형계획 입시설명회","성균관대학교 입학처","2024-08-10","2024-08-10","컨벤션2홀,컨벤션3홀"]
[850,"YBM 교과서 검토 간담회","㈜ 와이비엠","2024-08-10","2024-08-10","201~203"]
[851,"54회차 교사 문화프로그램 in광주","비상교육","2024-08-10","2024-08-10","212~213"]
[852,"고명환 작가님 365일 가슴설레며 일하는 법 ","주식회사 소통컴퍼니","2024-08-11","2024-08-11","컨벤션2홀,컨벤션3홀"]
[853,"소통교육 콘서트 ","주식회사 소통컴퍼니","2024-08-12","2024-08-12","208~210"]
[854,"한국교직원공제 세미나","KBSN","2024-08-12","2024-08-12","301~306"]
[855,"말자할매 공연","세상을 바꾸는 여자들 ","2024-08-13","2024-08-13","211~213"]
[856,"2024년 광주교통공사  신규채용 인성검사","광주교통공사","2024-08-13","2024-08-13","컨벤션2홀, 204"]
[857,"주주총회 및 협약식","주식회사 에스제이기술","2024-08-13","2024-08-13",214]
[858,"광주광역시도시공사 신입직원 채용 인적성검사","광주광역시도시공사","2024-08-13","2024-08-13",201203206]
[859,"광주관광기업지원센터 센터장 채용 ","기획조정실","2024-08-13","2024-08-13","208~210"]
[860,"한화생명 광주지역단 JOB 세미나","한화생명","2024-08-13","2024-08-13","302~303"]
[861,"2024 광주 메디뷰티산업전 의료공동관 회의","MICE운영팀","2024-08-13","2024-08-13",307]
[862,"마륵위파크 아파트 회의","국가손해사정","2024-08-14","2024-08-14",211]
[863,"3s 클럽 찬스미팅","엑스인듀어런스코리아","2024-08-15","2024-08-15",208]
[864,"2024년도 해사안전 및 도로건설 안전분야에 대한 동향과 기술전략 세미나","\n아이티유","2024-08-16","2024-08-16","209~210"]
[865,"광주전남 주산 암산 경시대회","광주전남주산암산 지도자 연합회","2024-08-17","2024-08-17","다목적홀1,다목적홀2"]
[866,"양동시장1지구 지역주택조합 제9회 임시총회","양동시장1지구 지역주택조합 8차 임시총회","2024-08-18","2024-08-18","201~202"]
[867,"호남권 관광 협의회","관광진흥팀","2024-08-19","2024-08-19",205]
[868,"삼성생명 VIP 광주권 세미나 ","삼성생명","2024-08-19","2024-08-19",208]
[869,"2024년 대한민국 기후환경 에너지 대전 전시부스(프리미언) 기획 및 운영 용역 제안서 평가위원회","MICE운영팀","2024-08-19","2024-08-19",307]
[870,"입시설명회","한양대학교","2024-08-20","2024-08-20","컨벤션3홀"]
[871,"맘스피드 산모교실","비앤아이","2024-08-20","2024-08-20",204206]
[872,"복권기금 야간보호교사 보수교육","케이티씨에스","2024-08-20","2024-08-20",208]
[873,"2025 학교 예술강사 지원사업 사업설명회","주식회사 그린주의","2024-08-20","2024-08-20","211~213"]
[874,"배스킨라빈스 크리스마스 케이크 설명회","비알코리아","2024-08-21","2024-08-23","201~202"]
[875,"미내랑더치커피 세미나","미내랑더치커피","2024-08-22","2024-08-22",204]
[876,"한국언론진흥재단 언론인 연수 ","한국언론진흥재단","2024-08-21","2024-08-21",204]
[877,"글로벌연수사업","광주광역시 자원봉사센터","2024-08-21","2024-08-23",206210]
[878,"전남기업지역성장사다리 지원사업 스타기업 협약체결식","전남테크노파크","2024-08-21","2024-08-21",211]
[879,"2024광주 메디뷰티산업전 뷰티공동관회의","MICE운영팀","2024-08-21","2024-08-21",307]
[880,"미내랑더치커피 세미나","미내랑더치커피","2024-08-22","2024-08-22",204]
[881,"엘알헬스앤뷰티 비즈니스 데이","엘알헬스앤뷰티 ","2024-08-22","2024-08-22",209210]
[882,"3s 클럽 찬스미팅","엑스인듀어런스코리아","2024-08-22","2024-08-22",208]
[883,"K-CAMP 광주 5기 중간 IR","와이앤아처주식회사","2024-08-22","2024-08-22","212~213"]
[884,"제9기 광주고용전문가 아카데미","광주상공회의소","2024-08-22","2024-08-22",214]
[885,"현대기아협력회 호남광역분회 산학협력 인사중역 간담회","(주)호원","2024-08-22","2024-08-22","302~303"]
[886,"KOREA MICE EXPO2024 광주 홍보부스 제작 및 운영 용역제안서평가","MICE운영팀","2024-08-22","2024-08-22",307]
[887,"16기 아름다운 이야기 할머니 전라권 월례교육","한국국학진흥원 ","2024-08-23","2024-08-23","201.204.206"]
[888," 광주관광공사 8월 보건관리_주차보안안내","안전시설사업실  ","2024-08-23","2024-08-23",205]
[889,"BGF리테일 SC직무역량교육(6권역)","(주)비지에프리테일","2024-08-23","2024-08-23",208]
[890,"광주 대표 관광 디저트 업무 협약식","지역관광팀","2024-08-23","2024-08-23",209]
[891,"광주권 링크3.0 캡스톤 RISE STAR 성과 공유회","주식사회 아페","2024-08-23","2024-08-23","211~213,2센터3층로비"]
[892,"라이즈(RISE)위원회 호남권 현장소통 간담회","광주태크노파크","2024-08-23","2024-08-23","302~303"]
[893,"이토마토 오프라인 강연회","이토마토","2024-08-24","2024-08-24","212~213"]
[894,"광주 원데이 세미나","시너지이글스 그룹","2024-08-24","2024-08-24","302~303"]
[895,"광주 상생월드 힐링선포럼","상생방송","2024-08-24","2024-08-25","컨벤션2홀,컨벤션3홀"]
[896,"KAAB 인증위원회 워크숍","사단법인 한국건축학교육인증원","2024-08-24","2024-08-24",206]
[897,"광주주월동지역주택조합 상가 오피스텔 설명회","개인","2024-08-24","2024-08-24",208]
[898,"홍익학당 전국투어 \"광주\"","홍익학당","2024-08-24","2024-08-24","209~210"]
[899,"(주) 24년 하반기 건자재 신제품 교육","(주)한샘","2024-08-26","2024-08-26","201~202"]
[900,"남도외식카네기클럽  ","주식회사남도외식문화개발","2024-08-26","2024-08-26",206]
[901,"광주주월동지역주택조합 상가 오피스텔 설명회","개인","2024-08-26","2024-08-26",208]
[902,"주간업무보고","기획조정실","2024-08-26","2024-08-26",307]
[903,"광주 MICE 지원사업 설명회","MICE운영실","2024-08-27","2024-08-27",307]
[904,"엔터프라이즈솔루션세미나","나우씨앤아이","2024-08-27","2024-08-27",308]
[905,"IBK 창공 IR","전남대학교 기술지주","2024-08-27","2024-08-27",310]
[906,"신안교육지원청사 이설공사 기본설계 VE 워크숍","전라남도교육청","2024-08-27","2024-08-27","302~303"]
[907,"남부권 대기 환경관리 기본계획 공청회","한국환경연구원","2024-08-27","2024-08-27","304~306"]
[908,"광주관광 전문가 라운드테이블","기획조정실","2024-08-28","2024-08-28",303]
[909,"SMB플랫폼 전국 원데이 세미나","에스엠비플랫폼","2024-08-28","2024-08-28","302~303"]
[910,"조립2부 NQ5 PE 편성 워크숍","기아자동차 ","2024-08-29","2024-08-29",208]
[911,"EMS KOREA 2024","대한응급의학회","2024-08-29","2024-08-30","2센터3층로비,301~306"]
[912,"트루헬스 마스터 챌린지 시즌18","(주)더플러스커뮤니케이션즈 ","2024-08-30","2024-08-31",204]
[913,"삼성소노아카데미","주식회사 에스소노라인","2024-08-31","2024-08-31",206]
[914,"조합원 신용자서 연장","양동시장1지구 지역주택조합","2024-08-30","2024-08-31","308~309"]
[915,"2024 재생불량빈혈연구회 ","재생불량빈혈연구회","2024-08-31","2024-08-31","2센터2층로비,211~214"]
[916,"2024 제40회 호남 팜엑스포","대한약사회 약사공론","2024-09-01","2024-09-01","201~207,208~213"]
[917,"CU 2024 F/W 상품컨벤션","(주)비지에프리테일","2024-09-01","2024-09-02","301~303"]
[918,"9월 분기 매니저 세션 - 삼성화재 호남GA사업단 -","삼성화재 호남 GA사업단","2024-09-02","2024-09-02","컨벤션2홀,컨벤션3홀"]
[919,"한미약품 지역교육","한미약품","2024-09-02","2024-09-02",202]
[920,"2024 상반기 신입사원 직원 교육","광주광역시도시공사 ","2024-09-02","2024-09-12",204206208]
[921,"남도외식카네기클럽  ","주식회사남도외식문화개발","2024-09-02","2024-09-30",208]
[922,"KB손해보험 9월 특강","KB손해보험 ","2024-09-02","2024-09-02","211~213"]
[923,"2024 제21차 세계해부학회 학술대회(IFAA)","대한해부학회","2024-09-03","2024-09-09","다목적홀1,다목적홀2,201~203,206~207,209~210,212~214,302~303,305~306,307"]
[924,"소두성 교육","메리츠화재해상보험주식회사 ","2024-09-03","2024-09-03","다목적홀1"]
[925,"우리아이, 명문대로 가는 길! 2024~25년도 대학입시전략 설명회","(주) 코비플랜","2024-09-03","2024-09-03","컨벤션2홀,컨벤션3홀"]
[926,"의료기기 규제동향 및 해외수출지원방안","한국화학융합시험연구원","2024-09-03","2024-09-03","201~202"]
[927,"2024년도 마음구호 프로그램 강사과정3차","대한 적십자사","2024-09-03","2024-09-03","206~207"]
[928,"소.나.기.(소통하고 나누어 기쁜 시간)","기획조정실","2024-09-03","2024-09-03",214]
[929,"광주 원데이 세미나","시너지이글스 그룹","2024-09-03","2024-09-03","302~303"]
[930,"한화비전 AI지능형 솔루션 로드쇼","한화비전","2024-09-03","2024-09-03","3층로비,304~306"]
[931,"메디헬스산업전","MICE운영팀","2024-09-03","2024-09-09","컨벤션1홀,컨벤션2홀,컨벤션3홀,308~310"]
[932,"신가동 주택재개발정비사업 사업설명회","케이애드앤파트너스","2024-09-04","2024-09-04","컨벤션2홀,컨벤션3홀"]
[933,"광주관광공사 일경험프로그램 참여자 OT","기획조정실","2024-09-04","2024-09-04",304]
[934,"2024 제21차 세계해부학회 학술대회(IFAA)","대한해부학회","2024-09-04","2024-09-04",205]
[935,"2024년 제3차 범부처 중소기업 기술보호 통합 교육 설명회","대중소기업농어업협력재단 ","2024-09-05","2024-09-05","컨벤션1홀,컨벤션3홀"]
[936,"2024 광주전남내과의사회 추계","광주전남개원내과의사회 / 대행 : 한미약품","2024-09-07","2024-09-07","로비A~D,컨벤션1~3홀"]
[937,"회의","대양판지주식회사","2024-09-07","2024-09-07",208]
[938,"광주•호남지역 자유마을 대회","대한민국바로세우기국민운동본부","2024-09-09","2024-09-09","다목적홀1,다목적홀2"]
[939,"아시아나 면접","아시아나항공","2024-09-09","2024-09-09",201202204]
[940,"남도외식카네기클럽  ","주식회사남도외식문화개발","2024-09-09","2024-09-30",208]
[941,"전라남도 장성군 산동초등학교 및 산동중학교 신축공사 VE워크숍","에스티이엔지","2024-09-09","2024-09-09",210]
[942,"서구청 교육 ","광주광역시 서구청","2024-09-09","2024-09-10",211]
[943,"한화생명 광주지역단 JOB 세미나","한화생명","2024-09-09","2024-09-09","301~303"]
[944,"주간업무보고","기획조정실","2024-09-09","2024-09-09",307]
[945,"제이디글로벌광주•전남 통합세미나","제이디글로벌","2024-09-10","2024-09-10","다목적홀1"]
[946,"이해충돌 방지법 교육 ","국민권익위원회","2024-09-10","2024-09-10","컨벤션3홀"]
[947,"직장적응 온보딩 프로그램 혼합교육","광주경영자총협회","2024-09-10","2024-09-10",202]
[948,"(실무자/중간관리자) 나를 가꾸는 힘, 잡크래프팅 3차(전라권)","플립온코리아","2024-09-10","2024-09-10",206]
[949,"귀농귀촌 플랫폼 지자체 운영자 권역별 설명회","주식회사 인포벨리코리아","2024-09-10","2024-09-10",208]
[950,"광주 원데이 세미나","시너지이글스 그룹","2024-09-10","2024-09-10","212~213"]
[951,"2024년 LINE 장학재단 이음 1기 장학증서 수여식","재단법인 라인장학재단","2024-09-10","2024-09-10","301~303"]
[952,"G페스타 광주 4차 실무협의회","MICE 운영팀 ","2024-09-10","2024-09-10",307]
[953,"24년도 한국전력공사 사회적경제기업 지원 사회공헌사업 - 광주/전남 협업화 지원사업 공모 참여기업 대면심사","(재)함께일하는재단","2024-09-11","2024-09-11",202]
[954,"몸으로 해소하는 스트레스 관리법","기획조정실","2024-09-11","2024-09-11","208~210"]
[955,"신종 재출현 감염병위기관리 대응훈련","광주광역시청공공보건의료과","2024-09-11","2024-09-12","301~303"]
[956,"2024 채용연계형 SW전문인재양성 최종 프로젝트 발표회 & 취업박람회","에스마이스연구원","2024-09-11","2024-09-12","컨벤션동3층로비,308~309"]
[957,"2024년 광주광역시교육청 청렴골든벨(빙고) 교육 ","광주광역시교육청","2024-09-12","2024-09-12","다목적홀1"]
[958,"학교의 디지털 기반 교육혁신을 위한 2024 「찾아가는 학교컨설팅」 학교장 워크숍","(재)한국과학창의재단","2024-09-12","2024-09-12","컨벤션2홀,컨벤션3홀"]
[959,"영산강유역환경청-한국환경공단 대기환경 간담회","한국환경공단","2024-09-12","2024-09-12",201]
[960,"제3회 광주사회적경제박람회 ","광주사회적경제지원센터","2024-09-12","2024-09-14",211213]
[961,"2024년 우수자활생산품 경진대회 선정심사","재단법인 한국자활복지개발원","2024-09-12","2024-09-12",212]
[962,"BGF리테일 SC직무역량교육(6권역)","(주)비지에프리테일","2024-09-12","2024-09-12",304]
[963,"제 20차 규제혁신법제포럼","한국법제연구원 규제혁신법제팀","2024-09-12","2024-09-12","305~306"]
[964,"광주관광공사 제1회 임원추천위원회","기획조정실","2024-09-12","2024-09-12",307]
[965,"2024년 16기 한국국학진흥원 이야기할머니 사업본부 월례교육","한국국학진흥원 ","2024-09-13","2024-09-13","201.204.206"]
[966,"광주관광공사 9월 보건관리","안전시설사업팀 ","2024-09-13","2024-09-13",205]
[967,"UK세미나","주식회사씨엠","2024-09-13","2024-09-13","208~210"]
[968,"2024 상반기 신입사원 직원 교육","광주광역시도시공사 ","2024-09-13","2024-09-13",213]
[969,"비어페스타 서포터즈 발대식","MICE 운영팀 ","2024-09-13","2024-09-13",307]
[970," 9.19 평양공동선언 6주년 기념식 • 광주평화회의","한반도평화포럼","2024-09-18","2024-09-19","다목적홀1,2"]
[971,"완도초 그린스마트 스쿨 개축공사 건축 설계공모 심사위원회","주식회사 에스랩","2024-09-19","2024-09-19",204206]
[972,"광주도시공사 신규직원 PT 평가보고회","광주광역시도시공사 ","2024-09-19","2024-09-20",206213]
[973,"광주 ACE Fair 추진위원회 최종 추진 계획 보고회","MICE 운영팀 ","2024-09-19","2024-09-19",307]
[974,"메트라이프금융서비스 JOB 세미나","메트라이프 금융서비스","2024-09-20","2024-09-20",201]
[975,"광주사회서비스원 정책포럼  ⌜'내일이 빛나는 일상' 광주사회서비스의 미래⌟ ","광주사회서비스원","2024-09-20","2024-09-20","212~213"]
[976,"사업설명회","무등산지역주택조합","2024-09-19","2024-09-19","301,302~303"]
[977,"유니시티 세미나","유니시티 ","2024-09-21","2024-09-21","컨벤션2홀,컨벤션3홀,"]
[978,"2024년 서광주농협 SPEC-UP 워크샵 ","서광주농업협동조합","2024-09-21","2024-09-21","206~207"]
[979,"AI 융합대학과 엔디비아가 함께하는 AI 빌드업 트레이닝","인공지능산업융합사업단","2024-09-21","2024-09-21","209~210"]
[980,"지역특화 G-컨벤션 서류심사","MICE 운영팀 ","2024-09-23","2024-09-23",205]
[981,"남도외식카네기클럽  ","주식회사남도외식문화개발","2024-09-23","2024-09-30",210]
[982,"서구청 교육 ","광주광역시 서구청","2024-09-23","2024-09-24",208]
[983,"미이용 산림바이오매스 증명업무 2차 실무 교육","산림청","2024-09-23","2024-09-23",214]
[984,"주간업무보고","기획조정실","2024-09-23","2024-09-23",307]
[985,"맘스피드 산모교실","비앤아이","2024-09-24","2024-09-24","209~210"]
[986,"삼성생명 VIP 광주권 세미나 ","삼성생명","2024-09-24","2024-09-24",301]
[987,"한화생명 광주지역단 H-세미나","한화생명","2024-09-24","2024-09-24","302~303"]
[988,"제3회 광주관광 라운드테이블","지역관광팀","2024-09-24","2024-09-24",306]
[989,"광주관광공사 4분기 기간제근로자 채용 면접심사","기획조정실","2024-09-25","2024-09-25",205206]
[990,"광주관광공사 연사 초청 특강 <혁신적인 관광 솔루션>","기획조정실","2024-09-25","2024-09-25","301~303"]
[991," 광주문화기관협의회 운영위원회의","MICE운영팀","2024-09-25","2024-09-25",307]
[992,"양성평등 현장 간담회","한국문화관광연구원","2024-09-25","2024-09-25",311]
[993,"엘알헬스앤뷰티 ","엘알헬스앤뷰티 ","2024-09-26","2024-09-26","311~312"]
[994,"2024광주프린지페스티벌 스트릿댄스축제 <댄스캠프>","MICE운영팀","2024-09-27","2024-09-27","308~312"]
[995,"줄기세포 재생의학 강연회 ","바이오스타줄기세포","2024-09-30","2024-09-30","컨벤션2홀,컨벤션3홀"]
[996,"시니어 디지털 금융교육 3차 교육 ","(사)한국능률협회","2024-09-30","2024-09-30",204]
[997,"남도외식카네기클럽  ","주식회사남도외식문화개발","2024-09-30","2024-09-30",211]
[998,"2024 학생맞춤통합지원 『타시도 우수기관 초빙 역량강화 연수』","광주광역시동부교육지원청","2024-09-30","2024-09-30","212~213"]
[999,"주간업무보고","기획조정실","2024-09-30","2024-09-30",307]
[1000,"K-CAMP 광주 5기 중간 IR","와이앤아처주식회사","2024-09-30","2024-09-30","309~310"]
[1001,"2024 호남 사이버보안 컨퍼런스","국가정보원 지부, 광주광역시, 한국전력공사, 한국인터넷진흥원, 한국정보보호학회(호남지부)","2024-10-01","2024-10-02","컨벤션2홀,컨벤션3홀,201~202,206~207,208~210,212~213,308~310"]
[1002,"애터미 광주 백만갑 세미나","애터미 주식회사","2024-10-01","2024-10-01","컨벤션2홀,컨벤션3홀"]
[1003,"소.나.기.(소통하고 나누어 기쁜 시간)","기획조정실","2024-10-01","2024-10-01",214]
[1004,"2024년 광주광역시 장애인거주시설 행복나눔 축제","한국장애인복지시설협회 광주광역시협회","2024-10-02","2024-10-02","다목적홀1"]
[1005,"문화해설사 설명회 ","관광진흥팀","2024-10-02","2024-10-02",205]
[1006,"국민의힘 광주시당 정치대학","국민의힘 광주광역시당 ","10/2\n10/16\n10/23\n10/30\n11/13\n11/20\n11/27\n11/13,11/20,11/27","2024-11-27",211310]
[1007,"2024년 교육청보탬e 민간보조사업자 사용자교육 권역별 교육(호남권) ","한국교육학술정보원","2024-10-02","2024-10-02","302~303"]
[1008,"엠스퀘어 글로벌 사업설명회","광주북구커뮤니티, 엠스퀘어 글로벌","2024-10-03","2024-10-03","컨벤션2홀,컨벤션3홀"]
[1009,"이야기할머니 활동 연장평가","한국국학진흥원 ","2024-10-04","2024-10-04",201204206208]
[1010,"메타헬스랩 사업콘텐츠 중간 점검 보고회 ","주식회사 메타헬스랩","2024-10-04","2024-10-04",207]
[1011,"학술포럼","광주여성가족재단","2024-10-04","2024-10-04","209~210"]
[1012,"광주관광 라운드테이블","지역관광팀","2024-10-04","2024-10-04",211]
[1013,"2024 광주소아청소년과의사회 심포지엄","광주소아청소년과학회","2024-10-05","2024-10-05","로비-C구역,컨벤션2홀,컨벤션3홀"]
[1014,"경북항공고등학교 입시설명회 ","경북항공고등학교","2024-10-05","2024-10-05",206]
[1015,"2024년 하반기 신협 신입직원 공동채용 필기시험","신용협동조합중앙회","2024-10-05","2024-10-05","208~210"]
[1016,"원데이 세미나","유니시티 코리아 ","2024-10-05","2024-10-05","212~213"]
[1017,"151차 임시총회 ","사단법인 한국청년회의소","2024-10-06","2024-10-06","컨벤션1홀,컨벤션2홀,컨벤션3홀,308~310"]
[1018,"남도외식카네기클럽  ","주식회사남도외식문화개발","2024-10-07","2024-10-28",210]
[1019,"KB손해보험 10월 특강","KB손해보험 ","2024-10-07","2024-10-07","301~303"]
[1020,"서구청 공무원 교육","광주광역시 서구청","2024-10-07","2024-10-08",211]
[1021,"시군구 지자체 대상 권역별 설명회","한국환경공단","2024-10-07","2024-10-07","304~306"]
[1022,"소두성 교육","메리츠화재해상보험주식회사 ","2024-10-08","2024-10-08","컨벤션2홀,컨벤션3홀"]
[1023,"광주광역시 관광 활성화 관광상품 공모전 선발심사","에이스에듀","2024-10-08","2024-10-08",205]
[1024,"한화생명 광주지역단 JOB 세미나","한화생명금융서비스","2024-10-08","2024-10-08","208~210"]
[1025,"시교육청포럼","뉴시스광주전남에이전시","2024-10-08","2024-10-08","212~213"]
[1026,"2025 수능수학어떻게 할것인가","광주교육문화","2024-10-08","2024-10-08",214]
[1027,"24년 광주권역 위험성평가 우수사례 발표대회","안전보건공단","2024-10-08","2024-10-08","301~303,305~306"]
[1028,"강형욱 특강","세상을 바꾸는 여자들 ","2024-10-09","2024-10-09","201~204"]
[1029,"한국시민기자협회 주관 제11회 한국평화언론 대상","한국시민기자협회","2024-10-09","2024-10-09","211~213"]
[1030,"세계인권도시포럼","광주국제교류센터","2024-10-09","2024-10-11","209~214,301,302,303,304,305,306,2센터2층로비"]
[1031,"광주문화재단 정책 거버넌스 발족식","광주문화재단","2024-10-10","2024-10-10","201~203"]
[1032,"와인코리아 광주 사업 설명회","와인코리아","2024-10-10","2024-10-10","206~207"]
[1033,"지역아동센타 종사자 교육","전국지역아동센타협의회","2024-10-10","2024-10-10","209~210"]
[1034,"2024년 하반기 7급 승진자 빌드업 교육","광주광역시 서구청","2024-10-10","2024-10-11",308]
[1035,"의대입시 성공전략 설명회","이투스에듀 강남 하이퍼학원 ","2024-10-11","2024-10-11","201~203"]
[1036,"콘메드코리아 대리점 회의","콘메드코리아","2024-10-11","2024-10-11",204]
[1037,"뮤엠영어 전라권 연합 사업설명회","뮤엠영어 전라광주지사","2024-10-11","2024-10-12","208~210"]
[1038,"원데이 특강","한국필수보험연구소","2024-10-11","2024-10-11",310]
[1039,"소통왕 말자할매","세상을 바꾸는 여자들 ","2024-10-12","2024-10-12","201~204"]
[1040,"LX샷시설명회 ","조은창호","2024-10-12","2024-10-12",206]
[1041,"광주 원데이 세미나","시너지이글스 그룹","2024-10-12","2024-10-12","212~213"]
[1042,"멘사코리아테스트","멘사코리아","2024-10-12","2024-10-12",214]
[1043,"소촌지역주택조합 긴급 임시총회 ","소촌지역주택조합","2024-10-12","2024-10-12","308~309"]
[1044,"국가공인 옥외광고사 자격시험","한국옥외광고협회중앙회 ","2024-10-13","2024-10-13","302~303"]
[1045,"제21기 민주평화통일자문회의 광주지역회의","민주평화통일자문회의 광주지역회의","2024-10-14","2024-10-14","컨벤션2홀,컨벤션3홀"]
[1046,"2024 문화예술교육 지원사업 예술누림 정산교육","한국문화예술진흥원","2024-10-14","2024-10-14","209~210"]
[1047,"사회복지시설 회계 및 안전관리 교육","광주광역시서구청","2024-10-14","2024-10-14",211]
[1048," 자산형성지원사업 종사자 현장 교육 대관(광주)","한국자활복지개발원 자산형성 기획부","2024-10-15","2024-10-15","206~207"]
[1049," 2024 하반기 찾아가는 지역컨설팅","한국직업능력심사평가원","2024-10-15","2024-10-16",208]
[1050,"신규 식품영업자 법정위생교육(한국식품산업협회)","한국식품산업협회","2024-10-15","2024-10-15","301~303"]
[1051,"교사역량강화연수","광주광역시교육청 유초등교육과","2024-10-16","2024-10-16",201206]
[1052,"광주지구JC 임시총회","사단법인 한국청년회의소","2024-10-16","2024-10-16","209~210"]
[1053,"투자유치IR행사","와이앤아처주식회사","2024-10-16","2024-10-16",214]
[1054,"광주, 전남북지역 일간신문 윤리교육","한국신문윤리위원회 ","2024-10-16","2024-10-16",304]
[1055,"RISE프로잭트 성과지표 컨설팅","광주RISE센터","2024-10-16","2024-10-16",305]
[1056,"FY24 10월 HP서비스센터 교육","유베이스","2024-10-16","2024-10-16",306]
[1057,"2026,2027 대입성공전략 설명회 ","이투스24/7학원","2024-10-16","2024-10-16","308~309"]
[1058,"2024년도 동물용의약품 도매상 업무관리자 교육","사)한국동물용의약품판매협회","2024-10-17","2024-10-17",304]
[1059,"전남기업지역성장사다리 지원사업 스타기업 PM 중간정검","전남테크노파크","2024-10-18","2024-10-18",203]
[1060,"트루헬스 마스터 챌린지 시즌21","매나테크코리아","2024-10-18","2024-10-19",204]
[1061,"광주전남지역 혁신 플랫폼 학술 포럼","조선대학교 공과대학","2024-10-18","2024-10-18","206~207"]
[1062,"환경성보장제 입법예고 권역별 설명회(호남권)","한국환경공단","2024-10-18","2024-10-18",208]
[1063,"전라남도 대학-지역 동반성장 프로젝트 RISE 시범사업 중북부권역 컨소시엄 회의","동신대학교산학협력단","2024-10-18","2024-10-18",209]
[1064,"2024 하반기 농촌공간 계획 제도 설명회","농어촌공사","2024-10-18","2024-10-18","304~306"]
[1065,"2024년 하반기 8,9급 실무역량교육","광주광역시 서구청","2024-10-18","2024-10-24",308]
[1066,"오룡고 신축공사 실시설계 VE 워크숍","전라남도교육청 ","2024-10-18","2024-10-18",310]
[1067,"LX샷시설명회  ","조은창호","2024-10-19","2024-10-19",202]
[1068,"2024년 상반기YBM앙글루자역별원장단모임","와이비엠","2024-10-19","2024-10-19",206]
[1069,"마케팅 수업","주식회사 사일런트서비스","2024-10-19","2024-10-19",209]
[1070,"2024년도 신협 제2차 조합직원 공동승진 자격고시 ","신용협동조합중앙회","2024-10-19","2024-10-19","211~213"]
[1071,"2025 봉선폴리어학원 입학설명회","폴리어학원 봉선캠퍼스","2024-10-19","2024-10-19","2센터3층로비,301,302,303"]
[1072,"제3회 ONEECOTV 오프라인 강의(광주) 이재백 한국딜쉐이커 총괄본부장/ONEECOTV 유투브 방송 제작자 ","ONEECOTV","2024-10-19","2024-10-19",304305306]
[1073,"광주주월동지역주택조합 상가 오피스텔 설명회","개인","2024-10-19","2024-10-19",308]
[1074,"제25회 한중일 지방정부 교류회의","광주광역시청국제평화협력과","2024-10-20","2024-10-22","로비-A~D구역,컨벤션1홀,컨벤션2홀,컨벤션3홀,211,212,213,214"]
[1075,"양동시장1지구 지역주택조합 제10회 임시총회","양동시장1지구 지역주택조합","2024-10-20","2024-10-20",212213]
[1076,"네일컨퍼런스","오디세이네일시스템","2024-10-20","2024-10-20",214]
[1077,"일학습병행 사업계획 및 성과관리","한국기술교육대학교 ","2024-10-21","2024-10-22",209]
[1078,"남도외식카네기클럽  ","주식회사남도외식문화개발","2024-10-21","2024-10-28",208]
[1079,"2024년 하반기 7급 승진자 빌드업 교육","광주광역시 서구청","2024-10-21","2024-10-24",208210]
[1080,"융합형 도서클래스 작가와의 만남 ","광주광역시교육청","2024-10-21","2024-10-21",308309310]
[1081,"프로캡","개인","2024-10-22","2024-10-22",202]
[1082,"자동차공제조합 민원업무 및 CS 교육","재단법인 자동차손해배상진흥원","2024-10-22","2024-10-22",208]
[1083,"한화생명 광주지역단 JOB 세미나","한화생명금융서비스","2024-10-22","2024-10-22",302303]
[1084,"2024 중소기업 융합대전","(사)중소기업융합중앙회","2024-10-23","2024-10-25","다목적홀1,다목적홀2,컨벤션1홀,컨벤션2홀,컨벤션3홀,208~214"]
[1085,"제이디글로벌광주•전남 통합세미나","제이디글로벌","2024-10-23","2024-10-23","컨벤션2홀,컨벤션3홀"]
[1086,"이투스북 x 샘이나  입시설명회","이투스예듀(주)","2024-10-23","2024-10-23",201202203204]
[1087,"비준표 실무자 설명회","한국부동산원","2024-10-23","2024-10-23","212~213"]
[1088,"AIDT 중등 교원연수","광주광역시창의융합교육원","2024-10-23","2024-10-23","301~306"]
[1089,"『홍수피해 저감을 위한 섬진강 식생관리 방안』 연구용역 중간보고회","응용생태공학회","2024-10-23","2024-10-23",308]
[1090,"Repove 광주세미나","Repove","2024-10-24","2024-10-24","201~203"]
[1091,"엘알헬스앤뷰티 비즈니스 데이","엘알헬스앤뷰티 ","2024-10-24","2024-10-24",206207]
[1092,"여수 우리초등학교 신축공사","에이앤유디자인그룹건축사사무소","2024-10-24","2024-10-24",302]
[1093,"DM OPTICAL BRAND SHOW","디엠무역","2024-10-24","2024-10-24",303]
[1094,"LX샷시설명회  ","조은창호","2024-10-24","2024-10-24",304]
[1095,"광주RIES 기업설명회 ","광주광역시대학교교육혁신센터 ","2024-10-24","2024-10-24","305~306"]
[1096,"페가뱅크 Bit pay","페가뱅크","2024-10-24","2024-10-24","308~309"]
[1097,"2024년 16기 한국국학진흥원 이야기할머니 사업본부 월례교육","한국국학진흥원 ","2024-10-25","2024-10-25","201.204.206"]
[1098,"휴폐업 의료기관 진료기록보관시스템 2차 보건소 협의체","재단법인 한국보건의료정보원","2024-10-25","2024-10-25",202]
[1099,"북콘서트 ","현대힐스어린이집","2024-10-25","2024-10-25",301]
[1100,"2025 KBO 신인지명선수 도핑방지 교육","KBO(사)한국야구위원회","2024-10-25","2024-10-25",308309]
[1101,"대한내분비학회 호남지회 연수강좌","영호남내분비학회 ","2024-10-26","2024-10-26","로비-A~D구역, 컨벤션3홀"]
[1102,"근로자가 직접 참여하는 지역순회 원탁회의 7차 광주","코리아스픽스(주)","2024-10-26","2024-10-26",208209210]
[1103,"광주 원데이 세미나","시너지이글스 그룹","2024-10-26","2024-10-26","212~213"]
[1104,"월드패밀리 클럽쇼","비즈플랜","2024-10-27","2024-10-27","212~213"]
[1105,"하나은행 면접전형","인쿠루트","2024-10-27","2024-10-28","214,301~307"]
[1106,"광주주월동지역주택조합 조합원 설명회","개인","2024-10-27","2024-10-27",308]
[1107,"광주가톨릭평화방송 개국 28주년 기념 평화음악회 `함께 가는 길`","CPBC광주가톨릭평화방송","2024-10-28","2024-10-28","203~205"]
[1108,"교사역량강화연수","광주광역시교육청 유초등교육과","2024-10-28","2024-10-28",201206]
[1109,"남도외식카네기클럽  ","주식회사남도외식문화개발","2024-10-28","2024-10-28",208]
[1110,"포토닉스 코리아 2024 VIP룸","한국광융합산업진흥회","2024-10-29","2024-10-29",202]
[1111,"국토부 3차 회의","한국에너지기술연구원","2024-10-29","2024-10-30",213]
[1112,"국제광융합산업전시회","한국광융합산업진흥회","2024-10-29","2024-10-29",206]
[1113,"EU CBAM 제4차 정부 합동 설명회","한국환경공단","2024-10-29","2024-10-29","301~303"]
[1114,"광의료헬스 심포지엄","광주대학교 산학협력단,","2024-10-29","2024-10-29",214]
[1115,"TP 설명회","주식회사 이음소프트","2024-10-29","2024-10-29",208]
[1116,"소통교육 콘서트 챗GTP강연 ","소통컴퍼니","2024-10-29","2024-10-29","209~210"]
[1117,"PTF 비지니스 세미나","주식회사 피티에프(PTF)","2024-10-30","2024-10-30","다목적홀1,다목적홀2"]
[1118,"영산강•섬진강 거버넌스 구축 포럼","사단법인한국갈등해결센터","2024-10-30","2024-10-30","컨벤션3홀"]
[1119,"24년 공업화학회","한국공업화학회","2024-10-30","2024-10-31","다목적홀1, 201~306,308"]
[1120,"KRX 불공정거래 예방교육","한국거래소","2024-10-30","2024-10-30",214]
[1121,"AIDT 중등 교원연수","광주광역시창의융합교육원","2024-10-30","2024-10-30","301~306"]
[1122,"생활폐기물 정보관리 시스템 구축사업 설명회","(사) 한국산업경제연구소","2024-10-30","2024-10-30","308~309"]
[1123,"찾아가는 학교 컨설팅 남평초등학교 연수 ","전남 남평초등학교","2024-10-30","2024-10-30",311]
[1124,"11월 권역별 매니저 세션","삼성화재해상보험","2024-11-01","2024-11-01","309~310"]
[1125,"청년 리딩 랩","에이스에듀","2024-11-01","2024-11-02",311211]
[1126,"AIDT 중등 교원연수","광주광역시창의융합교육원","2024-11-02","2024-11-02","301~306"]
[1127,"아틀라스가족의밤","전남대학교수의과","2024-11-02","2024-11-02","308~310"]
[1128,"전라남도 의사회 학술대회","전라남도 의사회","2024-11-02","2024-11-02","컨벤션2홀,컨벤션3홀,로비-C구역"]
[1129,"2024 빅스포 ","한국전력공사","2024-11-03","2024-11-09","로비-A~F구역, 다목적홀1~2,로비-A~D구역, 컨벤션1~3홀,2센터2층로비,201~210,301~312, 2센터3층로비"]
[1130,"남도외식카네기클럽  ","주식회사남도외식문화개발","2024-11-04","2024-11-18",208]
[1131,"2026 연차별실시계획 수립 제3차 자문회의","아시아문화중심도시조성지원포럼  ","2024-11-04","2024-11-04",211]
[1132,"한국분말재료학회 추계 학술대회","한국분말재료학회","2024-11-06","2024-11-08","2센터2층로비, 208~214,컨벤션2홀,컨벤션3홀"]
[1133,"제이디글로벌광주•전남 통합세미나","제이디글로벌","2024-11-09","2024-11-09","컨벤션2홀,컨벤션3홀"]
[1134,"LX샷시설명회  ","조은창호","2024-11-09","2024-11-09",204]
[1135,"주식챔피언증권강연회","(주)에스씨엔터테인먼트","2024-11-09","2024-11-09",301]
[1136,"새로운시작 함께하는 교육 K-IB(한국프로젝트 출판사)","꿈자람교육","2024-11-11","2024-11-11",204]
[1137,"소두성 교육","메리츠화재해상보험","2024-11-11","2024-11-11","다목적홀1"]
[1138,"Business Academy","(주)더플러스커뮤니케이션즈 ","2024-11-11","2024-11-12","컨벤션1홀,컨벤션2홀,컨벤션3홀,로비-A구역,"]
[1139,"남도외식카네기클럽  ","주식회사남도외식문화개발","2024-11-11","2024-11-18",208]
[1140,"2024 국세청 법인납세국 재무제표 분석 및 세무조정 실무","(주)조세통람","2024-11-11","2024-11-14",214]
[1141,"대리점대표교육","한국능률협회컨설팅","2024-11-11","2024-11-11",308]
[1142,"2024년 데이터분석활용공모전 경선대회 ","씽굿 ","2024-11-13","2024-11-13","211~213"]
[1143,"대한임상약리학회 추계학술대회 ","대한임상약리학회","2024-11-12","2024-11-15","로비-A~C구역,컨벤션1홀,컨벤션3홀,308"]
[1144,"대한민국정부박람회","이즈피엠피 ","2024-11-11","2024-11-15","2센터2층로비,201~205~207,208~213,301~307"]
[1145,"2024 대한민국정부 박람회 인천시 미팅","케이피알","2024-11-12","2024-11-12",205]
[1146,"의료관광 활성화 세미나","사단법인 광주권의료관광협의회","2024-11-12","2024-11-12",309]
[1147," 2024 하반기 찾아가는 지역컨설팅","한국직업능력심사평가원","2024-11-12","2024-11-12",310]
[1148,"NIA 참여기업 현장 간담회","한국지능정보사회진흥원","2024-11-13","2024-11-13",309]
[1149,"(주)보령 2024년 하반기 영업직 신입 채용면접 ","보령 인사팀","2024-11-13","2024-11-13","311~312"]
[1150,"대한민국정부박람회","이즈피엠피 ","2024-11-14","2024-11-14",2.08209210211212E+17]
[1151,"2024년 기업훈련지원사업 소통확산 세미나","광주상공회의소 (광주지역인적자원개발위원회)","2024-11-14","2024-11-14",308]
[1152,"자주도하장비 시뮬레이터 설치 설계VE","상아매니지먼트컨설팅","2024-11-14","2024-11-14",311]
[1153,"공노총 정책간담회 ","대한민국공무원노동조합총연맹","2024-11-14","2024-11-14",312]
[1154,"비욘드잉글리쉬 광주강연 ","비욘드잉글리쉬","2024-11-15","2024-11-15",201]
[1155,"청년 올리브 컨소시엄 워크숍","개인","2024-11-16","2024-11-16",204]
[1156,"광주 원데이 세미나","시너지이글스 그룹","2024-11-16","2024-11-16","308~309"]
[1157,"수의정형외과 세미나","제일메디칼코퍼레이션","2024-11-17","2024-11-17",206]
[1158,"남도외식카네기클럽  ","주식회사남도외식문화개발","2024-11-18","2024-11-18",208]
[1159,"화순교육통합지원센터 중축공사 건설설계공모 제안서 평가 ","(유)현대산업정보연구원","2024-11-18","2024-11-18",210]
[1160,"전남지역스타기업 지정기간 연장 심의","전남테크노파크","2024-11-19","2024-11-19",205]
[1161,"회원과의 간담회","사단법인 한국청년회의소","2024-11-19","2024-11-19","206~207"]
[1162,"팜스코 양돈 메스미팅","팜스코","2024-11-19","2024-11-20","209~210"]
[1163,"신한라이프 상품 특강","신한라이프","2024-11-19","2024-11-25","212~213"]
[1164,"2024년도 디지털 기반 교육혁신 교육공무직원 연수","광주광역시교육청 노동정책과","2024-11-20","2024-11-20","컨벤션2홀,컨벤션3홀"]
[1165,"2024년 공연 및 공연장 종사자 법정안전교육","한국산업기술시험원","2024-11-20","2024-11-21",206]
[1166,"일본대사관 영사 출장 서비스","일본대사관 ","2024-11-20","2024-11-20",208]
[1167,"광주의 미래를 묻다:광주의 지도가 바뀐다’ 정책포럼","뉴시스광주전남에이전시","2024-11-20","2024-11-20",212213]
[1168,"2024년 지역산업 맞춤형 일자리 창출 지원사업","광주테크노파크 위기지원센터","2024-11-20","2024-11-20",214]
[1169,"AIDT 중등 교원연수","광주광역시창의융합교육원","2024-11-20","2024-11-20","301~306"]
[1170,"찾아가는 흥국 톡톡 패널 간담회 개최","흥국생명보험(주)","2024-11-20","2024-11-20",308]
[1171,"지역혁신생태계 선조성 청사진수립 2차 기획위원회","전남지역산업진흥원","2024-11-20","2024-11-20",309]
[1172,"한화생명 광주지역단 JOB 세미나","한화생명","2024-11-20","2024-11-20",311312]
[1173,"창립 13주년 기념 행사 및 제42회 굿모닝CEO학습","(사)한국경영혁신중소기업협회 / 메인비즈협회 광주전남연합회","2024-11-21","2024-11-21","컨벤션2홀,컨벤션3홀"]
[1174,"LX샷시설명회  ","조은창호","2024-11-21","2024-11-21",202]
[1175,"순환경제 상담회","(주)절호의 기획","2024-11-21","2024-11-21",205]
[1176,"하반기 입주기업 인증교육","한국사회적기업진흥원","2024-11-21","2024-11-21",208]
[1177,"(주)시큐아이 기술 교육세미나","(주)시큐아이","2024-11-21","2024-11-21",209]
[1178,"sg전문가 초청 세미나","전남대학교","2024-11-21","2024-11-21",212213]
[1179,"비트하베스트 사업 설명회 ","비트하베스트","2024-11-21","2024-11-21",304]
[1180,"남부권 대기환경관리실무위원회 설명회 개최","영산강유역환경청","2024-11-21","2024-11-21",307]
[1181,"휴미락 지산학취업 네트워킹 및 성과공유회","호남대학교","2024-11-22","2024-11-22","컨벤션1홀,컨벤션2홀,컨벤션3홀"]
[1182,"2024 광주경향하우징페어(추계) 한국열관리시공협회 세미나","메쎄이상","2024-11-22","2024-11-22","201~203"]
[1183,"엘알헬스앤뷰티 ","엘알헬스앤뷰티 ","2024-11-22","2024-11-22","206~207"]
[1184,"2024 한국혈전지혈학회","한국혈전지혈학회","2024-11-22","2024-11-22","2센터2층로비,211~214"]
[1185,"ITC영어 가맹사업설명회","아이티씨교육","2024-11-22","2024-11-22",208]
[1186,"캣츠아이 전시회","캣츠아이","2024-11-22","2024-11-22",209]
[1187,"청소년행위중독예방심포지엄","국립나주병원","2024-11-22","2024-11-22","301~303"]
[1188,"공동교육과정워크숍","알파코","2024-11-22","2024-11-22",304]
[1189,"2024년 16기 이야기할머니 현장실습교육","한국국학진흥원 ","2024-11-22","2024-11-22","305~306"]
[1190,"GAP 학교급식유통 관계자 교육","한국농식품미래연구원","2024-11-22","2024-11-22","308~309"]
[1191,"AIDT 중등 교원연수","광주광역시창의융합교육원","2024-11-23","2024-11-23","301~306"]
[1192,"한국기술교육대학교 고용서비스교육팀","한국기술교육대학교 고용서비스교육팀","2024-11-23","2024-11-23",301]
[1193,"공동교육과정워크숍","알파코","2024-11-23","2024-11-23",304]
[1194,"2024년도 광주광역시 한약사회 연수교육","사단법인 대한한약사회","2024-11-24","2024-11-24","2센터2층로비,211~214"]
[1195,"천안전씨 시향공파 임시총회","개인","2024-11-24","2024-11-24","209~210"]
[1196,"2024 생명나눔 후원의 밤희망의 씨앗 콘서트","사단법인 한국생명사랑재단","2024-11-25","2024-11-25","컨벤션3홀"]
[1197,"인공지능 사관학교 수료식","에스마이스연구원","2024-11-25","2024-11-25","다목적홀1, 206~207,2센터3층로비,212~214"]
[1198,"광주 환경교육 네트워크 워크숍","광주기후에너지진흥원","2024-11-25","2024-11-25","308~309"]
[1199,"농업 빅데이터 조사원 역량강화 교육","전라남도 농업기술원","2024-11-25","2024-11-26","311~312"]
[1200,"2024 글로벌 페스티벌","광주광역시교육청","2024-11-26","2024-11-26","컨벤션1홀,컨벤션2홀,컨벤션3홀"]
[1201,"제3차 권역별 실무소양 순회교육(호남권)","한국지방재정공제회","2024-11-26","2024-11-27","201~202"]
[1202,"산업기능요원 신규 편입자 교육 ","광주전남지방병무청 사회복무과","2024-11-26","2024-11-26",204]
[1203,"기아 특수차량연구실 R&D학술컨퍼런스","기아","2024-11-26","2024-11-26","206~208"]
[1204,"KB손해보험 11월 특강","KB손해보험","2024-11-26","2024-11-26","211~213"]
[1205,"디지털의료제품법 설명회","사단법인 한국스마트헬스케어협회","2024-11-26","2024-11-26","206~208"]
[1206,"도테라 코리아 광주 EOE 클래스","도테라 코리아","2024-11-26","2024-11-26",214]
[1207,"전남대학교산학협력단 (광주청년일자리스테이션 동명)","전남대학교산학협력단","2024-11-27","2024-11-27","206~207,308~312"]
[1208,"조선대학교 연합IR프로그램 2024년 광주창업페스티벌","조선대학교산학협력단","2024-11-27","2024-11-28","206~207"]
[1209,"학쫑 프로설명회 ","광주교육문화","2024-11-27","2024-11-27",208]
[1210,"2024년 산업기술혁신사업 규정 및 연구비 집행 수행기관 교육","한국산업기술진흥원","2024-11-27","2024-11-27","212~213"]
[1211,"한국모빌리티 인지센서 학회 창립총회 및 추계학술대회","한국모빌리티 인지센터 학회","2024-11-27","2024-11-27",214]
[1212,"광주기후에너지진흥원 국제포럼","광주기후에너지진흥원","2024-11-27","2024-11-27","302~303"]
[1213,"사단법인 한국JC 특우회 우정의날","사단법인 한국JC 특우회","2024-11-28","2024-11-29","컨벤션1홀,컨벤션2홀,컨벤션3홀"]
[1214,"2024 광주창업페스티벌 \"뻔뻔(Fun Fund)한 투자유치 IR\"","광주창조경제혁신센터","2024-11-28","2024-11-28",208]
[1215,"2024년 전국여성정책네트워크 정례회의 및 공동포럼","광주여성가족재단","2024-11-28","2024-11-28","209~210"]
[1216,"24년 창업성장기술개발사업 디딤돌 기술사업화 역량강화","광주창조경제혁신센터","2024-11-28","2024-11-28",211]
[1217,"제3회 7인7색7분 스피치","아시아문화중심포럼","2024-11-28","2024-11-28",301]
[1218,"투자유치설명회","라라투어","2024-11-28","2024-11-28",304307]
[1219,"제9기 광주고용전문가 아카데미 5차 교육 및 수료식","광주상공회의소","2024-11-28","2024-11-28","305~306"]
[1220,"e스포츠 성과공유회","주식회사 루나CNA","2024-11-28","2024-11-29","308~310"]
[1221," 『찾아가는 국제정세 설명회 제4차 회의』","한국국제정치학회 ","2024-11-29","2024-11-29",201]
[1222,"트루헬스 마스터 챌린지 시즌21","매나테크코리아","2024-11-29","2024-11-30",204]
[1223,"2024년도 하반기 광주교통공사 신규직원 채용 인성검사","광주교통공사","2024-11-29","2024-11-29","208~210"]
[1224,"소통교육 콘서트 챗GTP강연 ","소통컴퍼니","2024-11-29","2024-11-29","212~213"]
[1225,"2025년 지자체 자살예방시행계획 수립 및 평가 설명회","한국생명존중희망재단","2024-11-29","2024-11-29","301~306"]
[1226,"광주 원데이 세미나","시너지이글스 그룹","2024-11-30","2024-11-30","212~213"]
[1227,"대한장연구학회 호남지회 제5회 미니 심포지엄","HK메디컬","2024-11-30","2024-11-30","컨벤션2홀,컨벤션3홀,로비-C구역"]
[1228,"AIDT 중등 교원연수","광주광역시창의융합교육원","2024-11-30","2024-11-30","301~306"]
[1229,"사단법인 글로컬정책연구원 개원식","사단법인 글로컬정책연구원","2024-12-01","2024-12-01","다목적1홀"]
[1230,"애터미 광주 백만갑 세미나","애터미 주식회사","2024-12-01","2024-12-01","컨벤션2홀,컨벤션3홀"]
[1231,"한미약품 지역교육","한미약품","2024-12-02","2024-12-02",204]
[1232,"한미약품 송준현지역 교육","한미약품","2024-12-02","2024-12-02",205]
[1233,"공공기관 면접","(주)휴노","2024-12-01","2024-12-06","208~307"]
[1234,"원데이클래스","해피라이프","2024-12-02","2024-12-02","컨벤션동3층로비,308~309,311~312"]
[1235,"코레일로지스채용면접","엑스퍼트컨설팅 ","2024-12-02","2024-12-04","206,308~309,312"]
[1236,"소두성 교육 ","메리츠화재해상보험","2024-12-03","2024-12-03","컨벤션2홀,컨벤션3홀"]
[1237,"신규 식품영업자 법정위생교육(한국식품산업협회)","한국식품산업협회","2024-12-03","2024-12-04","201~203"]
[1238,"영암 지역특화임대형스마트팜조성사업 설계VE 워크숍","(주)동해종합기술공사","2024-12-03","2024-12-03",310]
[1239,"고천암 2지구 배수개선사업 설계 VE 워크숍","남문멤버스(주)","2024-12-03","2024-12-03",311]
[1240,"법인세 신고실무 직원 희망 교육 ","한국세무사회","2024-12-04","2024-12-04","다목적1~2홀"]
[1241,"성장 사다리 지원사업 최종보고회","전남테크노파크","2024-12-04","2024-12-06",205]
[1242,"내부장애인 인권증진 토론회","국가인권위원회 광주인권사무소","2024-12-05","2024-12-05",201]
[1243,"2024년 하반기 신규직원 채용","광주광역시도시공사","2024-12-05","2024-12-13","206~207,301~304"]
[1244,"2024 동부 관계회복 컨퍼런스","광주광역시교육청동부교육지원청","2024-12-05","2024-12-05",311]
[1245,"호남대학교 성과 공유회","호남대학교 대학혁신사업단","2024-12-06","2024-12-06","컨벤션2홀,컨벤션3홀,311~312"]
[1246,"문화관광해설사 통합관리시스템 사용자교육","컨설테크인터내셔널","2024-12-06","2024-12-06",201]
[1247,"민물장어 양식 현황 및 자조금 활성화를 위한 워크숍","한국민물장어생산자협회","2024-12-06","2024-12-06","308~309"]
[1248,"건축경관과 직무워크숍","광주광역시청 건축경관과","2024-12-06","2024-12-06",310]
[1249,"노무현시민학교\"황현필\"","노무현재단","2024-12-07","2024-12-07","다목적1홀"]
[1250,"영암마트 가족 송년회","와이마트","2024-12-07","2024-12-07","컨벤션1홀,컨벤션2홀,컨벤션3홀"]
[1251,"원데이 세미나","유니시티","2024-12-07","2024-12-07","211~213"]
[1252,"개원설명회","브리튼인터네셔널 어학원","2024-12-07","2024-12-07",303]
[1253,"대한정형외과 의사회 ","대한정형외과 의사회","2024-12-07","2024-12-08","2센터3층로비,304~306"]
[1254,"월드패밀리 클럽쇼","비즈플랜","2024-12-08","2024-12-08","212~213"]
[1255,"교사간담회","한국과학창의재단","2024-12-09","2024-12-09",206]
[1256,"AI활용법 황민강사 강연회 ","주식회사 에스앤씨 헬스케어","2024-12-09","2024-12-09","212~213"]
[1257,"진로진학 독서 시상식","광주광역시교육청","2024-12-09","2024-12-10",211214]
[1258,"2024년 50+ 장년 페스티벌","광주광역시사회서비스원 빛고을50+센터","2024-12-10","2024-12-10","컨벤션2홀,컨벤션3홀"]
[1259,"2024 광주전남  벤처기업인 및 ICT/SW기업인 의 밤","광주정보문화산업진흥원 ","2024-12-10","2024-12-11","컨벤션2홀,컨벤션3홀"]
[1260,"2024년 한국에너지공대 5차 직원 채용 면접","한국에너지공과대학","2024-12-10","2024-12-10","204,206~207"]
[1261,"룩옵틱스 신상품 수주회","(주)룩옵틱스","2024-12-10","2024-12-10","208~210"]
[1262,"신한라이프 상품 특강","신한라이프 ","12/10\n12/17","2024-12-17","212~213"]
[1263,"비컨플레이스 2025 신제품 수주회","비컨플레이스","2024-12-11","2024-12-12","컨벤션1홀"]
[1264,"제5회 광주매일신문 축제관광대상 시상식","광주매일신문","2024-12-11","2024-12-11","201~202"]
[1265,"24년도 제4차 인사노무 관리자 협의회","광주경영자총협회","2024-12-11","2024-12-11",206]
[1266,"고객세미나","한화생명","2024-12-11","2024-12-11",208]
[1267,"2024년 광주서구지역자활센터 사업보고대회  ","광주서구지역자활센터","2024-12-11","2024-12-11","209~210"]
[1268,"호남권 감염병(진단·만성)관리 역량강화 및 소통향상을 위한 포럼","호남권 질병 대응센터","2024-12-11","2024-12-11","211~214"]
[1269,"GAK 광주지역 교육","한화생명","2024-12-11","2024-12-11","301~303"]
[1270,"2024년 최중증 발달장애인 도전행동 지원 종사자교육","광주발달장애인지원센터","2024-12-12","2024-12-12","201~202"]
[1271,"시다프비아 & 크레스토 심포지엄","한국아스트라제네카(주)","2024-12-12","2024-12-12","205,212~213"]
[1272,"광주천 불명 오염원 조사및 관리방안수립 용역 착수보고회","전남대학교 산학협력단 ","2024-12-12","2024-12-12",206]
[1273,"호남권 시민고충처리위원회 협의회","국민권익위원회","2024-12-12","2024-12-12","209~210"]
[1274,"글로벌모터스 주주간담회 ","그린카진흥원","2024-12-12","2024-12-12",211]
[1275,"영암 지역특화임대형스마트팜조성사업 설계VE 워크숍","(주)동해종합기술공사","2024-12-12","2024-12-12",208]
[1276,"광주 무역의날 전수식","한국무역협회","2024-12-12","2024-12-12","301~303"]
[1277,"2024 에너지전환마을 성과 공유회","광주기후에너지진흥원","2024-12-13","2024-12-13","201~204"]
[1278,"4지구 D-day","카길애그리퓨리나","2024-12-13","2024-12-13",206]
[1279,"능력개발전담주치의 광주권역 현장소통 간담회 ","한국산업인력공단","2024-12-13","2024-12-13",208]
[1280,"금호HT 25년 사업 전략 워크샵","금호에이치티","2024-12-13","2024-12-13","209~210"]
[1281,"[니콘] 찾아가는 Z50II TOUCH & TRY","니콘이미징코리아","2024-12-13","2024-12-13",214]
[1282,"2024년 4분기 광주운영위원회","민주평화통일자문회의 광주지역회의","2024-12-13","2024-12-13",307]
[1283,"2024 선도연구센터 행정실무자협의회 제35차 세미나 및 종회","선도연구센터 실무자협의회","2024-12-13","2024-12-13","308~310"]
[1284,"예술단 공연장","에스제이글로벌","2024-12-14","2024-12-14","컨벤션1홀"]
[1285,"광주 원데이 세미나 ","시너지이글스 그룹 ","2024-12-14","2024-12-14","212~213"]
[1286,"강형욱 훈련사님의 무료강연","에이스재무설계센터㈜","2024-12-14","2024-12-14","201~204"]
[1287,"KBC 나눔콘서트 소나무 공연 스태프","소나무","2024-12-14","2024-12-14",205]
[1288,"농림식품기술기획평가원 2024년 정규직 및 계약직 채용 면접전형","(주)이디스앤","2024-12-14","2024-12-14","208~210,301~302,304~305"]
[1289,"100인 100분 토론회","광주광역시교육청","2024-12-16","2024-12-16","다목적홀1"]
[1290,"리빙랩 성과공유회","광주기후에너지진흥원","2024-12-16","2024-12-16","209~210"]
[1291,"남부권 광역관광개발 통합협의체 월례 회의 및 워크숍","에스마이스연구원","2024-12-16","2024-12-16","212~213"]
[1292,"앤-싸이클 전국 통합 세미나","(주)엔사이클 코리아","2024-12-17","2024-12-17","컨벤션2홀,컨벤션3홀"]
[1293,"광주광역시 최중증 발달장애인 융합돌봄사업 성과보고회(융합돌봄에서 통합돌봄으로)","광주발달장애인지원센터","2024-12-17","2024-12-17",201]
[1294,"2024년 서구 상무지역자활센터 사업보고 대회","광주서구지역자활센터","2024-12-17","2024-12-17","209~210"]
[1295,"워크업,스타트업, 링크업, 다양한 지역청년의 일자리 이야기","전남대학교산학협력단(광주청년 일자리스테이션)","2024-12-17","2024-12-17","2센터3층로비,214,304~307"]
[1296,"고객세미나","한화생명","2024-12-17","2024-12-17",208]
[1297,"고천암 2지구 배수개선사업 설계 VE 워크숍","남문멤버스(주)","2024-12-17","2024-12-17",310]
[1298," 2024년 하반기 광주지역 인력양성기관 통합 워크숍","광주상공회의소 (광주지역인적자원개발위원회)","2024-12-17","2024-12-17","311~312"]
[1299,"파이낸싱 지속 가능한 프로젝트","소프트마이닝AI","2024-12-18","2024-12-18","다목적1~2홀, 로비-A구역"]
[1300,"가치 빚는 복지공동체 2024 송년음악회","광주광역시시각장애인연합회","2024-12-18","2024-12-18","컨벤션1홀,컨벤션2홀,컨벤션3홀"]
[1301,"인권옴부즈맨 연찬회","광주광역시청","2024-12-18","2024-12-18",202]
[1302,"리소코리아 대리점 세미나","리소코리아","2024-12-18","2024-12-18",204]
[1303,"2024년도 국내 동아시아문화도시 협력워크숍","아시아문화중심포럼","2024-12-18","2024-12-18",205]
[1304,"공무직 노사 상생워크숍","광주광역시청","2024-12-18","2024-12-18","206~207"]
[1305,"진도 지산지구 설계 경제성검토(VE)","한국농어촌공사 전남지역본부","2024-12-18","2024-12-26",208]
[1306,"쳇GPT 업무활용 및 실천화","기업특판사업단","2024-12-18","2024-12-18","209~210"]
[1307,"YBM AIDT 사용안내 연수","(주)와이비엠","2024-12-18","2024-12-18",301]
[1308,"2024년 지역산업육성사업 성과조사 설명회","광주지역산업진흥원","2024-12-18","2024-12-18","304~306"]
[1309,"동서식품 워크샵 ","동서식품","2024-12-19","2024-12-19",205]
[1310,"광주 일자리 정책 포럼 ","광주경제진흥상생일자리재단","2024-12-19","2024-12-19",208210]
[1311,"AI시대의 하이브리드학원 ","eeo클래스인 코리아","2024-12-19","2024-12-19",213]
[1312,"어울림 한마당","주식회사 포부커뮤니케이션","2024-12-19","2024-12-19",214]
[1313,"대한전기학회 광주전남지회 정기총회","대한전기학회 광주전남지회","2024-12-20","2024-12-20",202]
[1314,"종근당 영업직 공채 면접","종근당","2024-12-20","2024-12-20",204205]
[1315,"임팩트 IR 2차 데모데이","광주창조경제혁신센터","2024-12-20","2024-12-20",206207]
[1316,"2024년 광주시당 핵심당원교육","더불어민주당광주광역시당","2024-12-20","2024-12-20","208~210"]
[1317,"자체감사기구 업무설명회","감사원","2024-12-20","2024-12-20","211~213"]
[1318,"대한장애인당구협회 행사","대한장애인당구협회","2024-12-20","2024-12-21","304~306"]
[1319,"유니시티 세미나","유니시티","2024-12-21","2024-12-21","컨벤션2홀~컨벤션3홀"]
[1320,"동호수 지정","양동시장1지구 지역주택조합 8차 임시총회","2024-12-21","2024-12-22","206~207"]
[1321,"e스포츠 성과공유회","주식회사 루나CNA","2024-12-22","2024-12-23","304~306"]
[1322,"광주주월동지역주택조합 조합원 설명회","개인","2024-12-22","2024-12-22",308]
[1323,"예비고3 입시설명회","메가스터디교육(주)","2024-12-23","2024-12-23","컨벤션1홀,컨벤션2홀,컨벤션3홀,308~312"]
[1324,"에이비알 테크데이 및 워크숍","주식회사 에이비알","2024-12-23","2024-12-24",204]
[1325,"중광주 JC 임시총회","사단법인 중광주청년회의소","2024-12-23","2024-12-23",208]
[1326,"2024년 기업환경지원사업 성과보고회","광주녹색환경지원센터","2024-12-23","2024-12-23",214]
[1327,"주식회사 이삭에너지 워크숍","(주)이삭에너지","2024-12-24","2024-12-24",211]
[1328,"2024의장표창 전수식","민주평화통일자문회의 광주지역회의","2024-12-24","2024-12-24",214]
[1329,"스마트해법 사업설명회","스마트해법 수학 광주지사","2024-12-26","2024-12-26",204]
[1330,"양동현대지역주택조합 임시총회","양동현대지역주택조합","2024-12-28","2024-12-28","컨벤션1홀"]
[1331,"손태진 스태프 대기실","아이오아이홀딩스","2024-12-28","2024-12-29",206]
[1332,"최진의 북콘서트","성일농장","2024-12-28","2024-12-28","209~210"]
[1333,"해커스공무원 합격전략설명회","해커스공무원","2024-12-28","2024-12-28",214]
[1334,"소통교육 콘서트 챗GTP강연 ","주식회사 소통컴퍼니","2024-12-30","2024-12-30","212~213"]
[1335,"소.나.기.(소통하고 나누어 기쁜 시간)","기획조정실","2024-12-31","2024-12-31","212~214"]

{"sheet":"학술행사","index":2,"n_rows":57,"n_cols":5,"rows_kept":57,"cut":false,"hidden":false,"merged":[]}
[]
["연번","행사명","주최","행사시작일","행사종료일"]
[1,"레이저코리아 동계워크샵 2024 ","한국광기술원","2024-01-09","2024-01-09"]
[2,"2024 환자안전전담인력 보수교육 1차 교육","대한병원협회","2024-02-15","2024-02-15"]
[3,"2024 영호남내분비대사학회 학술대회","영호남내분비대사학회","2024-02-22","2024-02-24"]
[4,"2024 (사)한국치과교정연구회 학술대회 ","(사)한국치과교정연구회 ","2024-02-28","2024-02-29"]
[5,"24년 대한간학회 학술대회","대한간학회","2024-03-15","2024-03-15"]
[6,"2024 광주 인터내셔널 스파인 심포지엄(GISS 2024)","광주기독병원 정형외과","2024-03-15","2024-03-16"]
[7,"2024 대한이식학회 춘계학술대회","대한이식학회 ","2024-03-28","2024-03-30"]
[8,"종근당 대한이식학회 ","종근당","2024-03-30","2024-03-30"]
[9,"2024 대한재활의학회 춘계학술대회","대한재활의학회","2024-04-03","2024-04-05"]
[10,"광주전남 내과의사회 정기총회 및 춘계학술대회","한미약품","2024-04-06","2024-04-06"]
[11,"광주 심장중재술 심포지움 GICS (리허설)","광주 심장중재술 심포지움","2024-04-08","2024-04-09"]
[12,"한국기계가공학회","한국기계가공학회","2024-04-10","2024-04-12"]
[13,"대한약물영양의학회 ","대한약물영양의학회 ","2024-04-13","2024-04-14"]
[14,"2024 대한병원장협의회 춘계학술대회 ","대한병원협의회 사무국","2024-04-13","2024-04-14"]
[15,"2024 한남비뇨의학회 춘계 학술대회","한남비뇨기의과학회","2024-04-19","2024-04-20"]
[16,"대한신경외과학회","대한신경외과학회","2024-04-24","2024-04-27"]
[17,"한국부식방식학회","한국부식방식학회","2024-05-15","2024-05-17"]
[18,"2024 대한통증학회 학술대회 ","대한통증학회","2024-05-24","2024-05-26"]
[19,"학습자중심 교과교육 학회 춘계 학술대회","학습자 중심 교과교육 학회","2024-05-31","2024-05-31"]
[20,"광주 심장중재술 심포지움 GICS 2024","전남대학교병원 심장센터 (대행사 BESTIZE)","2024-06-06","2024-06-08"]
[21,"K-imaging 2024","심혈관바이오연구원","2024-06-06","2024-06-08"]
[22,"2024 제2차 환자안전전담인력 신규교육 ","대한병원협회","2024-06-10","2024-06-12"]
[23,"대한골다공증학회 호남지회 연수강좌","대한골다공증학회","2024-06-15","2024-06-16"]
[24,"2024년 망막학회 하계 학술대회","한국망막학회","2024-06-20","2024-06-22"]
[25,"대한신경모니터링학회","대한신경모니터링학회","2024-07-05","2024-07-06"]
[26,"2024 전남치과의사회 학술대회","전남치과의사회","2024-07-06","2024-07-07"]
[27,"대한해부학회 제5차 상임이사 및 위원장 회의","대한해부학회","2024-07-12","2024-07-12"]
[28,"KDTEX2024 국제학술대회","광주광역시치과기공사회","2024-07-26","2024-07-28"]
[29,"대한치과기공소경영자회","대한치과기공소경영자회","2024-07-27","2024-07-27"]
[30,"EMS KOREA 2024","대한응급의학회","2024-08-29","2024-08-30"]
[31,"2024 재생불량빈혈연구회 ","재생불량빈혈연구회","2024-08-31","2024-08-31"]
[32,"2024 제40회 호남 팜엑스포","대한약사회 약사공론","2024-09-01","2024-09-01"]
[33,"2024 제21차 세계해부학회 학술대회(IFAA)","대한해부학회","2024-09-03","2024-09-09"]
[34,"2024 제21차 세계해부학회 학술대회(IFAA)","대한해부학회","2024-09-04","2024-09-04"]
[35,"2024 광주전남내과의사회 추계","광주전남개원내과의사회 / 대행 : 한미약품","2024-09-07","2024-09-07"]
[36,"제 20차 규제혁신법제포럼","한국법제연구원 규제혁신법제팀","2024-09-12","2024-09-12"]
[37," 9.19 평양공동선언 6주년 기념식 • 광주평화회의","한반도평화포럼","2024-09-18","2024-09-19"]
[38,"2024 광주소아청소년과의사회 심포지엄","광주소아청소년과학회","2024-10-05","2024-10-05"]
[39,"제25회 한중일 지방정부 교류회의","광주광역시청국제평화협력과","2024-10-20","2024-10-22"]
[40,"2024 중소기업 융합대전","(사)중소기업융합중앙회","2024-10-23","2024-10-25"]
[41,"대한내분비학회 호남지회 연수강좌","영호남내분비학회 ","2024-10-26","2024-10-26"]
[42,"24년 공업화학회","한국공업화학회","2024-10-30","2024-10-31"]
[43,"전라남도 의사회 학술대회","전라남도 의사회","2024-11-02","2024-11-02"]
[44,"2024 빅스포 ","한국전력공사","2024-11-03","2024-11-09"]
[45,"한국분말재료학회 추계 학술대회","한국분말재료학회","2024-11-06","2024-11-08"]
[46,"2024년 데이터분석활용공모전 경선대회 ","씽굿 ","2024-11-13","2024-11-13"]
[47,"대한임상약리학회 추계학술대회 ","대한임상약리학회","2024-11-12","2024-11-15"]
[48,"대한민국정부박람회","이즈피엠피 ","2024-11-11","2024-11-15"]
[49,"대한민국정부박람회","이즈피엠피 ","2024-11-14","2024-11-14"]
[50,"2024 한국혈전지혈학회","한국혈전지혈학회","2024-11-22","2024-11-22"]
[51,"한국모빌리티 인지센서 학회 창립총회 및 추계학술대회","한국모빌리티 인지센터 학회","2024-11-27","2024-11-27"]
[52,"광주기후에너지진흥원 국제포럼","광주기후에너지진흥원","2024-11-27","2024-11-27"]
[53,"대한장연구학회 호남지회 제5회 미니 심포지엄","HK메디컬","2024-11-30","2024-11-30"]
[54,"대한정형외과 의사회 ","대한정형외과 의사회","2024-12-07","2024-12-08"]
[55,"대한장애인당구협회 행사","대한장애인당구협회","2024-12-20","2024-12-21"]

{"sheet":"정치행사","index":3,"n_rows":1490,"n_cols":16382,"rows_kept":1490,"cut":false,"hidden":false,"merged":[[0,1,0,6]]}
[null,"2024년 회의실 대장"]
[{"$nulls":21},{"$f":"SUM(V4:V21)","v":20176420},{"$nulls":5},"카드","현금영수"]
[null,"연번","구분","구분2","5대특화/채용시험","징수번호","행사명","주최","담당자","e-mail","연락처","핸드폰","임대\n신청일","행사시작일","행사종료일","행사종료일","행사시간","임대\n시간","참석\n인원","장  소","사용\n면적","예상수입","계약금(홀)","계약금(장비)","예상수입 - 실수입","케이터링\n수수료","케이터링\n+예상수입","세금계산서","결제","전시장\n다목적홀\n회의실","전시\n이벤트\n회의","회의실","컨벤션홀","다목적홀","다목적수입","컨벤션홀","회의실수입\n(2센터,\n208~307호)","회의실수입\n(201~207,\nC308~312,컨벤션홀)","담당자","납부기한유예"]
[null,{"$f":"ROW()-3","v":1},"정치행사","기관/협회(학술대회)","일반",176,"출판기념회 조인철 문화경제부시장님 ","개인","김대원","minjookj@gmail.com",null,"010-3618-8884","2022-12-13","2023-01-07","2024-01-07","2023-01-07","B","13:00\n~17:00",160,"다목적1홀",300,{"$f":"SUM(W4:X4)","v":1105830},749430,356400,{"$f":"#REF!-V4","v":{"$error":"#REF!"}},null,null,"1/7청구","1/9입금"]
[null,2,"정치행사","기관/협회(학술대회)","일반",315,"김광진 문화경제부시장님 출판기념회","주식회사미도","김형석 ","minjookj@gmail.com",null,"010-3811-0747","2022-11-25","2023-01-14","2024-01-07","2023-01-14","B","13:00\n~17:00",100,"컨벤션1~3홀",367,1017500,1017500,0,{"$f":"#REF!-V5","v":{"$error":"#REF!"}},null,null,"1/14청구","1/18입금",{"$nulls":10},"2023-01-20"]
[null,3,"정치행사","기관/협회(학술대회)","일반",316,"송갑석의원 의정보고회","개인","심현주","minjookj@gmail.com",null,"010-8775-2168","2023-11-03","2023-01-16","2024-01-07","2023-01-16","B","13:00\n~17:00",100,"301~306",300,1017500,694100,323400,{"$f":"#REF!-V6","v":{"$error":"#REF!"}},null,null,"1/16청구","1/18입금",{"$nulls":10},"2023-01-20"]
[null,4,"정치행사","기관/협회(학술대회)","일반",368,"새로운미래광주현장책임위원회","새로운미래 ","김경희","koreaparty062@hanmail.net",null,"010-6714-2190","2023-01-12","2023-01-19","2024-02-07","2023-01-19","A","09:00\n~12:00",30,301,506,1135200,803000,332200,{"$f":"#REF!-V7","v":{"$error":"#REF!"}},null,null,"1/19청구","1/20입금",{"$nulls":10},"2023-01-31"]
[null,5,"정치행사","기관/협회(학술대회)","일반",543,"새로운미래 전진대회","새로운미래","심현주","minjookj@gmail.com",null,"010-8775-2168","2023-01-26","2023-02-02","2024-03-10","2023-02-02","B","13:00\n~17:00",48,"다목적1홀",167,555500,463100,92400,{"$f":"#REF!-V8","v":{"$error":"#REF!"}},null,null,"2/1영수","2/1입금"]
[null,6,"정치행사","기관/협회(학술대회)","일반",719,"중앙당 선대위 회의","더불어민주당광주광역시당","김경희","koreaparty062@hanmail.net",null,"010-6714-2190","2023-01-17","2023-02-15","2024-03-21","2023-02-16","D","09:00\n~17:00",600,"308~309",1477,9698700,9698700,0,{"$f":"#REF!-V9","v":{"$error":"#REF!"}},null,null,"2/16영수","2/16입금"]
[null,7,"정치행사","기관/협회(학술대회)","일반",917,"당원과의 대화","조국혁신당 광주광역시당","심현주","minjookj@gmail.com",null,"010-8775-2168","2023-02-01","2023-02-25","2024-04-23","2023-02-25","A","09:00\n~12:00",50,"다목적홀1",300,892100,694100,198000,{"$f":"#REF!-V10","v":{"$error":"#REF!"}},null,null,"2/25청구","3/13입금",{"$nulls":10},"2023-03-24"]
[null,8,"정치행사","기관/협회(학술대회)","일반",1438,"개혁신당 전당대회(광주)","한국의희망중앙당","김대원","minjookj@gmail.com",null,"010-3618-8884","2023-03-06","2023-03-24","2024-05-11","2023-03-24","B","13:00\n~17:00",50,"컨벤션3홀",100,{"$f":"SUM(W11:X11)","v":385000},277200,107800,{"$f":"#REF!-V11","v":{"$error":"#REF!"}},null,null,"3/24청구","3/27입금"]
[null,9,"정치행사","기관/협회(학술대회)","일반",1746,"이재명 당대표와 함께하는 컨퍼런스","더불어민주당 중앙당","김형석국장","minjookj@gmail.com",null,"010-3811-0747","2023-03-24","2023-04-07","2024-05-18","2023-04-07","A","09:00\n~12:00",160,"컨벤션2~3홀",200,{"$f":"SUM(W12:X12)","v":631400},462000,169400,{"$f":"#REF!-V12","v":{"$error":"#REF!"}},null,null,"4/7영수","4/7입금"]
[null,10,"정치행사","기관/협회(학술대회)","일반",2385,"조직위원장 간담회","국민의힘 ","김형석","minjookj@gmail.com",null,"010-3811-0747","2023-05-02","2023-05-14","2024-05-18","2023-05-14","B","13:00\n~17:00",150,"컨벤션2~3홀",300,{"$f":"SUM(W13:X13)","v":981200},832700,148500,{"$f":"#REF!-V13","v":{"$error":"#REF!"}},null,null,"5/14청구","5/15영수"]
[null,11,"정치행사","기관/협회(학술대회)","일반",2439,"백서특위 회의","국민의힘 ","김경희","koreaparty062@hanmail.net",null,"010-6714-2190","2023-04-24","2023-05-18","2024-06-17","2023-05-18","A","09:00\n~12:00",30,"211~213",180,{"$f":"SUM(W14:X14)","v":662200},415800,246400,{"$f":"#REF!-V14","v":{"$error":"#REF!"}},null,null,"5/18청구","5/19입금"]
[null,12,"정치행사","기관/협회(학술대회)","교육",3578,"제1회 전국당대회 합동연설회","새로운미래당","민경국","trustwonsoon@gmail.com",null,"010-9042-3681","2023-07-04","2023-07-22","2024-07-03","2023-07-22","B","13:00\n~17:00",100,"컨벤션3홀",167,{"$f":"SUM(W15:X15)","v":649990},416790,233200,{"$f":"#REF!-V15","v":{"$error":"#REF!"}},null,null,"7/17영수","7/17입금"]
[null,13,"정치행사","기관/협회(학술대회)","교육",3903,"국민의힘 제4차 전당대회 합동연설회","국민의힘 ","김형석","minjoo2010@gmail.com",null,"010-3811-0747","2023-08-07","2023-08-13","2024-07-08","2023-08-13","D","09:00\n~17:00",40,"다목적홀2",100,{"$f":"SUM(W16:X16)","v":620400},554400,66000,{"$f":"#REF!-V16","v":{"$error":"#REF!"}},null,null,"8/13청구","9/13입금"]
[null,14,"정치행사","서비스업","일반",3789,"원 써클 협의회","국민의힘","최병준","sattoj1227@hanmail.net ",null,"010-8640-5615","2023-07-27","2023-08-14","2024-07-08","2023-08-14","C","18:00\n~21:00",240,205,90,823900,590700,233200,{"$f":"#REF!-V17","v":{"$error":"#REF!"}},null,null,"7/31현금영수증","7/31입금(최병준)"]
[null,15,"정치행사",null,null,null,"소두성 교육","메리츠화재해상보험주식회사 ",{"$nulls":5},"2023-10-14","2024-08-05",{"$nulls":4},"컨벤션2홀,컨벤션3홀",null,{"$f":"SUM(W18:X18)","v":0}]
[null,16,"정치행사",null,null,null,"광주•호남지역 자유마을 대회","대한민국바로세우기국민운동본부",{"$nulls":5},"2023-10-23","2024-09-09",{"$nulls":4},"다목적홀1,다목적홀2",null,0,null,null,{"$f":"#REF!-V19","v":{"$error":"#REF!"}}]
[null,17,"정치행사",null,null,null,"국민의힘 광주시당 정치대학","국민의힘 광주광역시당 ",{"$nulls":5},"2023-10-24","2024-11-27",{"$nulls":4},211310,null,0,null,null,{"$f":"#REF!-V20","v":{"$error":"#REF!"}}]
[null,18,"정치행사",null,null,null," 『찾아가는 국제정세 설명회 제4차 회의』","한국국제정치학회 ",{"$nulls":5},"2023-10-28","2024-11-29",{"$nulls":4},201,null,{"$f":"W21+X21","v":0},null,null,{"$f":"#REF!-V21","v":{"$error":"#REF!"}}]
{"$rows_empty":132}
[{"$nulls":39},1]
[{"$nulls":39},1]
{"$rows_empty":12}
[{"$nulls":39},1]
{"$rows_empty":34}
[{"$nulls":39},1]
{"$rows_empty":209}
[{"$nulls":39},1]
{"$rows_empty":162}
[{"$nulls":16381},"2019-12-13"]
[{"$nulls":16381},"2019-12-13"]
{"$rows_empty":55}
[{"$nulls":39},1]
[]
[]
[]
[{"$nulls":39},1]
{"$rows_empty":20}
[{"$nulls":22},{"$f":"V658-X658","v":0},null,null,null,{"$f":"V658+Z658","v":0}]
[{"$nulls":22},0,null,null,null,{"$f":"V659+Z659","v":0},{"$nulls":12},1]
[{"$nulls":22},0,null,null,null,{"$f":"V660+Z660","v":0}]
[{"$nulls":22},0,null,null,null,{"$f":"V661+Z661","v":0}]
[{"$nulls":22},0,null,null,null,{"$f":"V662+Z662","v":0}]
[{"$nulls":22},0,null,null,null,{"$f":"V663+Z663","v":0}]
[{"$nulls":22},0,null,null,null,{"$f":"V664+Z664","v":0}]
[{"$nulls":22},0,null,null,null,{"$f":"V665+Z665","v":0}]
[{"$nulls":22},0,null,null,null,{"$f":"V666+Z666","v":0}]
[{"$nulls":22},0,null,null,null,{"$f":"V667+Z667","v":0}]
[{"$nulls":22},0,null,null,null,{"$f":"V668+Z668","v":0}]
[{"$nulls":22},0,null,null,null,{"$f":"V669+Z669","v":0}]
[{"$nulls":22},0,null,null,null,{"$f":"V670+Z670","v":0}]
[{"$nulls":22},0,null,null,null,{"$f":"V671+Z671","v":0}]
[{"$nulls":22},0,null,null,null,{"$f":"V672+Z672","v":0}]
[{"$nulls":22},0,null,null,null,{"$f":"V673+Z673","v":0}]
[{"$nulls":22},0,null,null,null,{"$f":"V674+Z674","v":0}]
[{"$nulls":22},0,null,null,null,{"$f":"V675+Z675","v":0}]
[{"$nulls":22},0,null,null,null,{"$f":"V676+Z676","v":0}]
[{"$nulls":22},0,null,null,null,{"$f":"V677+Z677","v":0}]
[{"$nulls":22},0,null,null,null,{"$f":"V678+Z678","v":0}]
[{"$nulls":22},0,null,null,null,{"$f":"V679+Z679","v":0}]
[{"$nulls":22},0,null,null,null,{"$f":"V680+Z680","v":0}]
[{"$nulls":22},0,null,null,null,{"$f":"V681+Z681","v":0}]
[{"$nulls":22},0,null,null,null,{"$f":"V682+Z682","v":0}]
[{"$nulls":22},0,null,null,null,{"$f":"V683+Z683","v":0}]
[{"$nulls":22},0,null,null,null,{"$f":"V684+Z684","v":0}]
[{"$nulls":22},0,null,null,null,{"$f":"V685+Z685","v":0}]
[{"$nulls":22},0,null,null,null,{"$f":"V686+Z686","v":0}]
[{"$nulls":22},0,null,null,null,{"$f":"V687+Z687","v":0}]
[{"$nulls":22},0,null,null,null,{"$f":"V688+Z688","v":0}]
[{"$nulls":22},0,null,null,null,{"$f":"V689+Z689","v":0}]
[{"$nulls":22},0,null,null,null,{"$f":"V690+Z690","v":0}]
[{"$nulls":22},0,null,null,null,{"$f":"V691+Z691","v":0}]
[{"$nulls":22},0,null,null,null,{"$f":"V692+Z692","v":0}]
[{"$nulls":22},0,null,null,null,{"$f":"V693+Z693","v":0}]
[{"$nulls":22},0,null,null,null,{"$f":"V694+Z694","v":0}]
[{"$nulls":22},0,null,null,null,{"$f":"V695+Z695","v":0}]
[{"$nulls":22},0,null,null,null,{"$f":"V696+Z696","v":0}]
[{"$nulls":22},0,null,null,null,{"$f":"V697+Z697","v":0}]
[{"$nulls":22},0,null,null,null,{"$f":"V698+Z698","v":0}]
[{"$nulls":22},0,null,null,null,{"$f":"V699+Z699","v":0}]
[{"$nulls":22},0,null,null,null,{"$f":"V700+Z700","v":0}]
[{"$nulls":22},0,null,null,null,{"$f":"V701+Z701","v":0}]
[{"$nulls":22},0,null,null,null,{"$f":"V702+Z702","v":0}]
[{"$nulls":22},0,null,null,null,{"$f":"V703+Z703","v":0}]
[{"$nulls":22},0,null,null,null,{"$f":"V704+Z704","v":0}]
[{"$nulls":22},0,null,null,null,{"$f":"V705+Z705","v":0}]
[{"$nulls":22},0,null,null,null,{"$f":"V706+Z706","v":0}]
[{"$nulls":22},0,null,null,null,{"$f":"V707+Z707","v":0}]
[{"$nulls":22},0,null,null,null,{"$f":"V708+Z708","v":0}]
[{"$nulls":22},0,null,null,null,{"$f":"V709+Z709","v":0}]
[{"$nulls":22},0,null,null,null,{"$f":"V710+Z710","v":0}]
[{"$nulls":22},0,null,null,null,{"$f":"V711+Z711","v":0}]
[{"$nulls":22},0,null,null,null,{"$f":"V712+Z712","v":0}]
[{"$nulls":22},0,null,null,null,{"$f":"V713+Z713","v":0}]
[{"$nulls":22},0,null,null,null,{"$f":"V714+Z714","v":0}]
[{"$nulls":22},0,null,null,null,{"$f":"V715+Z715","v":0}]
[{"$nulls":22},0,null,null,null,{"$f":"V716+Z716","v":0}]
[{"$nulls":22},0,null,null,null,{"$f":"V717+Z717","v":0}]
[{"$nulls":22},0,null,null,null,{"$f":"V718+Z718","v":0}]
[{"$nulls":22},0,null,null,null,{"$f":"V719+Z719","v":0}]
[{"$nulls":22},0,null,null,null,{"$f":"V720+Z720","v":0}]
[{"$nulls":22},0,null,null,null,{"$f":"V721+Z721","v":0}]
[{"$nulls":22},{"$f":"V722-X722","v":0},null,null,null,{"$f":"V722+Z722","v":0}]
[{"$nulls":22},0,null,null,null,{"$f":"V723+Z723","v":0}]
[{"$nulls":22},0,null,null,null,{"$f":"V724+Z724","v":0}]
[{"$nulls":22},0,null,null,null,{"$f":"V725+Z725","v":0}]
[{"$nulls":22},0,null,null,null,{"$f":"V726+Z726","v":0}]
[{"$nulls":22},0,null,null,null,{"$f":"V727+Z727","v":0}]
[{"$nulls":22},0,null,null,null,{"$f":"V728+Z728","v":0}]
[{"$nulls":22},0,null,null,null,{"$f":"V729+Z729","v":0}]
[{"$nulls":22},0,null,null,null,{"$f":"V730+Z730","v":0}]
[{"$nulls":22},0,null,null,null,{"$f":"V731+Z731","v":0}]
[{"$nulls":22},0,null,null,null,{"$f":"V732+Z732","v":0}]
[{"$nulls":22},0,null,null,null,{"$f":"V733+Z733","v":0}]
[{"$nulls":22},0,null,null,null,{"$f":"V734+Z734","v":0}]
[{"$nulls":22},0,null,null,null,{"$f":"V735+Z735","v":0}]
[{"$nulls":22},0,null,null,null,{"$f":"V736+Z736","v":0}]
[{"$nulls":22},0,null,null,null,{"$f":"V737+Z737","v":0}]
[{"$nulls":22},0,null,null,null,{"$f":"V738+Z738","v":0}]
[{"$nulls":22},0,null,null,null,{"$f":"V739+Z739","v":0}]
[{"$nulls":22},0,null,null,null,{"$f":"V740+Z740","v":0}]
[{"$nulls":22},0,null,null,null,{"$f":"V741+Z741","v":0}]
[{"$nulls":22},0,null,null,null,{"$f":"V742+Z742","v":0}]
[{"$nulls":22},0,null,null,null,{"$f":"V743+Z743","v":0}]
[{"$nulls":22},0,null,null,null,{"$f":"V744+Z744","v":0}]
[{"$nulls":22},0,null,null,null,{"$f":"V745+Z745","v":0}]
[{"$nulls":22},0,null,null,null,{"$f":"V746+Z746","v":0}]
[{"$nulls":22},0,null,null,null,{"$f":"V747+Z747","v":0}]
[{"$nulls":22},0,null,null,null,{"$f":"V748+Z748","v":0}]
[{"$nulls":22},0,null,null,null,{"$f":"V749+Z749","v":0}]
[{"$nulls":22},0,null,null,null,{"$f":"V750+Z750","v":0}]
[{"$nulls":22},0,null,null,null,{"$f":"V751+Z751","v":0}]
[{"$nulls":22},0,null,null,null,{"$f":"V752+Z752","v":0}]
[{"$nulls":22},0,null,null,null,{"$f":"V753+Z753","v":0}]
[{"$nulls":22},0,null,null,null,{"$f":"V754+Z754","v":0}]
[{"$nulls":22},0,null,null,null,{"$f":"V755+Z755","v":0}]
[{"$nulls":22},0,null,null,null,{"$f":"V756+Z756","v":0}]
[{"$nulls":22},0,null,null,null,{"$f":"V757+Z757","v":0}]
[{"$nulls":22},0,null,null,null,{"$f":"V758+Z758","v":0}]
[{"$nulls":22},0,null,null,null,{"$f":"V759+Z759","v":0}]
[{"$nulls":22},0,null,null,null,{"$f":"V760+Z760","v":0}]
[{"$nulls":22},0,null,null,null,{"$f":"V761+Z761","v":0}]
[{"$nulls":22},0,null,null,null,{"$f":"V762+Z762","v":0}]
[{"$nulls":22},0,null,null,null,{"$f":"V763+Z763","v":0}]
[{"$nulls":22},0,null,null,null,{"$f":"V764+Z764","v":0}]
[{"$nulls":22},0,null,null,null,{"$f":"V765+Z765","v":0}]
[{"$nulls":22},0,null,null,null,{"$f":"V766+Z766","v":0}]
[{"$nulls":22},0,null,null,null,{"$f":"V767+Z767","v":0}]
[{"$nulls":22},0,null,null,null,{"$f":"V768+Z768","v":0}]
[{"$nulls":22},0,null,null,null,{"$f":"V769+Z769","v":0}]
[{"$nulls":22},0,null,null,null,{"$f":"V770+Z770","v":0}]
[{"$nulls":22},0,null,null,null,{"$f":"V771+Z771","v":0}]
[{"$nulls":22},0,null,null,null,{"$f":"V772+Z772","v":0}]
[{"$nulls":22},0,null,null,null,{"$f":"V773+Z773","v":0}]
[{"$nulls":22},0,null,null,null,{"$f":"V774+Z774","v":0}]
[{"$nulls":22},0,null,null,null,{"$f":"V775+Z775","v":0}]
[{"$nulls":22},0,null,null,null,{"$f":"V776+Z776","v":0}]
[{"$nulls":22},0,null,null,null,{"$f":"V777+Z777","v":0}]
[{"$nulls":22},0,null,null,null,{"$f":"V778+Z778","v":0}]
[{"$nulls":22},0,null,null,null,{"$f":"V779+Z779","v":0}]
[{"$nulls":22},0,null,null,null,{"$f":"V780+Z780","v":0}]
[{"$nulls":22},0,null,null,null,{"$f":"V781+Z781","v":0}]
[{"$nulls":22},0,null,null,null,{"$f":"V782+Z782","v":0}]
[{"$nulls":22},0,null,null,null,{"$f":"V783+Z783","v":0}]
[{"$nulls":22},0,null,null,null,{"$f":"V784+Z784","v":0}]
[{"$nulls":22},0,null,null,null,{"$f":"V785+Z785","v":0}]
[{"$nulls":22},{"$f":"V786-X786","v":0},null,null,null,{"$f":"V786+Z786","v":0}]
[{"$nulls":22},0,null,null,null,{"$f":"V787+Z787","v":0}]
[{"$nulls":22},0,null,null,null,{"$f":"V788+Z788","v":0}]
[{"$nulls":22},0,null,null,null,{"$f":"V789+Z789","v":0}]
[{"$nulls":22},0,null,null,null,{"$f":"V790+Z790","v":0}]
[{"$nulls":22},0,null,null,null,{"$f":"V791+Z791","v":0}]
[{"$nulls":22},0,null,null,null,{"$f":"V792+Z792","v":0}]
[{"$nulls":22},0,null,null,null,{"$f":"V793+Z793","v":0}]
[{"$nulls":22},0,null,null,null,{"$f":"V794+Z794","v":0}]
[{"$nulls":22},0,null,null,null,{"$f":"V795+Z795","v":0}]
[{"$nulls":22},0,null,null,null,{"$f":"V796+Z796","v":0}]
[{"$nulls":22},0,null,null,null,{"$f":"V797+Z797","v":0}]
[{"$nulls":22},0,null,null,null,{"$f":"V798+Z798","v":0}]
[{"$nulls":22},0,null,null,null,{"$f":"V799+Z799","v":0}]
[{"$nulls":22},0,null,null,null,{"$f":"V800+Z800","v":0}]
[{"$nulls":22},0,null,null,null,{"$f":"V801+Z801","v":0}]
[{"$nulls":22},0,null,null,null,{"$f":"V802+Z802","v":0}]
[{"$nulls":22},0,null,null,null,{"$f":"V803+Z803","v":0}]
[{"$nulls":22},0,null,null,null,{"$f":"V804+Z804","v":0}]
[{"$nulls":22},0,null,null,null,{"$f":"V805+Z805","v":0}]
[{"$nulls":22},0,null,null,null,{"$f":"V806+Z806","v":0}]
[{"$nulls":22},0,null,null,null,{"$f":"V807+Z807","v":0}]
[{"$nulls":22},0,null,null,null,{"$f":"V808+Z808","v":0}]
[{"$nulls":22},0,null,null,null,{"$f":"V809+Z809","v":0}]
[{"$nulls":22},0,null,null,null,{"$f":"V810+Z810","v":0}]
[{"$nulls":22},0,null,null,null,{"$f":"V811+Z811","v":0}]
[{"$nulls":22},0,null,null,null,{"$f":"V812+Z812","v":0}]
[{"$nulls":22},0,null,null,null,{"$f":"V813+Z813","v":0}]
[{"$nulls":22},0,null,null,null,{"$f":"V814+Z814","v":0}]
[{"$nulls":22},0,null,null,null,{"$f":"V815+Z815","v":0}]
[{"$nulls":22},0,null,null,null,{"$f":"V816+Z816","v":0}]
[{"$nulls":22},0,null,null,null,{"$f":"V817+Z817","v":0}]
[{"$nulls":22},0,null,null,null,{"$f":"V818+Z818","v":0}]
[{"$nulls":22},0,null,null,null,{"$f":"V819+Z819","v":0}]
[{"$nulls":22},0,null,null,null,{"$f":"V820+Z820","v":0}]
[{"$nulls":22},0,null,null,null,{"$f":"V821+Z821","v":0}]
[{"$nulls":22},0,null,null,null,{"$f":"V822+Z822","v":0}]
[{"$nulls":22},0,null,null,null,{"$f":"V823+Z823","v":0}]
[{"$nulls":22},0,null,null,null,{"$f":"V824+Z824","v":0}]
[{"$nulls":22},0,null,null,null,{"$f":"V825+Z825","v":0}]
[{"$nulls":22},0,null,null,null,{"$f":"V826+Z826","v":0}]
[{"$nulls":22},0,null,null,null,{"$f":"V827+Z827","v":0}]
[{"$nulls":22},0,null,null,null,{"$f":"V828+Z828","v":0}]
[{"$nulls":22},0,null,null,null,{"$f":"V829+Z829","v":0}]
[{"$nulls":22},0,null,null,null,{"$f":"V830+Z830","v":0}]
[{"$nulls":22},0,null,null,null,{"$f":"V831+Z831","v":0}]
[{"$nulls":22},0,null,null,null,{"$f":"V832+Z832","v":0}]
[{"$nulls":22},0,null,null,null,{"$f":"V833+Z833","v":0}]
[{"$nulls":22},0,null,null,null,{"$f":"V834+Z834","v":0}]
[{"$nulls":22},0,null,null,null,{"$f":"V835+Z835","v":0}]
[{"$nulls":22},0,null,null,null,{"$f":"V836+Z836","v":0}]
[{"$nulls":22},0,null,null,null,{"$f":"V837+Z837","v":0}]
[{"$nulls":22},0,null,null,null,{"$f":"V838+Z838","v":0}]
[{"$nulls":22},0,null,null,null,{"$f":"V839+Z839","v":0}]
[{"$nulls":22},0,null,null,null,{"$f":"V840+Z840","v":0}]
[{"$nulls":22},0,null,null,null,{"$f":"V841+Z841","v":0}]
[{"$nulls":22},0,null,null,null,{"$f":"V842+Z842","v":0}]
[{"$nulls":22},0,null,null,null,{"$f":"V843+Z843","v":0}]
[{"$nulls":22},0,null,null,null,{"$f":"V844+Z844","v":0}]
[{"$nulls":22},0,null,null,null,{"$f":"V845+Z845","v":0}]
[{"$nulls":22},0,null,null,null,{"$f":"V846+Z846","v":0}]
[{"$nulls":22},0,null,null,null,{"$f":"V847+Z847","v":0}]
[{"$nulls":22},0,null,null,null,{"$f":"V848+Z848","v":0}]
[{"$nulls":22},0,null,null,null,{"$f":"V849+Z849","v":0}]
[{"$nulls":22},{"$f":"V850-X850","v":0},null,null,null,{"$f":"V850+Z850","v":0}]
[{"$nulls":22},0,null,null,null,{"$f":"V851+Z851","v":0}]
[{"$nulls":22},0,null,null,null,{"$f":"V852+Z852","v":0}]
[{"$nulls":22},0,null,null,null,{"$f":"V853+Z853","v":0}]
[{"$nulls":22},0,null,null,null,{"$f":"V854+Z854","v":0}]
[{"$nulls":22},0,null,null,null,{"$f":"V855+Z855","v":0}]
[{"$nulls":22},0,null,null,null,{"$f":"V856+Z856","v":0}]
[{"$nulls":22},0,null,null,null,{"$f":"V857+Z857","v":0}]
[{"$nulls":22},0,null,null,null,{"$f":"V858+Z858","v":0}]
[{"$nulls":22},0,null,null,null,{"$f":"V859+Z859","v":0}]
[{"$nulls":22},0,null,null,null,{"$f":"V860+Z860","v":0}]
[{"$nulls":22},0,null,null,null,{"$f":"V861+Z861","v":0}]
[{"$nulls":22},0,null,null,null,{"$f":"V862+Z862","v":0}]
[{"$nulls":22},0,null,null,null,{"$f":"V863+Z863","v":0}]
[{"$nulls":22},0,null,null,null,{"$f":"V864+Z864","v":0}]
[{"$nulls":22},0,null,null,null,{"$f":"V865+Z865","v":0}]
[{"$nulls":22},0,null,null,null,{"$f":"V866+Z866","v":0}]
[{"$nulls":22},0,null,null,null,{"$f":"V867+Z867","v":0}]
[{"$nulls":22},0,null,null,null,{"$f":"V868+Z868","v":0}]
[{"$nulls":22},0,null,null,null,{"$f":"V869+Z869","v":0}]
[{"$nulls":22},0,null,null,null,{"$f":"V870+Z870","v":0}]
[{"$nulls":22},0,null,null,null,{"$f":"V871+Z871","v":0}]
[{"$nulls":22},0,null,null,null,{"$f":"V872+Z872","v":0}]
[{"$nulls":22},0,null,null,null,{"$f":"V873+Z873","v":0}]
[{"$nulls":22},0,null,null,null,{"$f":"V874+Z874","v":0}]
[{"$nulls":22},0,null,null,null,{"$f":"V875+Z875","v":0}]
[{"$nulls":22},0,null,null,null,{"$f":"V876+Z876","v":0}]
[{"$nulls":22},0,null,null,null,{"$f":"V877+Z877","v":0}]
[{"$nulls":22},0,null,null,null,{"$f":"V878+Z878","v":0}]
[{"$nulls":22},0,null,null,null,{"$f":"V879+Z879","v":0}]
[{"$nulls":22},0,null,null,null,{"$f":"V880+Z880","v":0}]
[{"$nulls":22},0,null,null,null,{"$f":"V881+Z881","v":0}]
[{"$nulls":22},0,null,null,null,{"$f":"V882+Z882","v":0}]
[{"$nulls":22},0,null,null,null,{"$f":"V883+Z883","v":0}]
[{"$nulls":22},0,null,null,null,{"$f":"V884+Z884","v":0}]
[{"$nulls":22},0,null,null,null,{"$f":"V885+Z885","v":0}]
[{"$nulls":22},0,null,null,null,{"$f":"V886+Z886","v":0}]
[{"$nulls":22},0,null,null,null,{"$f":"V887+Z887","v":0}]
[{"$nulls":22},0,null,null,null,{"$f":"V888+Z888","v":0}]
[{"$nulls":22},0,null,null,null,{"$f":"V889+Z889","v":0}]
[{"$nulls":22},0,null,null,null,{"$f":"V890+Z890","v":0}]
[{"$nulls":22},0,null,null,null,{"$f":"V891+Z891","v":0}]
[{"$nulls":22},0,null,null,null,{"$f":"V892+Z892","v":0}]
[{"$nulls":22},0,null,null,null,{"$f":"V893+Z893","v":0}]
[{"$nulls":22},0,null,null,null,{"$f":"V894+Z894","v":0}]
[{"$nulls":22},0,null,null,null,{"$f":"V895+Z895","v":0}]
[{"$nulls":22},0,null,null,null,{"$f":"V896+Z896","v":0}]
[{"$nulls":22},0,null,null,null,{"$f":"V897+Z897","v":0}]
[{"$nulls":22},0,null,null,null,{"$f":"V898+Z898","v":0}]
[{"$nulls":22},0,null,null,null,{"$f":"V899+Z899","v":0}]
[{"$nulls":22},0,null,null,null,{"$f":"V900+Z900","v":0}]
[{"$nulls":22},0,null,null,null,{"$f":"V901+Z901","v":0}]
[{"$nulls":22},0,null,null,null,{"$f":"V902+Z902","v":0}]
[{"$nulls":22},0,null,null,null,{"$f":"V903+Z903","v":0}]
[{"$nulls":22},0,null,null,null,{"$f":"V904+Z904","v":0}]
[{"$nulls":22},0,null,null,null,{"$f":"V905+Z905","v":0}]
[{"$nulls":22},0,null,null,null,{"$f":"V906+Z906","v":0}]
[{"$nulls":22},0,null,null,null,{"$f":"V907+Z907","v":0}]
[{"$nulls":22},0,null,null,null,{"$f":"V908+Z908","v":0}]
[{"$nulls":22},0,null,null,null,{"$f":"V909+Z909","v":0}]
[{"$nulls":22},0,null,null,null,{"$f":"V910+Z910","v":0}]
[{"$nulls":22},0,null,null,null,{"$f":"V911+Z911","v":0}]
[{"$nulls":22},0,null,null,null,{"$f":"V912+Z912","v":0}]
[{"$nulls":22},0,null,null,null,{"$f":"V913+Z913","v":0}]
[{"$nulls":22},{"$f":"V914-X914","v":0},null,null,null,{"$f":"V914+Z914","v":0}]
[{"$nulls":22},0,null,null,null,{"$f":"V915+Z915","v":0}]
[{"$nulls":22},0,null,null,null,{"$f":"V916+Z916","v":0}]
[{"$nulls":22},0,null,null,null,{"$f":"V917+Z917","v":0}]
[{"$nulls":22},0,null,null,null,{"$f":"V918+Z918","v":0}]
[{"$nulls":22},0,null,null,null,{"$f":"V919+Z919","v":0}]
[{"$nulls":22},0,null,null,null,{"$f":"V920+Z920","v":0}]
[{"$nulls":22},0,null,null,null,{"$f":"V921+Z921","v":0}]
[{"$nulls":22},0,null,null,null,{"$f":"V922+Z922","v":0}]
[{"$nulls":22},0,null,null,null,{"$f":"V923+Z923","v":0}]
[{"$nulls":22},0,null,null,null,{"$f":"V924+Z924","v":0}]
[{"$nulls":22},0,null,null,null,{"$f":"V925+Z925","v":0}]
[{"$nulls":22},0,null,null,null,{"$f":"V926+Z926","v":0}]
[{"$nulls":22},0,null,null,null,{"$f":"V927+Z927","v":0}]
[{"$nulls":22},0,null,null,null,{"$f":"V928+Z928","v":0}]
[{"$nulls":22},0,null,null,null,{"$f":"V929+Z929","v":0}]
[{"$nulls":22},0,null,null,null,{"$f":"V930+Z930","v":0}]
[{"$nulls":22},0,null,null,null,{"$f":"V931+Z931","v":0}]
[{"$nulls":22},0,null,null,null,{"$f":"V932+Z932","v":0}]
[{"$nulls":22},0,null,null,null,{"$f":"V933+Z933","v":0}]
[{"$nulls":22},0,null,null,null,{"$f":"V934+Z934","v":0}]
[{"$nulls":22},0,null,null,null,{"$f":"V935+Z935","v":0}]
[{"$nulls":22},0,null,null,null,{"$f":"V936+Z936","v":0}]
[{"$nulls":22},0,null,null,null,{"$f":"V937+Z937","v":0}]
[{"$nulls":22},0,null,null,null,{"$f":"V938+Z938","v":0}]
[{"$nulls":22},0,null,null,null,{"$f":"V939+Z939","v":0}]
[{"$nulls":22},0,null,null,null,{"$f":"V940+Z940","v":0}]
[{"$nulls":22},0,null,null,null,{"$f":"V941+Z941","v":0}]
[{"$nulls":22},0,null,null,null,{"$f":"V942+Z942","v":0}]
[{"$nulls":22},0,null,null,null,{"$f":"V943+Z943","v":0}]
[{"$nulls":22},0,null,null,null,{"$f":"V944+Z944","v":0}]
[{"$nulls":22},0,null,null,null,{"$f":"V945+Z945","v":0}]
[{"$nulls":22},0,null,null,null,{"$f":"V946+Z946","v":0}]
[{"$nulls":22},0,null,null,null,{"$f":"V947+Z947","v":0}]
[{"$nulls":22},0,null,null,null,{"$f":"V948+Z948","v":0}]
[{"$nulls":22},0,null,null,null,{"$f":"V949+Z949","v":0}]
[{"$nulls":22},0,null,null,null,{"$f":"V950+Z950","v":0}]
[{"$nulls":22},0,null,null,null,{"$f":"V951+Z951","v":0}]
[{"$nulls":22},0,null,null,null,{"$f":"V952+Z952","v":0}]
[{"$nulls":22},0,null,null,null,{"$f":"V953+Z953","v":0}]
[{"$nulls":22},0,null,null,null,{"$f":"V954+Z954","v":0}]
[{"$nulls":22},0,null,null,null,{"$f":"V955+Z955","v":0}]
[{"$nulls":22},0,null,null,null,{"$f":"V956+Z956","v":0}]
[{"$nulls":22},0,null,null,null,{"$f":"V957+Z957","v":0}]
[{"$nulls":22},0,null,null,null,{"$f":"V958+Z958","v":0}]
[{"$nulls":22},0,null,null,null,{"$f":"V959+Z959","v":0}]
[{"$nulls":22},0,null,null,null,{"$f":"V960+Z960","v":0}]
[{"$nulls":22},0,null,null,null,{"$f":"V961+Z961","v":0}]
[{"$nulls":22},0,null,null,null,{"$f":"V962+Z962","v":0}]
[{"$nulls":22},0,null,null,null,{"$f":"V963+Z963","v":0}]
[{"$nulls":22},0,null,null,null,{"$f":"V964+Z964","v":0}]
[{"$nulls":22},0,null,null,null,{"$f":"V965+Z965","v":0}]
[{"$nulls":22},0,null,null,null,{"$f":"V966+Z966","v":0}]
[{"$nulls":22},0,null,null,null,{"$f":"V967+Z967","v":0}]
[{"$nulls":22},0,null,null,null,{"$f":"V968+Z968","v":0}]
[{"$nulls":22},0,null,null,null,{"$f":"V969+Z969","v":0}]
[{"$nulls":22},0,null,null,null,{"$f":"V970+Z970","v":0}]
[{"$nulls":22},0,null,null,null,{"$f":"V971+Z971","v":0}]
[{"$nulls":22},0,null,null,null,{"$f":"V972+Z972","v":0}]
[{"$nulls":22},0,null,null,null,{"$f":"V973+Z973","v":0}]
[{"$nulls":22},0,null,null,null,{"$f":"V974+Z974","v":0}]
[{"$nulls":22},0,null,null,null,{"$f":"V975+Z975","v":0}]
[{"$nulls":22},0,null,null,null,{"$f":"V976+Z976","v":0}]
[{"$nulls":22},0,null,null,null,{"$f":"V977+Z977","v":0}]
[{"$nulls":22},{"$f":"V978-X978","v":0},null,null,null,{"$f":"V978+Z978","v":0}]
[{"$nulls":22},0,null,null,null,{"$f":"V979+Z979","v":0}]
[{"$nulls":22},0,null,null,null,{"$f":"V980+Z980","v":0}]
[{"$nulls":22},0,null,null,null,{"$f":"V981+Z981","v":0}]
[{"$nulls":22},0,null,null,null,{"$f":"V982+Z982","v":0}]
[{"$nulls":22},0,null,null,null,{"$f":"V983+Z983","v":0}]
[{"$nulls":22},0,null,null,null,{"$f":"V984+Z984","v":0}]
[{"$nulls":22},0,null,null,null,{"$f":"V985+Z985","v":0}]
[{"$nulls":22},0,null,null,null,{"$f":"V986+Z986","v":0}]
[{"$nulls":22},0,null,null,null,{"$f":"V987+Z987","v":0}]
[{"$nulls":22},0,null,null,null,{"$f":"V988+Z988","v":0}]
[{"$nulls":22},0,null,null,null,{"$f":"V989+Z989","v":0}]
[{"$nulls":22},0,null,null,null,{"$f":"V990+Z990","v":0}]
[{"$nulls":22},0,null,null,null,{"$f":"V991+Z991","v":0}]
[{"$nulls":22},0,null,null,null,{"$f":"V992+Z992","v":0}]
[{"$nulls":22},0,null,null,null,{"$f":"V993+Z993","v":0}]
[{"$nulls":22},0,null,null,null,{"$f":"V994+Z994","v":0}]
[{"$nulls":22},0,null,null,null,{"$f":"V995+Z995","v":0}]
[{"$nulls":22},0,null,null,null,{"$f":"V996+Z996","v":0}]
[{"$nulls":22},0,null,null,null,{"$f":"V997+Z997","v":0}]
[{"$nulls":22},0,null,null,null,{"$f":"V998+Z998","v":0}]
[{"$nulls":22},0,null,null,null,{"$f":"V999+Z999","v":0}]
[{"$nulls":22},0,null,null,null,{"$f":"V1000+Z1000","v":0}]
[{"$nulls":22},0,null,null,null,{"$f":"V1001+Z1001","v":0}]
[{"$nulls":22},0,null,null,null,{"$f":"V1002+Z1002","v":0}]
[{"$nulls":22},0,null,null,null,{"$f":"V1003+Z1003","v":0}]
[{"$nulls":22},0,null,null,null,{"$f":"V1004+Z1004","v":0}]
[{"$nulls":22},0,null,null,null,{"$f":"V1005+Z1005","v":0}]
[{"$nulls":22},0,null,null,null,{"$f":"V1006+Z1006","v":0}]
[{"$nulls":22},0,null,null,null,{"$f":"V1007+Z1007","v":0}]
[{"$nulls":22},0,null,null,null,{"$f":"V1008+Z1008","v":0}]
[{"$nulls":22},0,null,null,null,{"$f":"V1009+Z1009","v":0}]
[{"$nulls":22},0,null,null,null,{"$f":"V1010+Z1010","v":0}]
[{"$nulls":22},0,null,null,null,{"$f":"V1011+Z1011","v":0}]
[{"$nulls":22},0,null,null,null,{"$f":"V1012+Z1012","v":0}]
[{"$nulls":22},0,null,null,null,{"$f":"V1013+Z1013","v":0}]
[{"$nulls":22},0,null,null,null,{"$f":"V1014+Z1014","v":0}]
[{"$nulls":22},0,null,null,null,{"$f":"V1015+Z1015","v":0}]
[{"$nulls":22},0,null,null,null,{"$f":"V1016+Z1016","v":0}]
[{"$nulls":22},0,null,null,null,{"$f":"V1017+Z1017","v":0}]
[{"$nulls":22},0,null,null,null,{"$f":"V1018+Z1018","v":0}]
[{"$nulls":22},0,null,null,null,{"$f":"V1019+Z1019","v":0}]
[{"$nulls":22},0,null,null,null,{"$f":"V1020+Z1020","v":0}]
[{"$nulls":22},0,null,null,null,{"$f":"V1021+Z1021","v":0}]
[{"$nulls":22},0,null,null,null,{"$f":"V1022+Z1022","v":0}]
[{"$nulls":22},0,null,null,null,{"$f":"V1023+Z1023","v":0}]
[{"$nulls":22},0,null,null,null,{"$f":"V1024+Z1024","v":0}]
[{"$nulls":22},0,null,null,null,{"$f":"V1025+Z1025","v":0}]
[{"$nulls":22},0,null,null,null,{"$f":"V1026+Z1026","v":0}]
[{"$nulls":22},0,null,null,null,{"$f":"V1027+Z1027","v":0}]
[{"$nulls":22},0,null,null,null,{"$f":"V1028+Z1028","v":0}]
[{"$nulls":22},0,null,null,null,{"$f":"V1029+Z1029","v":0}]
[{"$nulls":22},0,null,null,null,{"$f":"V1030+Z1030","v":0}]
[{"$nulls":22},0,null,null,null,{"$f":"V1031+Z1031","v":0}]
[{"$nulls":22},0,null,null,null,{"$f":"V1032+Z1032","v":0}]
[{"$nulls":22},0,null,null,null,{"$f":"V1033+Z1033","v":0}]
[{"$nulls":22},0,null,null,null,{"$f":"V1034+Z1034","v":0}]
[{"$nulls":22},0,null,null,null,{"$f":"V1035+Z1035","v":0}]
[{"$nulls":22},0,null,null,null,{"$f":"V1036+Z1036","v":0}]
[{"$nulls":22},0,null,null,null,{"$f":"V1037+Z1037","v":0}]
[{"$nulls":22},0,null,null,null,{"$f":"V1038+Z1038","v":0}]
[{"$nulls":22},0,null,null,null,{"$f":"V1039+Z1039","v":0}]
[{"$nulls":22},0,null,null,null,{"$f":"V1040+Z1040","v":0}]
[{"$nulls":22},0,null,null,null,{"$f":"V1041+Z1041","v":0}]
[{"$nulls":22},{"$f":"V1042-X1042","v":0},null,null,null,{"$f":"V1042+Z1042","v":0}]
[{"$nulls":22},0,null,null,null,{"$f":"V1043+Z1043","v":0}]
[{"$nulls":22},0,null,null,null,{"$f":"V1044+Z1044","v":0}]
[{"$nulls":22},0,null,null,null,{"$f":"V1045+Z1045","v":0}]
[{"$nulls":22},0,null,null,null,{"$f":"V1046+Z1046","v":0}]
[{"$nulls":22},0,null,null,null,{"$f":"V1047+Z1047","v":0}]
[{"$nulls":22},0,null,null,null,{"$f":"V1048+Z1048","v":0}]
[{"$nulls":22},0,null,null,null,{"$f":"V1049+Z1049","v":0}]
[{"$nulls":22},0,null,null,null,{"$f":"V1050+Z1050","v":0}]
[{"$nulls":22},0,null,null,null,{"$f":"V1051+Z1051","v":0}]
[{"$nulls":22},0,null,null,null,{"$f":"V1052+Z1052","v":0}]
[{"$nulls":22},0,null,null,null,{"$f":"V1053+Z1053","v":0}]
[{"$nulls":22},0,null,null,null,{"$f":"V1054+Z1054","v":0}]
[{"$nulls":22},0,null,null,null,{"$f":"V1055+Z1055","v":0}]
[{"$nulls":22},0,null,null,null,{"$f":"V1056+Z1056","v":0}]
[{"$nulls":22},0,null,null,null,{"$f":"V1057+Z1057","v":0}]
[{"$nulls":22},0,null,null,null,{"$f":"V1058+Z1058","v":0}]
[{"$nulls":22},0,null,null,null,{"$f":"V1059+Z1059","v":0}]
[{"$nulls":22},0,null,null,null,{"$f":"V1060+Z1060","v":0}]
[{"$nulls":22},0,null,null,null,{"$f":"V1061+Z1061","v":0}]
[{"$nulls":22},0,null,null,null,{"$f":"V1062+Z1062","v":0}]
[{"$nulls":22},0,null,null,null,{"$f":"V1063+Z1063","v":0}]
[{"$nulls":22},0,null,null,null,{"$f":"V1064+Z1064","v":0}]
[{"$nulls":22},0,null,null,null,{"$f":"V1065+Z1065","v":0}]
[{"$nulls":22},0,null,null,null,{"$f":"V1066+Z1066","v":0}]
[{"$nulls":22},0,null,null,null,{"$f":"V1067+Z1067","v":0}]
[{"$nulls":22},0,null,null,null,{"$f":"V1068+Z1068","v":0}]
[{"$nulls":22},0,null,null,null,{"$f":"V1069+Z1069","v":0}]
[{"$nulls":22},0,null,null,null,{"$f":"V1070+Z1070","v":0}]
[{"$nulls":22},0,null,null,null,{"$f":"V1071+Z1071","v":0}]
[{"$nulls":22},0,null,null,null,{"$f":"V1072+Z1072","v":0}]
[{"$nulls":22},0,null,null,null,{"$f":"V1073+Z1073","v":0}]
[{"$nulls":22},0,null,null,null,{"$f":"V1074+Z1074","v":0}]
[{"$nulls":22},0,null,null,null,{"$f":"V1075+Z1075","v":0}]
[{"$nulls":22},0,null,null,null,{"$f":"V1076+Z1076","v":0}]
[{"$nulls":22},0,null,null,null,{"$f":"V1077+Z1077","v":0}]
[{"$nulls":22},0,null,null,null,{"$f":"V1078+Z1078","v":0}]
[{"$nulls":22},0,null,null,null,{"$f":"V1079+Z1079","v":0}]
[{"$nulls":22},0,null,null,null,{"$f":"V1080+Z1080","v":0}]
[{"$nulls":22},0,null,null,null,{"$f":"V1081+Z1081","v":0}]
[{"$nulls":22},0,null,null,null,{"$f":"V1082+Z1082","v":0}]
[{"$nulls":22},0,null,null,null,{"$f":"V1083+Z1083","v":0}]
[{"$nulls":22},0,null,null,null,{"$f":"V1084+Z1084","v":0}]
[{"$nulls":22},0,null,null,null,{"$f":"V1085+Z1085","v":0}]
[{"$nulls":22},0,null,null,null,{"$f":"V1086+Z1086","v":0}]
[{"$nulls":22},0,null,null,null,{"$f":"V1087+Z1087","v":0}]
[{"$nulls":22},0,null,null,null,{"$f":"V1088+Z1088","v":0}]
[{"$nulls":22},0,null,null,null,{"$f":"V1089+Z1089","v":0}]
[{"$nulls":22},0,null,null,null,{"$f":"V1090+Z1090","v":0}]
[{"$nulls":22},0,null,null,null,{"$f":"V1091+Z1091","v":0}]
[{"$nulls":22},0,null,null,null,{"$f":"V1092+Z1092","v":0}]
[{"$nulls":22},0,null,null,null,{"$f":"V1093+Z1093","v":0}]
[{"$nulls":22},0,null,null,null,{"$f":"V1094+Z1094","v":0}]
[{"$nulls":22},0,null,null,null,{"$f":"V1095+Z1095","v":0}]
[{"$nulls":22},0,null,null,null,{"$f":"V1096+Z1096","v":0}]
[{"$nulls":22},0,null,null,null,{"$f":"V1097+Z1097","v":0}]
[{"$nulls":22},0,null,null,null,{"$f":"V1098+Z1098","v":0}]
[{"$nulls":22},0,null,null,null,{"$f":"V1099+Z1099","v":0}]
[{"$nulls":22},0,null,null,null,{"$f":"V1100+Z1100","v":0}]
[{"$nulls":22},0,null,null,null,{"$f":"V1101+Z1101","v":0}]
[{"$nulls":22},0,null,null,null,{"$f":"V1102+Z1102","v":0}]
[{"$nulls":22},0,null,null,null,{"$f":"V1103+Z1103","v":0}]
[{"$nulls":22},0,null,null,null,{"$f":"V1104+Z1104","v":0}]
[{"$nulls":22},0,null,null,null,{"$f":"V1105+Z1105","v":0}]
[{"$nulls":22},{"$f":"V1106-X1106","v":0},null,null,null,{"$f":"V1106+Z1106","v":0}]
[{"$nulls":22},0,null,null,null,{"$f":"V1107+Z1107","v":0}]
[{"$nulls":22},0,null,null,null,{"$f":"V1108+Z1108","v":0}]
[{"$nulls":22},0,null,null,null,{"$f":"V1109+Z1109","v":0}]
[{"$nulls":22},0,null,null,null,{"$f":"V1110+Z1110","v":0}]
[{"$nulls":22},0,null,null,null,{"$f":"V1111+Z1111","v":0}]
[{"$nulls":22},0,null,null,null,{"$f":"V1112+Z1112","v":0}]
[{"$nulls":22},0,null,null,null,{"$f":"V1113+Z1113","v":0}]
[{"$nulls":22},0,null,null,null,{"$f":"V1114+Z1114","v":0}]
[{"$nulls":22},0,null,null,null,{"$f":"V1115+Z1115","v":0}]
[{"$nulls":22},0,null,null,null,{"$f":"V1116+Z1116","v":0}]
[{"$nulls":22},0,null,null,null,{"$f":"V1117+Z1117","v":0}]
[{"$nulls":22},0,null,null,null,{"$f":"V1118+Z1118","v":0}]
[{"$nulls":22},0,null,null,null,{"$f":"V1119+Z1119","v":0}]
[{"$nulls":22},0,null,null,null,{"$f":"V1120+Z1120","v":0}]
[{"$nulls":22},0,null,null,null,{"$f":"V1121+Z1121","v":0}]
[{"$nulls":22},0,null,null,null,{"$f":"V1122+Z1122","v":0}]
[{"$nulls":22},0,null,null,null,{"$f":"V1123+Z1123","v":0}]
[{"$nulls":22},0,null,null,null,{"$f":"V1124+Z1124","v":0}]
[{"$nulls":22},0,null,null,null,{"$f":"V1125+Z1125","v":0}]
[{"$nulls":22},0,null,null,null,{"$f":"V1126+Z1126","v":0}]
[{"$nulls":22},0,null,null,null,{"$f":"V1127+Z1127","v":0}]
[{"$nulls":22},0,null,null,null,{"$f":"V1128+Z1128","v":0}]
[{"$nulls":22},0,null,null,null,{"$f":"V1129+Z1129","v":0}]
[{"$nulls":22},0,null,null,null,{"$f":"V1130+Z1130","v":0}]
[{"$nulls":22},0,null,null,null,{"$f":"V1131+Z1131","v":0}]
[{"$nulls":22},0,null,null,null,{"$f":"V1132+Z1132","v":0}]
[{"$nulls":22},0,null,null,null,{"$f":"V1133+Z1133","v":0}]
[{"$nulls":22},0,null,null,null,{"$f":"V1134+Z1134","v":0}]
[{"$nulls":22},0,null,null,null,{"$f":"V1135+Z1135","v":0}]
[{"$nulls":22},0,null,null,null,{"$f":"V1136+Z1136","v":0}]
[{"$nulls":22},0,null,null,null,{"$f":"V1137+Z1137","v":0}]
[{"$nulls":22},0,null,null,null,{"$f":"V1138+Z1138","v":0}]
[{"$nulls":22},0,null,null,null,{"$f":"V1139+Z1139","v":0}]
[{"$nulls":22},0,null,null,null,{"$f":"V1140+Z1140","v":0}]
[{"$nulls":22},0,null,null,null,{"$f":"V1141+Z1141","v":0}]
[{"$nulls":22},0,null,null,null,{"$f":"V1142+Z1142","v":0}]
[{"$nulls":22},0,null,null,null,{"$f":"V1143+Z1143","v":0}]
[{"$nulls":22},0,null,null,null,{"$f":"V1144+Z1144","v":0}]
[{"$nulls":22},0,null,null,null,{"$f":"V1145+Z1145","v":0}]
[{"$nulls":22},0,null,null,null,{"$f":"V1146+Z1146","v":0}]
[{"$nulls":22},0,null,null,null,{"$f":"V1147+Z1147","v":0}]
[{"$nulls":22},0,null,null,null,{"$f":"V1148+Z1148","v":0}]
[{"$nulls":22},0,null,null,null,{"$f":"V1149+Z1149","v":0}]
[{"$nulls":22},0,null,null,null,{"$f":"V1150+Z1150","v":0}]
[{"$nulls":22},0,null,null,null,{"$f":"V1151+Z1151","v":0}]
[{"$nulls":22},0,null,null,null,{"$f":"V1152+Z1152","v":0}]
[{"$nulls":22},0,null,null,null,{"$f":"V1153+Z1153","v":0}]
[{"$nulls":22},0,null,null,null,{"$f":"V1154+Z1154","v":0}]
[{"$nulls":22},0,null,null,null,{"$f":"V1155+Z1155","v":0}]
[{"$nulls":22},0,null,null,null,{"$f":"V1156+Z1156","v":0}]
[{"$nulls":22},0,null,null,null,{"$f":"V1157+Z1157","v":0}]
[{"$nulls":22},0,null,null,null,{"$f":"V1158+Z1158","v":0}]
[{"$nulls":22},0,null,null,null,{"$f":"V1159+Z1159","v":0}]
[{"$nulls":22},0,null,null,null,{"$f":"V1160+Z1160","v":0}]
[{"$nulls":22},0,null,null,null,{"$f":"V1161+Z1161","v":0}]
[{"$nulls":22},0,null,null,null,{"$f":"V1162+Z1162","v":0}]
[{"$nulls":22},0,null,null,null,{"$f":"V1163+Z1163","v":0}]
[{"$nulls":22},0,null,null,null,{"$f":"V1164+Z1164","v":0}]
[{"$nulls":22},0,null,null,null,{"$f":"V1165+Z1165","v":0}]
[{"$nulls":22},0,null,null,null,{"$f":"V1166+Z1166","v":0}]
[{"$nulls":22},0,null,null,null,{"$f":"V1167+Z1167","v":0}]
[{"$nulls":22},0,null,null,null,{"$f":"V1168+Z1168","v":0}]
[{"$nulls":22},0,null,null,null,{"$f":"V1169+Z1169","v":0}]
[{"$nulls":22},{"$f":"V1170-X1170","v":0},null,null,null,{"$f":"V1170+Z1170","v":0}]
[{"$nulls":22},0,null,null,null,{"$f":"V1171+Z1171","v":0}]
[{"$nulls":22},0,null,null,null,{"$f":"V1172+Z1172","v":0}]
[{"$nulls":22},0,null,null,null,{"$f":"V1173+Z1173","v":0}]
[{"$nulls":22},0,null,null,null,{"$f":"V1174+Z1174","v":0}]
[{"$nulls":22},0,null,null,null,{"$f":"V1175+Z1175","v":0}]
[{"$nulls":22},0,null,null,null,{"$f":"V1176+Z1176","v":0}]
[{"$nulls":22},0,null,null,null,{"$f":"V1177+Z1177","v":0}]
[{"$nulls":22},0,null,null,null,{"$f":"V1178+Z1178","v":0}]
[{"$nulls":22},0,null,null,null,{"$f":"V1179+Z1179","v":0}]
[{"$nulls":22},0,null,null,null,{"$f":"V1180+Z1180","v":0}]
[{"$nulls":22},0,null,null,null,{"$f":"V1181+Z1181","v":0}]
[{"$nulls":22},0,null,null,null,{"$f":"V1182+Z1182","v":0}]
[{"$nulls":22},0,null,null,null,{"$f":"V1183+Z1183","v":0}]
[{"$nulls":22},0,null,null,null,{"$f":"V1184+Z1184","v":0}]
[{"$nulls":22},0,null,null,null,{"$f":"V1185+Z1185","v":0}]
[{"$nulls":22},0,null,null,null,{"$f":"V1186+Z1186","v":0}]
[{"$nulls":22},0,null,null,null,{"$f":"V1187+Z1187","v":0}]
[{"$nulls":22},0,null,null,null,{"$f":"V1188+Z1188","v":0}]
[{"$nulls":22},0,null,null,null,{"$f":"V1189+Z1189","v":0}]
[{"$nulls":22},0,null,null,null,{"$f":"V1190+Z1190","v":0}]
[{"$nulls":22},0,null,null,null,{"$f":"V1191+Z1191","v":0}]
[{"$nulls":22},0,null,null,null,{"$f":"V1192+Z1192","v":0}]
[{"$nulls":22},0,null,null,null,{"$f":"V1193+Z1193","v":0}]
[{"$nulls":22},0,null,null,null,{"$f":"V1194+Z1194","v":0}]
[{"$nulls":22},0,null,null,null,{"$f":"V1195+Z1195","v":0}]
[{"$nulls":22},0,null,null,null,{"$f":"V1196+Z1196","v":0}]
[{"$nulls":22},0,null,null,null,{"$f":"V1197+Z1197","v":0}]
[{"$nulls":22},0,null,null,null,{"$f":"V1198+Z1198","v":0}]
[{"$nulls":22},0,null,null,null,{"$f":"V1199+Z1199","v":0}]
[{"$nulls":22},0,null,null,null,{"$f":"V1200+Z1200","v":0}]
[{"$nulls":22},0,null,null,null,{"$f":"V1201+Z1201","v":0}]
[{"$nulls":22},0,null,null,null,{"$f":"V1202+Z1202","v":0}]
[{"$nulls":22},0,null,null,null,{"$f":"V1203+Z1203","v":0}]
[{"$nulls":22},0,null,null,null,{"$f":"V1204+Z1204","v":0}]
[{"$nulls":22},0,null,null,null,{"$f":"V1205+Z1205","v":0}]
[{"$nulls":22},0,null,null,null,{"$f":"V1206+Z1206","v":0}]
[{"$nulls":22},0,null,null,null,{"$f":"V1207+Z1207","v":0}]
[{"$nulls":22},0,null,null,null,{"$f":"V1208+Z1208","v":0}]
[{"$nulls":22},0,null,null,null,{"$f":"V1209+Z1209","v":0}]
[{"$nulls":22},0,null,null,null,{"$f":"V1210+Z1210","v":0}]
[{"$nulls":22},0,null,null,null,{"$f":"V1211+Z1211","v":0}]
[{"$nulls":22},0,null,null,null,{"$f":"V1212+Z1212","v":0}]
[{"$nulls":22},0,null,null,null,{"$f":"V1213+Z1213","v":0}]
[{"$nulls":22},0,null,null,null,{"$f":"V1214+Z1214","v":0}]
[{"$nulls":22},0,null,null,null,{"$f":"V1215+Z1215","v":0}]
[{"$nulls":22},0,null,null,null,{"$f":"V1216+Z1216","v":0}]
[{"$nulls":22},0,null,null,null,{"$f":"V1217+Z1217","v":0}]
[{"$nulls":22},0,null,null,null,{"$f":"V1218+Z1218","v":0}]
[{"$nulls":22},0,null,null,null,{"$f":"V1219+Z1219","v":0}]
[{"$nulls":22},0,null,null,null,{"$f":"V1220+Z1220","v":0}]
[{"$nulls":22},0,null,null,null,{"$f":"V1221+Z1221","v":0}]
[{"$nulls":22},0,null,null,null,{"$f":"V1222+Z1222","v":0}]
[{"$nulls":22},0,null,null,null,{"$f":"V1223+Z1223","v":0}]
[{"$nulls":22},0,null,null,null,{"$f":"V1224+Z1224","v":0}]
[{"$nulls":22},0,null,null,null,{"$f":"V1225+Z1225","v":0}]
[{"$nulls":22},0,null,null,null,{"$f":"V1226+Z1226","v":0}]
[{"$nulls":22},0,null,null,null,{"$f":"V1227+Z1227","v":0}]
[{"$nulls":22},0,null,null,null,{"$f":"V1228+Z1228","v":0}]
[{"$nulls":22},0,null,null,null,{"$f":"V1229+Z1229","v":0}]
[{"$nulls":22},0,null,null,null,{"$f":"V1230+Z1230","v":0}]
[{"$nulls":22},0,null,null,null,{"$f":"V1231+Z1231","v":0}]
[{"$nulls":22},0,null,null,null,{"$f":"V1232+Z1232","v":0}]
[{"$nulls":22},0,null,null,null,{"$f":"V1233+Z1233","v":0}]
[{"$nulls":22},{"$f":"V1234-X1234","v":0},null,null,null,{"$f":"V1234+Z1234","v":0}]
[{"$nulls":22},0,null,null,null,{"$f":"V1235+Z1235","v":0}]
[{"$nulls":22},0,null,null,null,{"$f":"V1236+Z1236","v":0}]
[{"$nulls":22},0,null,null,null,{"$f":"V1237+Z1237","v":0}]
[{"$nulls":22},0,null,null,null,{"$f":"V1238+Z1238","v":0}]
[{"$nulls":22},0,null,null,null,{"$f":"V1239+Z1239","v":0}]
[{"$nulls":22},0,null,null,null,{"$f":"V1240+Z1240","v":0}]
[{"$nulls":22},0,null,null,null,{"$f":"V1241+Z1241","v":0}]
[{"$nulls":22},0,null,null,null,{"$f":"V1242+Z1242","v":0}]
[{"$nulls":22},0,null,null,null,{"$f":"V1243+Z1243","v":0}]
[{"$nulls":22},0,null,null,null,{"$f":"V1244+Z1244","v":0}]
[{"$nulls":22},0,null,null,null,{"$f":"V1245+Z1245","v":0}]
[{"$nulls":22},0,null,null,null,{"$f":"V1246+Z1246","v":0}]
[{"$nulls":22},0,null,null,null,{"$f":"V1247+Z1247","v":0}]
[{"$nulls":22},0,null,null,null,{"$f":"V1248+Z1248","v":0}]
[{"$nulls":22},0,null,null,null,{"$f":"V1249+Z1249","v":0}]
[{"$nulls":22},0,null,null,null,{"$f":"V1250+Z1250","v":0}]
[{"$nulls":22},0,null,null,null,{"$f":"V1251+Z1251","v":0}]
[{"$nulls":22},0,null,null,null,{"$f":"V1252+Z1252","v":0}]
[{"$nulls":22},0,null,null,null,{"$f":"V1253+Z1253","v":0}]
[{"$nulls":22},0,null,null,null,{"$f":"V1254+Z1254","v":0}]
[{"$nulls":22},0,null,null,null,{"$f":"V1255+Z1255","v":0}]
[{"$nulls":22},0,null,null,null,{"$f":"V1256+Z1256","v":0}]
[{"$nulls":22},0,null,null,null,{"$f":"V1257+Z1257","v":0}]
[{"$nulls":22},0,null,null,null,{"$f":"V1258+Z1258","v":0}]
[{"$nulls":22},0,null,null,null,{"$f":"V1259+Z1259","v":0}]
[{"$nulls":22},0,null,null,null,{"$f":"V1260+Z1260","v":0}]
[{"$nulls":22},0,null,null,null,{"$f":"V1261+Z1261","v":0}]
[{"$nulls":22},0,null,null,null,{"$f":"V1262+Z1262","v":0}]
[{"$nulls":22},0,null,null,null,{"$f":"V1263+Z1263","v":0}]
[{"$nulls":22},0,null,null,null,{"$f":"V1264+Z1264","v":0}]
[{"$nulls":22},0,null,null,null,{"$f":"V1265+Z1265","v":0}]
[{"$nulls":22},0,null,null,null,{"$f":"V1266+Z1266","v":0}]
[{"$nulls":22},0,null,null,null,{"$f":"V1267+Z1267","v":0}]
[{"$nulls":22},0,null,null,null,{"$f":"V1268+Z1268","v":0}]
[{"$nulls":22},0,null,null,null,{"$f":"V1269+Z1269","v":0}]
[{"$nulls":22},0,null,null,null,{"$f":"V1270+Z1270","v":0}]
[{"$nulls":22},0,null,null,null,{"$f":"V1271+Z1271","v":0}]
[{"$nulls":22},0,null,null,null,{"$f":"V1272+Z1272","v":0}]
[{"$nulls":22},0,null,null,null,{"$f":"V1273+Z1273","v":0}]
[{"$nulls":22},0,null,null,null,{"$f":"V1274+Z1274","v":0}]
[{"$nulls":22},0,null,null,null,{"$f":"V1275+Z1275","v":0}]
[{"$nulls":22},0,null,null,null,{"$f":"V1276+Z1276","v":0}]
[{"$nulls":22},0,null,null,null,{"$f":"V1277+Z1277","v":0}]
[{"$nulls":22},0,null,null,null,{"$f":"V1278+Z1278","v":0}]
[{"$nulls":22},0,null,null,null,{"$f":"V1279+Z1279","v":0}]
[{"$nulls":22},0,null,null,null,{"$f":"V1280+Z1280","v":0}]
[{"$nulls":22},0,null,null,null,{"$f":"V1281+Z1281","v":0}]
[{"$nulls":22},0,null,null,null,{"$f":"V1282+Z1282","v":0}]
[{"$nulls":22},0,null,null,null,{"$f":"V1283+Z1283","v":0}]
[{"$nulls":22},0,null,null,null,{"$f":"V1284+Z1284","v":0}]
[{"$nulls":22},0,null,null,null,{"$f":"V1285+Z1285","v":0}]
[{"$nulls":22},0,null,null,null,{"$f":"V1286+Z1286","v":0}]
[{"$nulls":22},0,null,null,null,{"$f":"V1287+Z1287","v":0}]
[{"$nulls":22},0,null,null,null,{"$f":"V1288+Z1288","v":0}]
[{"$nulls":22},0,null,null,null,{"$f":"V1289+Z1289","v":0}]
[{"$nulls":22},0,null,null,null,{"$f":"V1290+Z1290","v":0}]
[{"$nulls":22},0,null,null,null,{"$f":"V1291+Z1291","v":0}]
[{"$nulls":22},0,null,null,null,{"$f":"V1292+Z1292","v":0}]
[{"$nulls":22},0,null,null,null,{"$f":"V1293+Z1293","v":0}]
[{"$nulls":22},0,null,null,null,{"$f":"V1294+Z1294","v":0}]
[{"$nulls":22},0,null,null,null,{"$f":"V1295+Z1295","v":0}]
[{"$nulls":22},0,null,null,null,{"$f":"V1296+Z1296","v":0}]
[{"$nulls":22},0,null,null,null,{"$f":"V1297+Z1297","v":0}]
[{"$nulls":22},{"$f":"V1298-X1298","v":0},null,null,null,{"$f":"V1298+Z1298","v":0}]
[{"$nulls":22},0,null,null,null,{"$f":"V1299+Z1299","v":0}]
[{"$nulls":22},0,null,null,null,{"$f":"V1300+Z1300","v":0}]
[{"$nulls":22},0,null,null,null,{"$f":"V1301+Z1301","v":0}]
[{"$nulls":22},0,null,null,null,{"$f":"V1302+Z1302","v":0}]
[{"$nulls":22},0,null,null,null,{"$f":"V1303+Z1303","v":0}]
[{"$nulls":22},0,null,null,null,{"$f":"V1304+Z1304","v":0}]
[{"$nulls":22},0,null,null,null,{"$f":"V1305+Z1305","v":0}]
[{"$nulls":22},0,null,null,null,{"$f":"V1306+Z1306","v":0}]
[{"$nulls":22},0,null,null,null,{"$f":"V1307+Z1307","v":0}]
[{"$nulls":22},0,null,null,null,{"$f":"V1308+Z1308","v":0}]
[{"$nulls":22},0,null,null,null,{"$f":"V1309+Z1309","v":0}]
[{"$nulls":22},0,null,null,null,{"$f":"V1310+Z1310","v":0}]
[{"$nulls":22},0,null,null,null,{"$f":"V1311+Z1311","v":0}]
[{"$nulls":22},0,null,null,null,{"$f":"V1312+Z1312","v":0}]
[{"$nulls":22},0,null,null,null,{"$f":"V1313+Z1313","v":0}]
[{"$nulls":22},0,null,null,null,{"$f":"V1314+Z1314","v":0}]
[{"$nulls":22},0,null,null,null,{"$f":"V1315+Z1315","v":0}]
[{"$nulls":22},0,null,null,null,{"$f":"V1316+Z1316","v":0}]
[{"$nulls":22},0,null,null,null,{"$f":"V1317+Z1317","v":0}]
[{"$nulls":22},0,null,null,null,{"$f":"V1318+Z1318","v":0}]
[{"$nulls":22},0,null,null,null,{"$f":"V1319+Z1319","v":0}]
[{"$nulls":22},0,null,null,null,{"$f":"V1320+Z1320","v":0}]
[{"$nulls":22},0,null,null,null,{"$f":"V1321+Z1321","v":0}]
[{"$nulls":22},0,null,null,null,{"$f":"V1322+Z1322","v":0}]
[{"$nulls":22},0,null,null,null,{"$f":"V1323+Z1323","v":0}]
[{"$nulls":22},0,null,null,null,{"$f":"V1324+Z1324","v":0}]
[{"$nulls":22},0,null,null,null,{"$f":"V1325+Z1325","v":0}]
[{"$nulls":22},0,null,null,null,{"$f":"V1326+Z1326","v":0}]
[{"$nulls":22},0,null,null,null,{"$f":"V1327+Z1327","v":0}]
[{"$nulls":22},0,null,null,null,{"$f":"V1328+Z1328","v":0}]
[{"$nulls":22},0,null,null,null,{"$f":"V1329+Z1329","v":0}]
[{"$nulls":22},0,null,null,null,{"$f":"V1330+Z1330","v":0}]
[{"$nulls":22},0,null,null,null,{"$f":"V1331+Z1331","v":0}]
[{"$nulls":22},0,null,null,null,{"$f":"V1332+Z1332","v":0}]
[{"$nulls":22},0,null,null,null,{"$f":"V1333+Z1333","v":0}]
[{"$nulls":22},0,null,null,null,{"$f":"V1334+Z1334","v":0}]
[{"$nulls":22},0,null,null,null,{"$f":"V1335+Z1335","v":0}]
[{"$nulls":22},0,null,null,null,{"$f":"V1336+Z1336","v":0}]
[{"$nulls":22},0,null,null,null,{"$f":"V1337+Z1337","v":0}]
[{"$nulls":22},0,null,null,null,{"$f":"V1338+Z1338","v":0}]
[{"$nulls":22},0,null,null,null,{"$f":"V1339+Z1339","v":0}]
[{"$nulls":22},0,null,null,null,{"$f":"V1340+Z1340","v":0}]
[{"$nulls":22},0,null,null,null,{"$f":"V1341+Z1341","v":0}]
[{"$nulls":22},0,null,null,null,{"$f":"V1342+Z1342","v":0}]
[{"$nulls":22},0,null,null,null,{"$f":"V1343+Z1343","v":0}]
[{"$nulls":22},0,null,null,null,{"$f":"V1344+Z1344","v":0}]
[{"$nulls":22},0,null,null,null,{"$f":"V1345+Z1345","v":0}]
[{"$nulls":22},0,null,null,null,{"$f":"V1346+Z1346","v":0}]
[{"$nulls":22},0,null,null,null,{"$f":"V1347+Z1347","v":0}]
[{"$nulls":22},0,null,null,null,{"$f":"V1348+Z1348","v":0}]
[{"$nulls":22},0,null,null,null,{"$f":"V1349+Z1349","v":0}]
[{"$nulls":22},0,null,null,null,{"$f":"V1350+Z1350","v":0}]
[{"$nulls":22},0,null,null,null,{"$f":"V1351+Z1351","v":0}]
[{"$nulls":22},0,null,null,null,{"$f":"V1352+Z1352","v":0}]
[{"$nulls":22},0,null,null,null,{"$f":"V1353+Z1353","v":0}]
[{"$nulls":22},0,null,null,null,{"$f":"V1354+Z1354","v":0}]
[{"$nulls":22},0,null,null,null,{"$f":"V1355+Z1355","v":0}]
[{"$nulls":22},0,null,null,null,{"$f":"V1356+Z1356","v":0}]
[{"$nulls":22},0,null,null,null,{"$f":"V1357+Z1357","v":0}]
[{"$nulls":22},0,null,null,null,{"$f":"V1358+Z1358","v":0}]
[{"$nulls":22},0,null,null,null,{"$f":"V1359+Z1359","v":0}]
[{"$nulls":22},0,null,null,null,{"$f":"V1360+Z1360","v":0}]
[{"$nulls":22},0,null,null,null,{"$f":"V1361+Z1361","v":0}]
[{"$nulls":22},{"$f":"V1362-X1362","v":0},null,null,null,{"$f":"V1362+Z1362","v":0}]
[{"$nulls":22},0,null,null,null,{"$f":"V1363+Z1363","v":0}]
[{"$nulls":22},0,null,null,null,{"$f":"V1364+Z1364","v":0}]
[{"$nulls":22},0,null,null,null,{"$f":"V1365+Z1365","v":0}]
[{"$nulls":22},0,null,null,null,{"$f":"V1366+Z1366","v":0}]
[{"$nulls":22},0,null,null,null,{"$f":"V1367+Z1367","v":0}]
[{"$nulls":22},0,null,null,null,{"$f":"V1368+Z1368","v":0}]
[{"$nulls":22},0,null,null,null,{"$f":"V1369+Z1369","v":0}]
[{"$nulls":22},0,null,null,null,{"$f":"V1370+Z1370","v":0}]
[{"$nulls":22},0,null,null,null,{"$f":"V1371+Z1371","v":0}]
[{"$nulls":22},0,null,null,null,{"$f":"V1372+Z1372","v":0}]
[{"$nulls":22},0,null,null,null,{"$f":"V1373+Z1373","v":0}]
[{"$nulls":22},0,null,null,null,{"$f":"V1374+Z1374","v":0}]
[{"$nulls":22},0,null,null,null,{"$f":"V1375+Z1375","v":0}]
[{"$nulls":22},0,null,null,null,{"$f":"V1376+Z1376","v":0}]
[{"$nulls":22},0,null,null,null,{"$f":"V1377+Z1377","v":0}]
[{"$nulls":22},0,null,null,null,{"$f":"V1378+Z1378","v":0}]
[{"$nulls":22},0,null,null,null,{"$f":"V1379+Z1379","v":0}]
[{"$nulls":22},0,null,null,null,{"$f":"V1380+Z1380","v":0}]
[{"$nulls":22},0,null,null,null,{"$f":"V1381+Z1381","v":0}]
[{"$nulls":22},0,null,null,null,{"$f":"V1382+Z1382","v":0}]
[{"$nulls":22},0,null,null,null,{"$f":"V1383+Z1383","v":0}]
[{"$nulls":22},0,null,null,null,{"$f":"V1384+Z1384","v":0}]
[{"$nulls":22},0,null,null,null,{"$f":"V1385+Z1385","v":0}]
[{"$nulls":22},0,null,null,null,{"$f":"V1386+Z1386","v":0}]
[{"$nulls":22},0,null,null,null,{"$f":"V1387+Z1387","v":0}]
[{"$nulls":22},0,null,null,null,{"$f":"V1388+Z1388","v":0}]
[{"$nulls":22},0,null,null,null,{"$f":"V1389+Z1389","v":0}]
[{"$nulls":22},0,null,null,null,{"$f":"V1390+Z1390","v":0}]
[{"$nulls":22},0,null,null,null,{"$f":"V1391+Z1391","v":0}]
[{"$nulls":22},0,null,null,null,{"$f":"V1392+Z1392","v":0}]
[{"$nulls":22},0,null,null,null,{"$f":"V1393+Z1393","v":0}]
[{"$nulls":22},0,null,null,null,{"$f":"V1394+Z1394","v":0}]
[{"$nulls":22},0,null,null,null,{"$f":"V1395+Z1395","v":0}]
[{"$nulls":22},0,null,null,null,{"$f":"V1396+Z1396","v":0}]
[{"$nulls":22},0,null,null,null,{"$f":"V1397+Z1397","v":0}]
[{"$nulls":22},0,null,null,null,{"$f":"V1398+Z1398","v":0}]
[{"$nulls":22},0,null,null,null,{"$f":"V1399+Z1399","v":0}]
[{"$nulls":22},0,null,null,null,{"$f":"V1400+Z1400","v":0}]
[{"$nulls":22},0,null,null,null,{"$f":"V1401+Z1401","v":0}]
[{"$nulls":22},0,null,null,null,{"$f":"V1402+Z1402","v":0}]
[{"$nulls":22},0,null,null,null,{"$f":"V1403+Z1403","v":0}]
[{"$nulls":22},0,null,null,null,{"$f":"V1404+Z1404","v":0}]
[{"$nulls":22},0,null,null,null,{"$f":"V1405+Z1405","v":0}]
[{"$nulls":22},0,null,null,null,{"$f":"V1406+Z1406","v":0}]
[{"$nulls":22},0,null,null,null,{"$f":"V1407+Z1407","v":0}]
[{"$nulls":22},0,null,null,null,{"$f":"V1408+Z1408","v":0}]
[{"$nulls":22},0,null,null,null,{"$f":"V1409+Z1409","v":0}]
[{"$nulls":22},0,null,null,null,{"$f":"V1410+Z1410","v":0}]
[{"$nulls":22},0,null,null,null,{"$f":"V1411+Z1411","v":0}]
[{"$nulls":22},0,null,null,null,{"$f":"V1412+Z1412","v":0}]
[{"$nulls":22},0,null,null,null,{"$f":"V1413+Z1413","v":0}]
[{"$nulls":22},0,null,null,null,{"$f":"V1414+Z1414","v":0}]
[{"$nulls":22},0,null,null,null,{"$f":"V1415+Z1415","v":0}]
[{"$nulls":22},0,null,null,null,{"$f":"V1416+Z1416","v":0}]
[{"$nulls":22},0,null,null,null,{"$f":"V1417+Z1417","v":0}]
[{"$nulls":22},0,null,null,null,{"$f":"V1418+Z1418","v":0}]
[{"$nulls":22},0,null,null,null,{"$f":"V1419+Z1419","v":0}]
[{"$nulls":22},0,null,null,null,{"$f":"V1420+Z1420","v":0}]
[{"$nulls":22},0,null,null,null,{"$f":"V1421+Z1421","v":0}]
[{"$nulls":22},0,null,null,null,{"$f":"V1422+Z1422","v":0}]
[{"$nulls":22},0,null,null,null,{"$f":"V1423+Z1423","v":0}]
[{"$nulls":22},0,null,null,null,{"$f":"V1424+Z1424","v":0}]
[{"$nulls":22},0,null,null,null,{"$f":"V1425+Z1425","v":0}]
[{"$nulls":22},{"$f":"V1426-X1426","v":0},null,null,null,{"$f":"V1426+Z1426","v":0}]
[{"$nulls":22},0,null,null,null,{"$f":"V1427+Z1427","v":0}]
[{"$nulls":22},0,null,null,null,{"$f":"V1428+Z1428","v":0}]
[{"$nulls":22},0,null,null,null,{"$f":"V1429+Z1429","v":0}]
[{"$nulls":22},0,null,null,null,{"$f":"V1430+Z1430","v":0}]
[{"$nulls":22},0,null,null,null,{"$f":"V1431+Z1431","v":0}]
[{"$nulls":22},0,null,null,null,{"$f":"V1432+Z1432","v":0}]
[{"$nulls":22},0,null,null,null,{"$f":"V1433+Z1433","v":0}]
[{"$nulls":22},0,null,null,null,{"$f":"V1434+Z1434","v":0}]
[{"$nulls":22},0,null,null,null,{"$f":"V1435+Z1435","v":0}]
[{"$nulls":22},0,null,null,null,{"$f":"V1436+Z1436","v":0}]
[{"$nulls":22},0,null,null,null,{"$f":"V1437+Z1437","v":0}]
[{"$nulls":22},0,null,null,null,{"$f":"V1438+Z1438","v":0}]
[{"$nulls":22},0,null,null,null,{"$f":"V1439+Z1439","v":0}]
[{"$nulls":22},0,null,null,null,{"$f":"V1440+Z1440","v":0}]
[{"$nulls":22},0,null,null,null,{"$f":"V1441+Z1441","v":0}]
[{"$nulls":22},0,null,null,null,{"$f":"V1442+Z1442","v":0}]
[{"$nulls":22},0,null,null,null,{"$f":"V1443+Z1443","v":0}]
[{"$nulls":22},0,null,null,null,{"$f":"V1444+Z1444","v":0}]
[{"$nulls":22},0,null,null,null,{"$f":"V1445+Z1445","v":0}]
[{"$nulls":22},0,null,null,null,{"$f":"V1446+Z1446","v":0}]
[{"$nulls":22},0,null,null,null,{"$f":"V1447+Z1447","v":0}]
[{"$nulls":22},0,null,null,null,{"$f":"V1448+Z1448","v":0}]
[{"$nulls":22},0,null,null,null,{"$f":"V1449+Z1449","v":0}]
[{"$nulls":22},0,null,null,null,{"$f":"V1450+Z1450","v":0}]
[{"$nulls":22},0,null,null,null,{"$f":"V1451+Z1451","v":0}]
[{"$nulls":22},0,null,null,null,{"$f":"V1452+Z1452","v":0}]
[{"$nulls":22},0,null,null,null,{"$f":"V1453+Z1453","v":0}]
[{"$nulls":22},0,null,null,null,{"$f":"V1454+Z1454","v":0}]
[{"$nulls":22},0,null,null,null,{"$f":"V1455+Z1455","v":0}]
[{"$nulls":22},0,null,null,null,{"$f":"V1456+Z1456","v":0}]
[{"$nulls":22},0,null,null,null,{"$f":"V1457+Z1457","v":0}]
[{"$nulls":22},0,null,null,null,{"$f":"V1458+Z1458","v":0}]
[{"$nulls":22},0,null,null,null,{"$f":"V1459+Z1459","v":0}]
[{"$nulls":22},0,null,null,null,{"$f":"V1460+Z1460","v":0}]
[{"$nulls":22},0,null,null,null,{"$f":"V1461+Z1461","v":0}]
[{"$nulls":22},0,null,null,null,{"$f":"V1462+Z1462","v":0}]
[{"$nulls":22},0,null,null,null,{"$f":"V1463+Z1463","v":0}]
[{"$nulls":22},0,null,null,null,{"$f":"V1464+Z1464","v":0}]
[{"$nulls":22},0,null,null,null,{"$f":"V1465+Z1465","v":0}]
[{"$nulls":22},0,null,null,null,{"$f":"V1466+Z1466","v":0}]
[{"$nulls":22},0,null,null,null,{"$f":"V1467+Z1467","v":0}]
[{"$nulls":22},0,null,null,null,{"$f":"V1468+Z1468","v":0}]
[{"$nulls":22},0,null,null,null,{"$f":"V1469+Z1469","v":0}]
[{"$nulls":22},0,null,null,null,{"$f":"V1470+Z1470","v":0}]
[{"$nulls":22},0,null,null,null,{"$f":"V1471+Z1471","v":0}]
[{"$nulls":22},0,null,null,null,{"$f":"V1472+Z1472","v":0}]
[{"$nulls":22},0,null,null,null,{"$f":"V1473+Z1473","v":0}]
[{"$nulls":22},0,null,null,null,{"$f":"V1474+Z1474","v":0}]
[{"$nulls":22},0,null,null,null,{"$f":"V1475+Z1475","v":0}]
[{"$nulls":22},0,null,null,null,{"$f":"V1476+Z1476","v":0}]
[{"$nulls":22},0,null,null,null,{"$f":"V1477+Z1477","v":0}]
[{"$nulls":22},0,null,null,null,{"$f":"V1478+Z1478","v":0}]
[{"$nulls":22},0,null,null,null,{"$f":"V1479+Z1479","v":0}]
[{"$nulls":22},0,null,null,null,{"$f":"V1480+Z1480","v":0}]
[{"$nulls":22},0,null,null,null,{"$f":"V1481+Z1481","v":0}]
[{"$nulls":22},0,null,null,null,{"$f":"V1482+Z1482","v":0}]
[{"$nulls":22},0,null,null,null,{"$f":"V1483+Z1483","v":0}]
[{"$nulls":22},0,null,null,null,{"$f":"V1484+Z1484","v":0}]
[{"$nulls":22},0,null,null,null,{"$f":"V1485+Z1485","v":0}]
[{"$nulls":22},0,null,null,null,{"$f":"V1486+Z1486","v":0}]
[{"$nulls":22},0,null,null,null,{"$f":"V1487+Z1487","v":0}]
[{"$nulls":22},0,null,null,null,{"$f":"V1488+Z1488","v":0}]
[{"$nulls":22},0,null,null,null,{"$f":"V1489+Z1489","v":0}]
[{"$nulls":22},{"$f":"V1490-X1490","v":0},null,null,null,{"$f":"V1490+Z1490","v":0}]

{"sheet":"Sheet1","index":4,"n_rows":22,"n_cols":4,"rows_kept":22,"cut":false,"hidden":true,"merged":[]}
[]
[]
[null,"202, 203, 204, 205",60,240]
[null,"206, 207",90,180]
[null,"201, 202+203, 203+204",120,120]
[null,"201+202, 202+203+204,206+207",180]
[null,"201+202+203",240]
[null,"201+202+203+204",300]
[null,"208, 209, 210, 211, 212, 213, 301, 302, 303, 304, 305, 306",100,1200]
[null,"208+209, 210+211, 212+213, 301+302, 303+304, 305+306",200]
[null,"208+209+210, 211+212+213, 301+302+303, 304+305+306",300]
[null,"214, 307",167,334]
[null,"301+302+303+304+305+306",600]
[null,"C308, C309, C310",115,345]
[null,"C311, C312",87,174]
[null,"(C308+C309), (C309+C310)",230]
[null,"(C311+C312)",174]
[null,"(C308+C309+C310)",345]
[null,null,null,1518]
[]
[]
[null,null,null,{"$f":"SUM(D3:D21)","v":4111}]